Workbook

Sheet (はじめにお読み下さい)申請書の使い方
A2: 本申請書の使い方、申請の手順
A4: 手順 | B4: 都道府県の作業 | C4: 事業者（法人本部）の作業 | D4: 各事業所の作業
A5: 1 | B5: 本Excelを管内の介護サービス事業者に配布
A6: =A5+1 -> 2 | C6: 本Excelを各事業所に配布し、以下の様式への記入を依頼 ・様式２（個票）
A7: =A6+1 -> 3 | D7: 以下の作業を行った上で、事業者（法人本部）へ返送 【様式２（個票）】 ・水色セル：必要情報を入力 ・緑色セル：プルダウンから選択
A8: =A7+1 -> 4 | C8: 各事業所の個票のシートを１つのExcelファイルに集約し、個票シート名を「個票●」（●は１からの通し番号）に修正
A9: =A8+1 -> 5 | C9: 様式２（個票）の内容が、様式１（申請額一覧）に正しく反映されていることを確認 ※15事業所以上ある場合には6行目～15行目を行ごとコピーし、16行目に右クリック→「コピーしたセルの挿入」で挿入すること。
A10: =A9+1 -> 6 | C10: 申請書に、申請者の法人名、代表者名、日付、提出先（○○県知事）を入力
A11: =A10+1 -> 7 | C11: 完成したExcelファイルを都道府県に送付
A12: =A11+1 -> 8 | B12: 事業者からExcelファイルを受領し、内容を審査
A13: =A12+1 -> 9 | B13: 都道府県等内で必要な作業を行い、事業者に補助金を交付

Sheet 入力シート (記入例)
A1: 【作成手順】 ① 「入力シート」の青地部分に必要事項を入力してください。項目によっては、▼ボタンをクリックして（ドロップダウンメニューから）選択するものもあります。 『委任する場合は入力』の部分については、枠外の説明文を必ずよく読み、委任状または口座振込依頼書が必要な場合に記入ください。 ※ 「委任状兼口座振込依頼書」シートの要否について、判断に迷う場合は、長寿あんしん課の浜崎、藏丸宛て（099-216-1147）にご連絡ください。 ② 対象職員欄が不足する場合は、「補助金交付申請書④（コピー用）」を必要な数だけコピーし、直接入力ください。 ③ 委任状が必要な場合、必要に応じて押印の上、「委任状兼口座振込依頼書」の原本のみを長寿あんしん課宛てに郵送ください。
A2: 必須 | B2: 基本情報 | C2: 法人名 | D2: 社会福祉法人 ○○○会 | X2: 普通
C3: 法人住所(所在地） | D3: 鹿児島市○○町〇○号 | R3: ←鹿児島市以下を入力してください。 | X3: 当座 | AA3: 雇用形態 | AB3: サービス種別 | AC3: チェックボックス | AD3: 委任の内容 | AE3: 支払金について
C4: 法人代表者 職名 | D4: 理事長 | X4: 別段 | AA4: 常勤 | AB4: 訪問入浴介護 | AC4: ☑ | AD4: 請求 | AE4: 当該支払金は 委任者の収入 となります。
C5: 法人代表者 氏名 | D5: 鹿児島 太郎 | X5: 貯蓄 | AA5: 非常勤 | AB5: 通所リハビリテーション | AC5: □ | AD5: 受領 | AE5: 当該支払金は 受任者の収入 となります。
C6: 担当部署名 | D6: 総務課 | AB6: 通所介護（定員１９名以上の総合事業含む） | AD6: 請求及び受領
C7: 担当者名 | D7: △△ △△ | AB7: 地域密着型通所介護（定員１８名以下の総合事業含む）
C8: 電話番号 | D8: 099-000-0000 | AB8: 特定施設入居者生活介護（地域密着型を含む）
C9: 申請日 | D9: 令和 | E9: 8 | F9: 年 | G9: 8 | H9: 月 | I9: 8 | J9: 日 | AB9: 介護老人福祉施設（地域密着型、短期入所生活介護を含む）
C10: 交付申請（請求）額 | D10: 6000 | R10: ←金額のみを入力してください。（￥や円はつけない） | AB10: 介護老人保健施設（短期入所療養介護を含む）
C11: メールアドレス | D11: *******@****.com | AB11: 介護医療院（短期入所療養介護を含む）
B12: 対象 職員 | C12: 補助金交付申請書①－⑴ | D12: 氏名 | E12: 田中 太郎 | F12: フリガナ | G12: タナカ タロウ | H12: 採用年月日 | I12: 46113 | J12: 受講年月日 | K12: 46113 | L12: 事業所名 | M12: 訪問入浴○○ | N12: サービス種別 | O12: 訪問入浴介護 | P12: 雇用形態 | Q12: 常勤 | AB12: 認知症対応型生活介護（グループホーム）
C13: 補助金交付申請書①－⑵ | D13: 氏名 | E13: 鈴木 次郎 | F13: フリガナ | G13: スズキ ジロウ | H13: 採用年月日 | I13: 46143 | J13: 受講年月日 | K13: 46157 | L13: 事業所名 | M13: 通リハ○○ | N13: サービス種別 | O13: 通所リハビリテーション | P13: 雇用形態 | Q13: 非常勤 | S13: サービス種別、雇用形態はプルダウンから選択してください。 | AB13: 認知症対応型通所介護
C14: 補助金交付申請書①－⑶ | D14: 氏名 | E14: 鹿児島 一郎 | F14: フリガナ | G14: カゴシマ イチロウ | H14: 採用年月日 | I14: 46174 | J14: 受講年月日 | K14: 46218 | L14: 事業所名 | M14: デイサービス○○ | N14: サービス種別 | O14: 通所介護（定員１９名以上の総合事業含む） | P14: 雇用形態 | Q14: 常勤 | AB14: 小規模多機能型居宅介護・看護小規模多機能型居宅介護
C15: 補助金交付申請書②－⑴ | D15: 氏名 | E15: 山下 三郎 | F15: フリガナ | G15: ヤマシタ サブロウ | H15: 採用年月日 | I15: 46174 | J15: 受講年月日 | K15: 46188 | L15: 事業所名 | M15: グループホーム○○ | N15: サービス種別 | O15: 認知症対応型生活介護（グループホーム） | P15: 雇用形態 | Q15: 非常勤 | AB15: その他
C16: 補助金交付申請書②－⑵ | D16: 氏名 | F16: フリガナ | H16: 採用年月日 | J16: 受講年月日 | L16: 事業所名 | N16: サービス種別 | P16: 雇用形態
C17: 補助金交付申請書②－⑶ | D17: 氏名 | F17: フリガナ | H17: 採用年月日 | J17: 受講年月日 | L17: 事業所名 | N17: サービス種別 | P17: 雇用形態
C18: 補助金交付申請書③－⑴ | D18: 氏名 | F18: フリガナ | H18: 採用年月日 | J18: 受講年月日 | L18: 事業所名 | N18: サービス種別 | P18: 雇用形態
C19: 補助金交付申請書③－⑵ | D19: 氏名 | F19: フリガナ | H19: 採用年月日 | J19: 受講年月日 | L19: 事業所名 | N19: サービス種別 | P19: 雇用形態
C20: 補助金交付申請書③－⑶ | D20: 氏名 | F20: フリガナ | H20: 採用年月日 | J20: 受講年月日 | L20: 事業所名 | N20: サービス種別 | P20: 雇用形態
B21: 確認事項 | C21: ⑴ | D21: 対象となる介護職員は、申請日現在も、当該事業所で継続して勤務しているか。 | Q21: ☑
C22: ⑵ | D22: 対象となる介護職員は、医療・福祉関係の資格を有していない職員か。 | Q22: ☑ | S22: チェック項目を確認し、プルダウンから☑を選してください。
C23: ⑶ | D23: 研修受講料は、対象となる介護職員を雇用する事業者が全額支払っているか。 | Q23: ☑
C24: ⑷ | D24: 当該研修受講料について、国や県の他公的機関等から助成を受けていないか。 | Q24: ☑
C25: ⑸ | D25: 当該研修受講料の領収書（写）を添付しているか。 ※申請者が、当該研修受講料を全額助成したことが分かる書類も添付すること。（申請者作成の受領証や給与明細等の写しでも可） | Q25: ☑
C26: ⑹ | D26: 認知症介護基礎研修を修了した旨の証明書（写）を添付しているか。 ※対象となる介護職員に当該研修を受講した修了証を求め、その写しを添付すること。（ｅラーニング受講後にＰＤＦ形式でダウンロード・印刷が可能） | Q26: ☑
B27: 振込先 口座情報 | C27: 金融機関名 | D27: ○○ | F27: 銀行 （金庫） | G27: ▲▲ | J27: 店
C28: 口座の種類 | D28: 普通 | S28: 通帳に記載のとおりに間違いないように記入ください
C29: 口座番号 | D29: 0000000
C30: 口座名義 | D30: 株式会社 鹿児島 長寿
C31: 口座名義（フリガナ） | D31: ｶ)ｶｺﾞｼﾏ ﾁﾖｳｼﾞﾕ
C32: 口座名義人の電話連絡先 | D32: 099-000-0000
A33: 委任する 場合は 全て入力必須 | C33: 委任者の氏名 | D33: 鹿児島 太郎 | R33: ←委任者の氏名は法人代表者の氏名を記入ください。
C34: 委任する内容 | D34: 請求 | R34: ←委任する内容をプルダウンで選択ください。
C35: 受任者の住所 | D35: 鹿児島市△△町△△号
C36: 受任者の団体名
C37: 受任者の氏名 | D37: 鹿児島 長寿
C38: 受任者の電話連絡先 | D38: 099-000-9999
C39: 当該支払金について | D39: 当該支払金は 委任者の収入 となります。
C40: 委任状の要否 | D40: =IF(OR(D34="請求",D34="請求及び受領"),"委任状が必要です。委任状兼口座振込依頼書を印刷し、適宜押印の上、長寿あんしん課まで郵送にてご提出ください。","委任状は不要です") -> 委任状が必要です。委任状兼口座振込依頼書を印刷し、適宜押印の上、長寿あんしん課まで郵送にてご提出ください。
...

Sheet 入力シート
A1: 【作成手順】 ① 「入力シート」の青地部分に必要事項を入力してください。項目によっては、▼ボタンをクリックして（ドロップダウンメニューから）選択するものもあります。 『委任する場合は入力』の部分については、枠外の説明文を必ずよく読み、委任状または口座振込依頼書が必要な場合に記入ください。 ※ 「委任状兼口座振込依頼書」シートの要否について、判断に迷う場合は、長寿あんしん課の浜崎、藏丸宛て（099-216-1147）にご連絡ください。 ② 対象職員欄が不足する場合は、「補助金交付申請書④（コピー用）」を必要な数だけコピーし、直接入力ください。 ③ 委任状が必要な場合、必要に応じて押印の上、「委任状兼口座振込依頼書」の原本のみを長寿あんしん課宛てに郵送ください。
A2: 必須 | B2: 基本情報 | C2: 法人名 | X2: 普通
C3: 法人住所(所在地） | R3: ←鹿児島市以下を入力してください。 | X3: 当座 | AA3: 雇用形態 | AB3: サービス種別 | AC3: チェックボックス | AD3: 委任の内容 | AE3: 支払金について
C4: 法人代表者 職名 | X4: 別段 | AA4: 常勤 | AB4: 訪問入浴介護 | AC4: ☑ | AD4: 請求 | AE4: 当該支払金は 委任者の収入 となります。
C5: 法人代表者 氏名 | X5: 貯蓄 | AA5: 非常勤 | AB5: 通所リハビリテーション | AC5: □ | AD5: 受領 | AE5: 当該支払金は 受任者の収入 となります。
C6: 担当部署名 | AB6: 通所介護（定員１９名以上の総合事業含む） | AD6: 請求及び受領
C7: 担当者名 | AB7: 地域密着型通所介護（定員１８名以下の総合事業含む）
C8: 電話番号 | AB8: 特定施設入居者生活介護（地域密着型を含む）
C9: 申請日 | D9: 令和 | F9: 年 | H9: 月 | J9: 日 | AB9: 介護老人福祉施設（地域密着型、短期入所生活介護を含む）
C10: 交付申請（請求）額 | R10: ←金額のみを入力してください。（￥や円はつけない） | AB10: 介護老人保健施設（短期入所療養介護を含む）
C11: メールアドレス | AB11: 介護医療院（短期入所療養介護を含む）
B12: 対象 職員 | C12: 補助金交付申請書①－⑴ | D12: 氏名 | F12: フリガナ | H12: 採用年月日 | J12: 受講年月日 | L12: 事業所名 | N12: サービス種別 | P12: 雇用形態 | AB12: 認知症対応型生活介護（グループホーム）
C13: 補助金交付申請書①－⑵ | D13: 氏名 | F13: フリガナ | H13: 採用年月日 | J13: 受講年月日 | L13: 事業所名 | N13: サービス種別 | P13: 雇用形態 | S13: サービス種別、雇用形態はプルダウンから選択してください。 | AB13: 認知症対応型通所介護
C14: 補助金交付申請書①－⑶ | D14: 氏名 | F14: フリガナ | H14: 採用年月日 | J14: 受講年月日 | L14: 事業所名 | N14: サービス種別 | P14: 雇用形態 | AB14: 小規模多機能型居宅介護・看護小規模多機能型居宅介護
C15: 補助金交付申請書②－⑴ | D15: 氏名 | F15: フリガナ | H15: 採用年月日 | J15: 受講年月日 | L15: 事業所名 | N15: サービス種別 | P15: 雇用形態 | AB15: その他
C16: 補助金交付申請書②－⑵ | D16: 氏名 | F16: フリガナ | H16: 採用年月日 | J16: 受講年月日 | L16: 事業所名 | N16: サービス種別 | P16: 雇用形態
C17: 補助金交付申請書②－⑶ | D17: 氏名 | F17: フリガナ | H17: 採用年月日 | J17: 受講年月日 | L17: 事業所名 | N17: サービス種別 | P17: 雇用形態
C18: 補助金交付申請書③－⑴ | D18: 氏名 | F18: フリガナ | H18: 採用年月日 | J18: 受講年月日 | L18: 事業所名 | N18: サービス種別 | P18: 雇用形態
C19: 補助金交付申請書③－⑵ | D19: 氏名 | F19: フリガナ | H19: 採用年月日 | J19: 受講年月日 | L19: 事業所名 | N19: サービス種別 | P19: 雇用形態
C20: 補助金交付申請書③－⑶ | D20: 氏名 | F20: フリガナ | H20: 採用年月日 | J20: 受講年月日 | L20: 事業所名 | N20: サービス種別 | P20: 雇用形態
B21: 確認事項 | C21: ⑴ | D21: 対象となる介護職員は、申請日現在も、当該事業所で継続して勤務しているか。 | Q21: □
C22: ⑵ | D22: 対象となる介護職員は、医療・福祉関係の資格を有していない職員か。 | Q22: □ | S22: チェック項目を確認し、プルダウンから☑を選してください。
C23: ⑶ | D23: 研修受講料は、対象となる介護職員を雇用する事業者が全額支払っているか。 | Q23: □
C24: ⑷ | D24: 当該研修受講料について、国や県の他公的機関等から助成を受けていないか。 | Q24: □
C25: ⑸ | D25: 当該研修受講料の領収書（写）を添付しているか。 ※申請者が、当該研修受講料を全額助成したことが分かる書類も添付すること。（申請者作成の受領証や給与明細等の写しでも可） | Q25: □
C26: ⑹ | D26: 認知症介護基礎研修を修了した旨の証明書（写）を添付しているか。 ※対象となる介護職員に当該研修を受講した修了証を求め、その写しを添付すること。（ｅラーニング受講後にＰＤＦ形式でダウンロード・印刷が可能） | Q26: □
B27: 振込先 口座情報 | C27: 金融機関名 | F27: 銀行 （金庫） | J27: 店
C28: 口座の種類 | S28: 通帳に記載のとおりに間違いないように記入ください
C29: 口座番号
C30: 口座名義
C31: 口座名義（フリガナ）
C32: 口座名義人の電話連絡先
A33: 委任する 場合は 全て入力必須 | C33: 委任者の氏名 | R33: ←委任者の氏名は法人代表者の氏名を記入ください。
C34: 委任する内容 | R34: ←委任する内容をプルダウンで選択ください。
C35: 受任者の住所
C36: 受任者の団体名
C37: 受任者の氏名
C38: 受任者の電話連絡先
C39: 当該支払金について
C40: 委任状の要否 | D40: =IF(OR(D34="請求",D34="請求及び受領"),"委任状が必要です。委任状兼口座振込依頼書を印刷し、適宜押印の上、長寿あんしん課まで郵送にてご提出ください。","委任状は不要です") -> 委任状は不要です
...

Sheet 補助金交付申請書①
A1: 別記様式第１号（第７条関係）
AD2: 令和 | AE2: =入力シート!E9 -> 0 | AG2: 年 | AI2: =入力シート!G9 -> 0 | AK2: 月 | AM2: =入力シート!I9 -> 0 | AO2: 日
B4: 鹿 児 島 市 長 殿
N7: 申請者 | P7: 事業者(法人)所在地 | Z7: =入力シート!D3 -> 0
P9: 事業者(法人)名称 | Z9: =入力シート!D2 -> 0
P11: 代表者（職・氏名） | Z11: =入力シート!D4 -> 0 | AH11: =入力シート!D5 -> 0
P13: 申請に係る担当者名 (連絡先) | Z13: =入力シート!D7 -> 0
Z14: =入力シート!D8 -> 0
A16: 鹿児島市認知症介護基礎研修受講料補助金交付申請書
B19: 鹿児島市認知症介護基礎研修受講料補助金交付要綱第７条の規定により､下記のとおり関係書類を添えて、補助金の交付を申請します。
A23: 記
C26: １．交付申請（請求）額 | P26: =入力シート!D10 -> 0 | X26: 円 | Y26: (受講料×１／２×対象の介護職員数)
C29: ２．対象の介護職員 ※記載欄が足りない場合は、本様式を複数枚作成すること
D30: （フリガナ） 氏 名 | L30: 当該事業所における 採用年月日 | X30: 雇用形態 | AE30: 認知症介護基礎研修 受講日
B31: （１） | D31: =入力シート!G12 -> 0 | L31: =入力シート!I12 -> 0 | X31: =入力シート!Q12 -> 0 | AE31: =入力シート!K12 -> 0
D32: =入力シート!E12 -> 0
B33: （２） | D33: =入力シート!G13 -> 0 | L33: =入力シート!I13 -> 0 | X33: =入力シート!Q13 -> 0 | AE33: =入力シート!K13 -> 0
D34: =入力シート!E13 -> 0
B35: （３） | D35: =入力シート!G14 -> 0 | L35: =入力シート!I14 -> 0 | X35: =入力シート!Q14 -> 0 | AE35: =入力シート!K14 -> 0
D36: =入力シート!E14 -> 0
B37: ※既に採用されている者については、介護に直接携わるようになった年月日を記入して下さい。
C40: ３．対象の介護職員が現に勤務する事業所
B41: 対象の介護職員 | M41: （１） | W41: （２） | AG41: （３）
B42: 事業所名 | M42: =入力シート!M12 -> 0 | W42: =入力シート!M13 -> 0 | AG42: =入力シート!M14 -> 0
B43: サービス種別 | M43: =入力シート!O12 -> 0 | W43: =入力シート!O13 -> 0 | AG43: =入力シート!O14 -> 0
C46: ４.確認事項（以下の質問について、該当しない場合は申請不可）
B47: （１） | D47: 対象となる介護職員は、申請日現在も、当該事業所で継続して勤務しているか。 | AO47: =入力シート!Q21 -> □
B48: （２） | D48: 対象となる介護職員は、医療・福祉関係の資格を有していない職員か。 | AO48: =入力シート!Q22 -> □
B49: （３） | D49: 研修受講料は、対象となる介護職員を雇用する事業者が全額支払っているか。 | AO49: =入力シート!Q23 -> □
B50: （４） | D50: 当該研修受講料について、国や県の他公的機関等から助成を受けていないか。 | AO50: =入力シート!Q24 -> □
B51: （５） | D51: 当該研修受講料の領収書（写）を添付しているか。 ※申請者が、当該研修受講料を全額助成したことが分かる書類も添付すること。 （申請者作成の受領証や給与明細等の写しでも可） | AO51: =入力シート!Q25 -> □
B53: （６） | D53: 認知症介護基礎研修を修了した旨の証明書（写）を添付しているか。 ※対象となる介護職員に当該研修を受講した修了証を求め、その写しを添付すること。 （ｅラーニング受講後にＰＤＦ形式でダウンロード・印刷が可能） | AO53: =入力シート!Q26 -> □

Sheet 補助金交付申請書②
A1: 別記様式第１号（第７条関係）
AD2: 令和 | AE2: =入力シート!E9 -> 0 | AG2: 年 | AI2: =入力シート!G9 -> 0 | AK2: 月 | AM2: =入力シート!I9 -> 0 | AO2: 日
B4: 鹿 児 島 市 長 殿
N7: 申請者 | P7: 事業者(法人)所在地 | Z7: =入力シート!D3 -> 0
P9: 事業者(法人)名称 | Z9: =入力シート!D2 -> 0
P11: 代表者（職・氏名） | Z11: =入力シート!D4 -> 0 | AH11: =入力シート!D5 -> 0
P13: 申請に係る担当者名 (連絡先) | Z13: =入力シート!D7 -> 0
Z14: =入力シート!D8 -> 0
A16: 鹿児島市認知症介護基礎研修受講料補助金交付申請書
B19: 鹿児島市認知症介護基礎研修受講料補助金交付要綱第７条の規定により､下記のとおり関係書類を添えて、補助金の交付を申請します。
A23: 記
C26: １．交付申請（請求）額 | P26: =入力シート!D10 -> 0 | X26: 円 | Y26: (受講料×１／２×対象の介護職員数)
C29: ２．対象の介護職員 ※記載欄が足りない場合は、本様式を複数枚作成すること
D30: （フリガナ） 氏 名 | L30: 当該事業所における 採用年月日 | X30: 雇用形態 | AE30: 認知症介護基礎研修 受講日
B31: （１） | D31: =入力シート!G15 -> 0 | L31: =入力シート!I15 -> 0 | X31: =入力シート!Q15 -> 0 | AE31: =入力シート!K15 -> 0
D32: =入力シート!E15 -> 0
B33: （２） | D33: =入力シート!G16 -> 0 | L33: =入力シート!I16 -> 0 | X33: =入力シート!Q16 -> 0 | AE33: =入力シート!K16 -> 0
D34: =入力シート!E16 -> 0
B35: （３） | D35: =入力シート!G17 -> 0 | L35: =入力シート!I17 -> 0 | X35: =入力シート!Q17 -> 0 | AE35: =入力シート!K17 -> 0
D36: =入力シート!E17 -> 0
B37: ※既に採用されている者については、介護に直接携わるようになった年月日を記入して下さい。
C40: ３．対象の介護職員が現に勤務する事業所
B41: 対象の介護職員 | M41: （１） | W41: （２） | AG41: （３）
B42: 事業所名 | M42: =入力シート!M15 -> 0 | W42: =入力シート!M16 -> 0 | AG42: =入力シート!M17 -> 0
B43: サービス種別 | M43: =入力シート!O15 -> 0 | W43: =入力シート!O16 -> 0 | AG43: =入力シート!O17 -> 0
C46: ４.確認事項（以下の質問について、該当しない場合は申請不可）
B47: （１） | D47: 対象となる介護職員は、申請日現在も、当該事業所で継続して勤務しているか。 | AO47: =入力シート!Q21 -> □
B48: （２） | D48: 対象となる介護職員は、医療・福祉関係の資格を有していない職員か。 | AO48: =入力シート!Q22 -> □
B49: （３） | D49: 研修受講料は、対象となる介護職員を雇用する事業者が全額支払っているか。 | AO49: =入力シート!Q23 -> □
B50: （４） | D50: 当該研修受講料について、国や県の他公的機関等から助成を受けていないか。 | AO50: =入力シート!Q24 -> □
B51: （５） | D51: 当該研修受講料の領収書（写）を添付しているか。 ※申請者が、当該研修受講料を全額助成したことが分かる書類も添付すること。 （申請者作成の受領証や給与明細等の写しでも可） | AO51: =入力シート!Q25 -> □
B53: （６） | D53: 認知症介護基礎研修を修了した旨の証明書（写）を添付しているか。 ※対象となる介護職員に当該研修を受講した修了証を求め、その写しを添付すること。 （ｅラーニング受講後にＰＤＦ形式でダウンロード・印刷が可能） | AO53: =入力シート!Q26 -> □

Sheet 補助金交付申請書③
A1: 別記様式第１号（第７条関係）
AD2: 令和 | AE2: =入力シート!E9 -> 0 | AG2: 年 | AI2: =入力シート!G9 -> 0 | AK2: 月 | AM2: =入力シート!I9 -> 0 | AO2: 日
B4: 鹿 児 島 市 長 殿
N7: 申請者 | P7: 事業者(法人)所在地 | Z7: =入力シート!D3 -> 0
P9: 事業者(法人)名称 | Z9: =入力シート!D2 -> 0
P11: 代表者（職・氏名） | Z11: =入力シート!D4 -> 0 | AH11: =入力シート!D5 -> 0
P13: 申請に係る担当者名 (連絡先) | Z13: =入力シート!D7 -> 0
Z14: =入力シート!D8 -> 0
A16: 鹿児島市認知症介護基礎研修受講料補助金交付申請書
B19: 鹿児島市認知症介護基礎研修受講料補助金交付要綱第７条の規定により､下記のとおり関係書類を添えて、補助金の交付を申請します。
A23: 記
C26: １．交付申請（請求）額 | P26: =入力シート!D10 -> 0 | X26: 円 | Y26: (受講料×１／２×対象の介護職員数)
C29: ２．対象の介護職員 ※記載欄が足りない場合は、本様式を複数枚作成すること
D30: （フリガナ） 氏 名 | L30: 当該事業所における 採用年月日 | X30: 雇用形態 | AE30: 認知症介護基礎研修 受講日
B31: （１） | D31: =入力シート!G18 -> 0 | L31: =入力シート!I18 -> 0 | X31: =入力シート!Q18 -> 0 | AE31: =入力シート!K18 -> 0
D32: =入力シート!E18 -> 0
B33: （２） | D33: =入力シート!G19 -> 0 | L33: =入力シート!I19 -> 0 | X33: =入力シート!Q19 -> 0 | AE33: =入力シート!K19 -> 0
D34: =入力シート!E19 -> 0
B35: （３） | D35: =入力シート!G20 -> 0 | L35: =入力シート!I20 -> 0 | X35: =入力シート!Q20 -> 0 | AE35: =入力シート!K20 -> 0
D36: =入力シート!E20 -> 0
B37: ※既に採用されている者については、介護に直接携わるようになった年月日を記入して下さい。
C40: ３．対象の介護職員が現に勤務する事業所
B41: 対象の介護職員 | M41: （１） | W41: （２） | AG41: （３）
B42: 事業所名 | M42: =入力シート!M18 -> 0 | W42: =入力シート!M19 -> 0 | AG42: =入力シート!M20 -> 0
B43: サービス種別 | M43: =入力シート!O18 -> 0 | W43: =入力シート!O19 -> 0 | AG43: =入力シート!O20 -> 0
C46: ４.確認事項（以下の質問について、該当しない場合は申請不可）
B47: （１） | D47: 対象となる介護職員は、申請日現在も、当該事業所で継続して勤務しているか。 | AO47: =入力シート!Q21 -> □
B48: （２） | D48: 対象となる介護職員は、医療・福祉関係の資格を有していない職員か。 | AO48: =入力シート!Q22 -> □
B49: （３） | D49: 研修受講料は、対象となる介護職員を雇用する事業者が全額支払っているか。 | AO49: =入力シート!Q23 -> □
B50: （４） | D50: 当該研修受講料について、国や県の他公的機関等から助成を受けていないか。 | AO50: =入力シート!Q24 -> □
B51: （５） | D51: 当該研修受講料の領収書（写）を添付しているか。 ※申請者が、当該研修受講料を全額助成したことが分かる書類も添付すること。 （申請者作成の受領証や給与明細等の写しでも可） | AO51: =入力シート!Q25 -> □
B53: （６） | D53: 認知症介護基礎研修を修了した旨の証明書（写）を添付しているか。 ※対象となる介護職員に当該研修を受講した修了証を求め、その写しを添付すること。 （ｅラーニング受講後にＰＤＦ形式でダウンロード・印刷が可能） | AO53: =入力シート!Q26 -> □

Sheet 補助金交付申請書④(コピー用)
A1: 別記様式第１号（第７条関係）
AD2: 令和 | AE2: =入力シート!E9 -> 0 | AG2: 年 | AI2: =入力シート!G9 -> 0 | AK2: 月 | AM2: =入力シート!I9 -> 0 | AO2: 日
B4: 鹿 児 島 市 長 殿
N7: 申請者 | P7: 事業者(法人)所在地 | Z7: =入力シート!D3 -> 0
P9: 事業者(法人)名称 | Z9: =入力シート!D2 -> 0
P11: 代表者（職・氏名） | Z11: =入力シート!D4 -> 0 | AH11: =入力シート!D5 -> 0
P13: 申請に係る担当者名 (連絡先) | Z13: =入力シート!D7 -> 0
Z14: =入力シート!D8 -> 0
A16: 鹿児島市認知症介護基礎研修受講料補助金交付申請書
B19: 鹿児島市認知症介護基礎研修受講料補助金交付要綱第７条の規定により､下記のとおり関係書類を添えて、補助金の交付を申請します。
A23: 記
C26: １．交付申請（請求）額 | P26: =入力シート!D10 -> 0 | X26: 円 | Y26: (受講料×１／２×対象の介護職員数)
C29: ２．対象の介護職員 ※記載欄が足りない場合は、本様式を複数枚作成すること
D30: （フリガナ） 氏 名 | L30: 当該事業所における 採用年月日 | X30: 雇用形態 | AE30: 認知症介護基礎研修 受講日
B31: （１） | L31: 令和 | Q31: 年 | T31: 月 | W31: 日 | AE31: 令和 | AJ31: 年 | AM31: 月 | AP31: 日
B33: （２） | L33: 令和 | Q33: 年 | T33: 月 | W33: 日 | AE33: 令和 | AJ33: 年 | AM33: 月 | AP33: 日
B35: （３） | L35: 令和 | Q35: 年 | T35: 月 | W35: 日 | AE35: 令和 | AJ35: 年 | AM35: 月 | AP35: 日
B37: ※既に採用されている者については、介護に直接携わるようになった年月日を記入して下さい。
C40: ３．対象の介護職員が現に勤務する事業所
B41: 対象の介護職員 | M41: （１） | W41: （２） | AG41: （３）
B42: 事業所名
B43: サービス種別
C46: ４.確認事項（以下の質問について、該当しない場合は申請不可） | AX46: ☑
B47: （１） | D47: 対象となる介護職員は、申請日現在も、当該事業所で継続して勤務しているか。 | AO47: =入力シート!Q21 -> □ | AX47: □
B48: （２） | D48: 対象となる介護職員は、医療・福祉関係の資格を有していない職員か。 | AO48: =入力シート!Q22 -> □
B49: （３） | D49: 研修受講料は、対象となる介護職員を雇用する事業者が全額支払っているか。 | AO49: =入力シート!Q23 -> □
B50: （４） | D50: 当該研修受講料について、国や県の他公的機関等から助成を受けていないか。 | AO50: =入力シート!Q24 -> □
B51: （５） | D51: 当該研修受講料の領収書（写）を添付しているか。 ※申請者が、当該研修受講料を全額助成したことが分かる書類も添付すること。 （申請者作成の受領証や給与明細等の写しでも可） | AO51: =入力シート!Q25 -> □
B53: （６） | D53: 認知症介護基礎研修を修了した旨の証明書（写）を添付しているか。 ※対象となる介護職員に当該研修を受講した修了証を求め、その写しを添付すること。 （ｅラーニング受講後にＰＤＦ形式でダウンロード・印刷が可能） | AO53: =入力シート!Q26 -> □

Sheet 補助金等交付請求書
A1: 様式第６（第１７条関係）
A3: （支払方法 １ 口座振替払（ＭＴ） ２ 直接払 ３ 口座振替払（ＭＴ外））
A4: （支払予定日 ） （審査決裁区分 会 ・ 室 ・ 係 ）
B5: 課名 | T5: 年度 | X5: 支出命令番号
X6: 会 計
O7: 歳出 | X7: 款
B9: （下線以下を記入してください。）
B10: … | C10: … | D10: … | E10: … | F10: … | G10: … | H10: … | I10: … | J10: … | K10: … | L10: … | M10: … | N10: … | O10: … | P10: … | Q10: … | R10: … | S10: … | T10: … | U10: … | V10: … | W10: … | X10: … | Y10: … | Z10: … | AA10: … | AB10: … | AC10: … | AD10: … | AE10: … | AF10: … | AG10: … | AH10: … | AI10: … | AJ10: … | AK10: … | AL10: … | AM10: … | AN10: … | AO10: … | AP10: …
AE11: 令和 | AH11: =入力シート!E9 -> 0 | AJ11: 年 | AK11: =入力シート!G9 -> 0 | AM11: 月 | AN11: =入力シート!I9 -> 0 | AP11: 日
B13: 鹿児島市長 殿
W15: 補助事業者等の住所 | AE15: =入力シート!D3 -> 0
W16: 補助事業者等の氏名 | AE16: =入力シート!D2 -> 0 | AK16: =入力シート!D4 -> 0 | AM16: =入力シート!D5 -> 0
W17: （団体の場合は、団体名及び代表者名）
W18: 押印を省略する場合は、記入してください
W19: ( | X19: 担当者：氏名 | AC19: =入力シート!D7 -> 0 | AI19: 電話 | AK19: =入力シート!D8 -> 0 | AP19: ）
A21: 補助金等交付請求書
B24: 鹿児島市補助金等交付規則第１７条第１項の規定により、次のとおり請求します。
B25: 指令年月日 | M25: 令和 | R25: 年 | V25: 月 | Z25: 日 | AB25: 指令番号 | AH25: 指令第 | AO25: 号
B26: 補助事業等の名称 | M26: 鹿児島市認知症介護基礎研修受講料補助金
B27: 補助金等の請求金額 | O27: 拾 | Q27: 億 | S27: 千 | V27: 百 | Y27: 拾 | AB27: 万 | AE27: 千 | AH27: 百 | AK27: 拾 | AN27: 円
M28: =IF(LEN($BB$28)=10,"\",IF(LEN($BB$28)>10,LEFT(RIGHT($BB$28,11),1),"")) | O28: =IF(LEN($BB$28)=9,"\",IF(LEN($BB$28)>9,LEFT(RIGHT($BB$28,10),1),"")) | Q28: =IF(LEN($BB$28)=8,"\",IF(LEN($BB$28)>8,LEFT(RIGHT($BB$28,9),1),"")) | S28: =IF(LEN($BB$28)=7,"\",IF(LEN($BB$28)>7,LEFT(RIGHT($BB$28,8),1),"")) | V28: =IF(LEN($BB$28)=6,"\",IF(LEN($BB$28)>6,LEFT(RIGHT($BB$28,7),1),"")) | Y28: =IF(LEN($BB$28)=5,"\",IF(LEN($BB$28)>5,LEFT(RIGHT($BB$28,6),1),"")) | AB28: =IF(LEN($BB$28)=4,"\",IF(LEN($BB$28)>4,LEFT(RIGHT($BB$28,5),1),"")) | AE28: =IF(LEN($BB$28)=3,"\",IF(LEN($BB$28)>3,LEFT(RIGHT($BB$28,4),1),"")) | AH28: =IF(LEN($BB$28)=2,"\",IF(LEN($BB$28)>2,LEFT(RIGHT($BB$28,3),1),"")) | AK28: =IF(LEN($BB$28)=1,"\",IF(LEN($BB$28)>1,LEFT(RIGHT($BB$28,2),1),"")) -> \ | AN28: =LEFT(RIGHT(BB28,1),1) -> 0 | BB28: =入力シート!D10 -> 0 | BJ28: 円
B30: 受領については、次のとおり願います。（希望の番号を○囲みする）
B31: １ 口座振替払（下記口座のとおり） ２ 現 金 払
B33: 振 込 先 | E33: 金融機関名 | M33: =入力シート!D27 -> 0 | X33: 銀行 | AB33: =入力シート!G27 -> 0
X34: （金庫） | AN34: 店
E35: 口座の種類 | M35: =入力シート!D28 -> 0 | Z35: 口座番号 | AF35: =入力シート!D29 -> 0
E37: フリガナ | M37: =入力シート!D31 -> 0
E38: 口座名義 | M38: =入力シート!D30 -> 0

Sheet 委任状兼口座振込依頼書
AK1: 令和 | AQ1: =入力シート!E9 -> 0 | AT1: 年 | AW1: =入力シート!G9 -> 0 | BC1: 月 | BF1: =入力シート!I9 -> 0 | BL1: 日
A3: 鹿児島市長 殿
E5: 委任者又は口 座振込依頼者 【頼む人】 ※請求を委任 する場合は 印鑑必要 | P5: 住 所 | AC5: =入力シート!D3 -> 0
P9: 会社・団体名 | AC9: =入力シート!D2 -> 0
P11: 代 表 者 氏 名 | AC11: =入力シート!D5 -> 0 | BH11: ㊞
P13: 委任者 | AC13: =IF(入力シート!D33=0,"",入力シート!D33)
A15: 委任状・口座振込依頼書の用途に応じて記入してください。 | CC15: =IF(LEN(BB28)=10,"\",IF(LEN(BB28)>10,LEFT(RIGHT(BB28,11),1),""))
E18: 委 任 状
A21: 下記のものを代理人と定め、
A23: 代金の | K23: =入力シート!D34 -> 0 | Z23: について委任します。
E26: 受任者 【頼まれる人】 | P26: 住 所 | AC26: =IF(入力シート!D35=0,"",入力シート!D35)
P30: （団 体 名） | AC30: =IF(入力シート!D36=0,"",入力シート!D36) | BH30: ㊞
P32: 氏 名 | AC32: =IF(入力シート!D37=0,"",入力シート!D37)
P34: 電話連絡先 | AC34: =IF(入力シート!D38=0,"",入力シート!D38)
A36: ※代金の受領委任のみの場合は印鑑不要
A40: なお、 | K40: =IF(入力シート!D39=0,"",入力シート!D39)
E44: 口座振込依頼書 | W44: 【下記のいずれかに該当する場合に記入】
W46: ・上記委任状で、代金の受領を委任する
W48: ・振込先の口座名義人が委任者又は口座振込依頼者と同一でも
W50: 肩書や役職が異なる
A53: 代金については、下記の口座へ振込んでくださるよう依頼します。
E55: 金融機関名 | R55: =入力シート!D27 -> 0
E57: 支 店 名 | R57: =入力シート!G27 -> 0
E59: 預金種別 | R59: =入力シート!D28 -> 0
E61: 口座番号 | R61: =入力シート!D29 -> 0
E63: コウザメイギニン | R63: =入力シート!D31 -> 0
E65: 口座名義人 | R65: =入力シート!D30 -> 0
E67: 電話連絡先 | R67: =入力シート!D32 -> 0

Sheet リスト
B1: 事業所・施設等の種別
A2: 1 | B2: 訪問介護事業所 集合住宅併設型（同一建物減算の算定がある事業所） | C2: 200 | D2: /事業所
A3: 2 | B3: 訪問介護事業所 上記以外であって、1月あたり延べ訪問回数200回以下 | C3: 300 | D3: /事業所
A4: 3 | B4: 訪問介護事業所 上記以外であって、1月あたり延べ訪問回数201回以上2,000回以下 | C4: 400 | D4: /事業所
A5: 4 | B5: 訪問介護事業所 上記以外であって、1月あたり延べ訪問回数2,001回以上 | C5: 500 | D5: /事業所
A6: 5 | B6: 訪問入浴介護事業所 | C6: 200 | D6: /事業所
A7: 6 | B7: 訪問看護事業所 | C7: 200 | D7: /事業所
A8: 7 | B8: 訪問リハビリテーション事業所 | C8: 200 | D8: /事業所
A9: 8 | B9: 通所介護事業所 1月あたり延べ利用者数300人以下 | C9: 200 | D9: /事業所
A10: 9 | B10: 通所介護事業所 1月あたり延べ利用者数301人以上600人以下 | C10: 300 | D10: /定員
A11: 10 | B11: 通所介護事業所 1月あたり延べ利用者数601人以上 | C11: 400 | D11: /定員
A12: 11 | B12: 通所リハビリテーション事業所 | C12: 200 | D12: /事業所
A13: 12 | B13: 特定施設入居者生活介護（養護老人ホーム、軽費老人ホームを除く） | C13: 200 | D13: /事業所
... A23: 22 | B23: 居宅介護支援事業所 | C23: 200 | D23: /事業所
A24: 23 | B24: 介護老人福祉施設 | C24: 6 | D24: /定員 | E24: 18 | F24: /定員
A25: 24 | B25: 介護老人保健施設 | C25: 6 | D25: /定員 | E25: 18 | F25: /定員
A26: 25 | B26: 介護医療院 | C26: 6 | D26: /定員 | E26: 18 | F26: /定員
A27: 26 | B27: 地域密着型介護老人福祉施設 | C27: 6 | D27: /定員 | E27: 18 | F27: /定員
A28: 27 | B28: 短期入所生活介護事業所 | C28: 6 | D28: /定員 | E28: 18 | F28: /定員
A29: 28 | B29: 養護老人ホーム | C29: 6 | D29: /定員 | E29: 18 | F29: /定員
A30: 29 | B30: 軽費老人ホーム | C30: 6 | D30: /定員 | E30: 18 | F30: /定員
B32: 北海道
B33: 青森県
B34: 岩手県
B35: 宮城県
B36: 秋田県
B37: 山形県
B38: 福島県
B39: 茨城県
B40: 栃木県
B41: 群馬県
B42: 埼玉県
B43: 千葉県
... B78: 沖縄県
