{"text_format":"1","workbook":"xlsx","n_sheets":5,"sheets":["胃がん検診受診者名簿（1～20）","胃がん検診受診者名簿（21～40）","胃がん検診受診者名簿（41～60）","胃がん検診受診者名簿（61～80） ","胃がん検診受診者名簿（81～100）"],"not_rendered":{"charts":0,"images":0,"macros":1,"external_links":0,"defined_names":5,"comments":0,"pivot_tables":0},"unopened":[],"bounds":{"document_bytes":16777216,"sheet_cells":100000,"rows_first":2000,"rows_last":500,"rows_between":2000,"halvings":0,"cell_chars":16384,"cell_head_chars":4096},"cells_cut":0,"cells_raw":0,"read":"whole","date_system":"1900"}

{"sheet":"胃がん検診受診者名簿（1～20）","index":0,"n_rows":38,"n_cols":81,"rows_kept":38,"cut":false,"hidden":false,"merged":[[34,14,35,15],[34,16,35,17],[34,18,35,18],[1,13,1,19],[7,0,8,0],[7,1,8,1],[7,2,8,3],[7,4,8,4],[7,5,8,6],[7,7,8,7],[5,2,6,2],[5,3,6,3],[5,4,6,4],[5,5,6,5],[5,6,6,7],[7,11,8,13],[7,17,8,19],[9,2,9,3],[9,5,9,6],[9,12,9,13],[9,17,9,19],[12,2,12,3],[12,5,12,6],[12,12,12,13],[12,17,12,19],[13,2,13,3],[13,5,13,6],[13,12,13,13],[13,17,13,19],[10,2,10,3],[10,5,10,6],[10,12,10,13],[10,17,10,19],[11,2,11,3],[11,5,11,6],[11,12,11,13],[11,17,11,19],[10,9,10,10],[11,9,11,10],[12,9,12,10],[13,9,13,10],[16,2,16,3],[16,5,16,6],[16,12,16,13],[16,17,16,19],[17,2,17,3],[17,5,17,6],[17,12,17,13],[17,17,17,19],[14,2,14,3],[14,5,14,6],[14,12,14,13],[14,17,14,19],[15,2,15,3],[15,5,15,6],[15,12,15,13],[15,17,15,19],[14,9,14,10],[15,9,15,10],[16,9,16,10],[17,9,17,10],[18,2,18,3],[18,5,18,6],[18,12,18,13],[18,17,18,19],[19,2,19,3],[19,5,19,6],[19,12,19,13],[19,17,19,19],[18,9,18,10],[19,9,19,10],[18,15,18,16],[19,15,19,16],[24,5,24,6],[20,2,20,3],[20,5,20,6],[20,12,20,13],[20,17,20,19],[21,2,21,3],[21,5,21,6],[21,12,21,13],[21,17,21,19],[20,9,20,10],[21,9,21,10],[21,15,21,16],[20,15,20,16],[26,2,26,3],[26,5,26,6],[26,12,26,13],[25,2,25,3],[25,5,25,6],[25,12,25,13],[25,17,25,19],[22,2,22,3],[22,5,22,6],[22,12,22,13],[22,17,22,19],[23,2,23,3],[23,5,23,6],[23,12,23,13],[23,17,23,19],[22,9,22,10],[23,9,23,10],[24,9,24,10],[25,9,25,10],[22,15,22,16],[23,15,23,16],[24,15,24,16],[25,15,25,16],[24,2,24,3],[33,0,33,1],[32,0,32,1],[30,3,30,4],[31,3,31,4],[32,3,32,4],[33,3,33,4],[31,6,31,7],[32,6,32,7],[30,6,30,7],[30,0,30,1],[7,8,7,10],[8,9,8,10],[9,9,9,10],[31,16,31,17],[32,16,32,17],[31,0,31,1],[28,2,28,3],[28,5,28,6],[28,12,28,13],[28,9,28,10],[31,8,31,9],[32,8,32,9],[30,10,30,12],[31,10,31,12],[32,10,32,12],[27,2,27,3],[27,5,27,6],[27,12,27,13],[27,17,27,19],[26,9,26,10],[27,9,27,10],[30,8,30,9],[26,15,26,16],[27,15,27,16],[33,14,33,15],[15,15,15,16],[11,15,11,16],[12,15,12,16],[13,15,13,16],[14,15,14,16],[16,15,16,16],[17,15,17,16],[2,13,4,19],[5,13,5,14],[5,15,5,19],[26,17,26,19],[24,17,24,19],[33,16,33,17],[7,14,8,16],[9,15,9,16],[10,15,10,16],[30,14,30,15],[31,14,31,15],[32,14,32,15],[24,12,24,13],[28,15,28,16],[30,16,30,17],[28,17,28,19],[1,34,1,40],[2,34,4,40],[5,23,6,23],[5,24,6,24],[5,25,6,25],[5,26,6,26],[5,27,6,28],[5,34,5,35],[5,36,5,40],[7,21,8,21],[7,22,8,22],[7,23,8,24],[7,25,8,25],[7,26,8,27],[7,28,8,28],[7,29,7,31],[7,32,8,34],[7,35,8,37],[7,38,8,40],[8,30,8,31],[9,23,9,24],[9,26,9,27],[9,30,9,31],[9,33,9,34],[9,36,9,37],[9,38,9,40],[10,23,10,24],[10,26,10,27],[10,30,10,31],[10,33,10,34],[10,36,10,37],[10,38,10,40],[11,23,11,24],[11,26,11,27],[11,30,11,31],[11,33,11,34],[11,36,11,37],[11,38,11,40],[12,23,12,24],[12,26,12,27],[12,30,12,31],[12,33,12,34],[12,36,12,37],[12,38,12,40],[13,23,13,24],[13,26,13,27],[13,30,13,31],[13,33,13,34],[13,36,13,37],[13,38,13,40],[14,23,14,24],[14,26,14,27],[14,30,14,31],[14,33,14,34],[14,36,14,37],[14,38,14,40],[15,23,15,24],[15,26,15,27],[15,30,15,31],[15,33,15,34],[15,36,15,37],[15,38,15,40],[16,23,16,24],[16,26,16,27],[16,30,16,31],[16,33,16,34],[16,36,16,37],[16,38,16,40],[17,23,17,24],[17,26,17,27],[17,30,17,31],[17,33,17,34],[17,36,17,37],[17,38,17,40],[18,23,18,24],[18,26,18,27],[18,30,18,31],[18,33,18,34],[18,36,18,37],[18,38,18,40],[19,23,19,24],[19,26,19,27],[19,30,19,31],[19,33,19,34],[19,36,19,37],[19,38,19,40],[20,23,20,24],[20,26,20,27],[20,30,20,31],[20,33,20,34],[20,36,20,37],[20,38,20,40],[21,23,21,24],[21,26,21,27],[21,30,21,31],[21,33,21,34],[21,36,21,37],[21,38,21,40],[22,23,22,24],[22,26,22,27],[22,30,22,31],[22,33,22,34],[22,36,22,37],[22,38,22,40],[23,23,23,24],[23,26,23,27],[23,30,23,31],[23,33,23,34],[23,36,23,37],[23,38,23,40],[24,23,24,24],[24,26,24,27],[24,30,24,31],[24,33,24,34],[24,36,24,37],[24,38,24,40],[25,23,25,24],[25,26,25,27],[25,30,25,31],[25,33,25,34],[25,36,25,37],[25,38,25,40],[26,23,26,24],[26,26,26,27],[26,30,26,31],[26,33,26,34],[26,36,26,37],[26,38,26,40],[27,23,27,24],[27,26,27,27],[27,30,27,31],[27,33,27,34],[27,36,27,37],[27,38,27,40],[28,23,28,24],[28,26,28,27],[28,30,28,31],[28,33,28,34],[28,36,28,37],[28,38,28,40],[30,21,30,22],[30,24,30,25],[30,27,30,28],[30,29,30,30],[30,31,30,33],[30,35,30,36],[30,37,30,38],[31,21,31,22],[31,24,31,25],[31,27,31,28],[31,29,31,30],[31,31,31,33],[31,35,31,36],[31,37,31,38],[34,35,35,36],[34,37,35,38],[34,39,35,39],[32,21,32,22],[32,24,32,25],[32,27,32,28],[32,29,32,30],[32,31,32,33],[32,35,32,36],[32,37,32,38],[33,21,33,22],[33,24,33,25],[33,35,33,36],[33,37,33,38],[9,46,9,47],[9,50,9,51],[9,53,9,54],[9,56,9,57],[9,58,9,60],[10,43,10,44],[10,46,10,47],[10,50,10,51],[10,53,10,54],[10,56,10,57],[10,58,10,60],[9,43,9,44],[11,43,11,44],[11,46,11,47],[11,50,11,51],[11,53,11,54],[11,56,11,57],[11,58,11,60],[12,43,12,44],[12,46,12,47],[12,50,12,51],[12,53,12,54],[12,56,12,57],[12,58,12,60],[13,43,13,44],[13,46,13,47],[13,50,13,51],[13,53,13,54],[13,56,13,57],[13,58,13,60],[14,43,14,44],[14,46,14,47],[14,50,14,51],[14,53,14,54],[14,56,14,57],[14,58,14,60],[15,43,15,44],[15,46,15,47],[15,50,15,51],[15,53,15,54],[15,56,15,57],[15,58,15,60],[16,43,16,44],[16,46,16,47],[16,50,16,51],[16,53,16,54],[16,56,16,57],[16,58,16,60],[17,43,17,44],[17,46,17,47],[17,50,17,51],[17,53,17,54],[17,56,17,57],[17,58,17,60],[18,43,18,44],[18,46,18,47],[18,50,18,51],[18,53,18,54],[18,56,18,57],[18,58,18,60],[19,43,19,44],[19,46,19,47],[19,50,19,51],[19,53,19,54],[19,56,19,57],[19,58,19,60],[20,43,20,44],[20,46,20,47],[20,50,20,51],[20,53,20,54],[20,56,20,57],[20,58,20,60],[21,43,21,44],[21,46,21,47],[21,50,21,51],[21,53,21,54],[21,56,21,57],[21,58,21,60],[22,43,22,44],[22,46,22,47],[22,50,22,51],[22,53,22,54],[22,56,22,57],[22,58,22,60],[23,43,23,44],[23,46,23,47],[23,50,23,51],[23,53,23,54],[23,56,23,57],[23,58,23,60],[24,43,24,44],[24,46,24,47],[24,50,24,51],[24,53,24,54],[24,56,24,57],[24,58,24,60],[25,43,25,44],[25,46,25,47],[25,50,25,51],[25,53,25,54],[25,56,25,57],[25,58,25,60],[26,43,26,44],[26,46,26,47],[26,50,26,51],[26,53,26,54],[26,56,26,57],[26,58,26,60],[27,43,27,44],[27,46,27,47],[27,50,27,51],[27,53,27,54],[27,56,27,57],[27,58,27,60],[28,43,28,44],[28,46,28,47],[28,50,28,51],[28,53,28,54],[28,56,28,57],[28,58,28,60],[30,41,30,42],[30,44,30,45],[30,47,30,48],[30,49,30,50],[30,51,30,53],[30,55,30,56],[30,57,30,58],[31,41,31,42],[31,44,31,45],[31,47,31,48],[31,49,31,50],[31,51,31,53],[31,55,31,56],[31,57,31,58],[32,41,32,42],[32,44,32,45],[32,47,32,48],[32,49,32,50],[32,51,32,53],[32,55,32,56],[32,57,32,58],[33,41,33,42],[33,44,33,45],[33,55,33,56],[33,57,33,58],[34,55,35,56],[34,57,35,58],[34,59,35,59],[1,74,1,80],[2,74,4,80],[5,63,6,63],[5,64,6,64],[5,65,6,65],[5,66,6,66],[5,67,6,68],[5,74,5,75],[5,76,5,80],[7,61,8,61],[7,62,8,62],[7,63,8,64],[7,65,8,65],[7,66,8,67],[7,68,8,68],[7,69,7,71],[7,72,8,74],[7,75,8,77],[7,78,8,80],[8,70,8,71],[9,63,9,64],[9,66,9,67],[9,70,9,71],[9,73,9,74],[9,76,9,77],[9,78,9,80],[10,63,10,64],[10,66,10,67],[10,70,10,71],[10,73,10,74],[10,76,10,77],[10,78,10,80],[11,63,11,64],[11,66,11,67],[11,70,11,71],[11,73,11,74],[11,76,11,77],[11,78,11,80],[12,63,12,64],[12,66,12,67],[12,70,12,71],[12,73,12,74],[12,76,12,77],[12,78,12,80],[13,63,13,64],[13,66,13,67],[13,70,13,71],[13,73,13,74],[13,76,13,77],[13,78,13,80],[14,63,14,64],[14,66,14,67],[14,70,14,71],[14,73,14,74],[14,76,14,77],[14,78,14,80],[15,63,15,64],[15,66,15,67],[15,70,15,71],[15,73,15,74],[15,76,15,77],[15,78,15,80],[16,63,16,64],[16,66,16,67],[16,70,16,71],[16,73,16,74],[16,76,16,77],[16,78,16,80],[17,63,17,64],[17,66,17,67],[17,70,17,71],[17,73,17,74],[17,76,17,77],[17,78,17,80],[18,63,18,64],[18,66,18,67],[18,70,18,71],[18,73,18,74],[18,76,18,77],[18,78,18,80],[19,63,19,64],[19,66,19,67],[19,70,19,71],[19,73,19,74],[19,76,19,77],[19,78,19,80],[20,63,20,64],[20,66,20,67],[20,70,20,71],[20,73,20,74],[20,76,20,77],[20,78,20,80],[21,63,21,64],[21,66,21,67],[21,70,21,71],[21,73,21,74],[21,76,21,77],[21,78,21,80],[22,63,22,64],[22,66,22,67],[22,70,22,71],[22,73,22,74],[22,76,22,77],[22,78,22,80],[23,63,23,64],[23,66,23,67],[23,70,23,71],[23,73,23,74],[23,76,23,77],[23,78,23,80],[24,63,24,64],[24,66,24,67],[24,70,24,71],[24,73,24,74],[24,76,24,77],[24,78,24,80],[25,63,25,64],[25,66,25,67],[25,70,25,71],[25,73,25,74],[25,76,25,77],[25,78,25,80],[26,63,26,64],[26,66,26,67],[26,70,26,71],[26,73,26,74],[26,76,26,77],[26,78,26,80],[31,67,31,68],[31,69,31,70],[31,71,31,73],[31,75,31,76],[31,77,31,78],[27,63,27,64],[27,66,27,67],[27,70,27,71],[27,73,27,74],[27,76,27,77],[27,78,27,80],[28,63,28,64],[28,66,28,67],[28,70,28,71],[28,73,28,74],[28,76,28,77],[28,78,28,80],[7,58,8,60],[34,75,35,76],[34,77,35,78],[34,79,35,79],[32,61,32,62],[32,64,32,65],[32,67,32,68],[32,69,32,70],[32,71,32,73],[32,75,32,76],[32,77,32,78],[33,61,33,62],[33,64,33,65],[33,75,33,76],[33,77,33,78],[30,61,30,62],[30,64,30,65],[30,67,30,68],[30,69,30,70],[30,71,30,73],[30,75,30,76],[30,77,30,78],[31,61,31,62],[31,64,31,65],[1,54,1,60],[2,54,4,60],[5,43,6,43],[5,44,6,44],[5,45,6,45],[5,46,6,46],[5,47,6,48],[5,54,5,55],[5,56,5,60],[7,41,8,41],[7,42,8,42],[7,43,8,44],[7,45,8,45],[7,46,8,47],[7,48,8,48],[7,49,7,51],[7,52,8,54],[7,55,8,57],[8,50,8,51]]}
["様式第21",null,null,null,null,null,null,null,null,null,null,null,null,null,null,null,null,null,null,"（入力用）",null,"様式第21",null,null,null,null,null,null,null,null,null,null,null,null,null,null,null,null,null,null,"（保健所提出用）","様式第21",null,null,null,null,null,null,null,null,null,null,null,null,null,null,null,null,null,null,"（医師会提出用）","様式第21",null,null,null,null,null,null,null,null,null,null,null,null,null,null,null,null,null,null,"（医療機関控え）"]
[null,null,null,null,null,null,null,null,null,null,null,null,null,"検　診　医　療　機　関　名",null,null,null,null,null,null,null,null,null,null,null,null,null,null,null,null,null,null,null,null,"検　診　医　療　機　関　名",null,null,null,null,null,null,null,null,null,null,null,null,null,null,null,null,null,null,null,"検　診　医　療　機　関　名",null,null,null,null,null,null,null,null,null,null,null,null,null,null,null,null,null,null,null,"検　診　医　療　機　関　名"]
["胃がん検診（胃内視鏡検査）受診者名簿",null,null,null,null,null,null,null,null,null,null,null,null,null,null,null,null,null,null,null,null,"胃がん検診（胃内視鏡検査）受診者名簿",null,null,null,null,null,null,null,null,null,null,null,null,{"$f":"IF(ISBLANK('胃がん検診受診者名簿（1～20）'!N3),\"\",'胃がん検診受診者名簿（1～20）'!N3)","v":""},null,null,null,null,null,null,"胃がん検診（胃内視鏡検査）受診者名簿",null,null,null,null,null,null,null,null,null,null,null,null,{"$f":"IF(ISBLANK('胃がん検診受診者名簿（1～20）'!AI3),\"\",'胃がん検診受診者名簿（1～20）'!AI3)","v":""},null,null,null,null,null,null,"胃がん検診（胃内視鏡検査）受診者名簿",null,null,null,null,null,null,null,null,null,null,null,null,{"$f":"IF(ISBLANK('胃がん検診受診者名簿（1～20）'!BC3),\"\",'胃がん検診受診者名簿（1～20）'!BC3)","v":""}]
[]
[]
[null,null,"（令和",null,"年",null,"月分）",null,null,null,null,null,null,"電話番号",null,null,null,null,null,null,null,null,null,"（令和",{"$f":"IF(ISBLANK('胃がん検診受診者名簿（1～20）'!D6),\"\",'胃がん検診受診者名簿（1～20）'!D6)","v":""},"年",{"$f":"IF(ISBLANK('胃がん検診受診者名簿（1～20）'!F6),\"\",'胃がん検診受診者名簿（1～20）'!F6)","v":""},"月分）",null,null,null,null,null,null,"電話番号",null,{"$f":"IF(ISBLANK('胃がん検診受診者名簿（1～20）'!P6),\"\",'胃がん検診受診者名簿（1～20）'!P6)","v":""},{"$f":"IF(ISBLANK('胃がん検診受診者名簿（1～20）'!Q6),\"\",'胃がん検診受診者名簿（1～20）'!Q6)","v":""},{"$f":"IF(ISBLANK('胃がん検診受診者名簿（1～20）'!R6),\"\",'胃がん検診受診者名簿（1～20）'!R6)","v":""},{"$f":"IF(ISBLANK('胃がん検診受診者名簿（1～20）'!S6),\"\",'胃がん検診受診者名簿（1～20）'!S6)","v":""},{"$f":"IF(ISBLANK('胃がん検診受診者名簿（1～20）'!T6),\"\",'胃がん検診受診者名簿（1～20）'!T6)","v":""},null,null,"（令和",{"$f":"IF(ISBLANK('胃がん検診受診者名簿（1～20）'!Y6),\"\",'胃がん検診受診者名簿（1～20）'!Y6)","v":""},"年",{"$f":"IF(ISBLANK('胃がん検診受診者名簿（1～20）'!AA6),\"\",'胃がん検診受診者名簿（1～20）'!AA6)","v":""},"月分）",null,null,null,null,null,null,"電話番号",null,{"$f":"IF(ISBLANK('胃がん検診受診者名簿（1～20）'!AK6),\"\",'胃がん検診受診者名簿（1～20）'!AK6)","v":""},{"$f":"IF(ISBLANK('胃がん検診受診者名簿（1～20）'!AL6),\"\",'胃がん検診受診者名簿（1～20）'!AL6)","v":""},{"$f":"IF(ISBLANK('胃がん検診受診者名簿（1～20）'!AM6),\"\",'胃がん検診受診者名簿（1～20）'!AM6)","v":""},{"$f":"IF(ISBLANK('胃がん検診受診者名簿（1～20）'!AN6),\"\",'胃がん検診受診者名簿（1～20）'!AN6)","v":""},{"$f":"IF(ISBLANK('胃がん検診受診者名簿（1～20）'!AO6),\"\",'胃がん検診受診者名簿（1～20）'!AO6)","v":""},null,null,"（令和",{"$f":"IF(ISBLANK('胃がん検診受診者名簿（1～20）'!AS6),\"\",'胃がん検診受診者名簿（1～20）'!AS6)","v":""},"年",{"$f":"IF(ISBLANK('胃がん検診受診者名簿（1～20）'!AU6),\"\",'胃がん検診受診者名簿（1～20）'!AU6)","v":""},"月分）",null,null,null,null,null,null,"電話番号",null,{"$f":"IF(ISBLANK('胃がん検診受診者名簿（1～20）'!BE6),\"\",'胃がん検診受診者名簿（1～20）'!BE6)","v":""},{"$f":"IF(ISBLANK('胃がん検診受診者名簿（1～20）'!BF6),\"\",'胃がん検診受診者名簿（1～20）'!BF6)","v":""},{"$f":"IF(ISBLANK('胃がん検診受診者名簿（1～20）'!BG6),\"\",'胃がん検診受診者名簿（1～20）'!BG6)","v":""},{"$f":"IF(ISBLANK('胃がん検診受診者名簿（1～20）'!BH6),\"\",'胃がん検診受診者名簿（1～20）'!BH6)","v":""},{"$f":"IF(ISBLANK('胃がん検診受診者名簿（1～20）'!BI6),\"\",'胃がん検診受診者名簿（1～20）'!BI6)","v":""}]
[]
["受付\n番号","受診日","氏　　名",null,"年齢","電話番号",null,"生検\n実施","偶発症\n発生",null,null,"結 果 判 定",null,null,"自己負担\n免除者区分",null,null,"備　　考\n（精検紹介先医療機関等）",null,null,null,"受付\n番号","受診日","氏　　名",null,"年齢","電話番号",null,"生検\n実施","偶発症\n発生",null,null,"結 果 判 定",null,null,"自己負担\n免除者区分",null,null,"備　　考\n（精検紹介先医療機関等）",null,null,"受付\n番号","受診日","氏　　名",null,"年齢","電話番号",null,"生検\n実施","偶発症\n発生",null,null,"結 果 判 定",null,null,"自己負担\n免除者区分",null,null,"備　　考\n（精検紹介先医療機関等）",null,null,"受付\n番号","受診日","氏　　名",null,"年齢","電話番号",null,"生検\n実施","偶発症\n発生",null,null,"結 果 判 定",null,null,"自己負担\n免除者区分",null,null,"備　　考\n（精検紹介先医療機関等）"]
[null,null,null,null,null,null,null,null,"検診時","生検時",null,null,null,null,null,null,null,null,null,null,null,null,null,null,null,null,null,null,null,"検診時","生検時",null,null,null,null,null,null,null,null,null,null,null,null,null,null,null,null,null,null,"検診時","生検時",null,null,null,null,null,null,null,null,null,null,null,null,null,null,null,null,null,null,"検診時","生検時"]
[1,null,null,null,null,null,null,false,false,false,null,null,{"$f":"IF(L10=1,\"胃がんなし\",IF(L10=2,\"胃がん疑い\",IF(L10=3,\"胃がんあり\",IF(L10=4,\"胃がん以外の悪性病変\",\"\"))))","v":""},null,null,{"$f":"IF(O10=1,\"70歳以上\",IF(O10=2,\"後期高齢者医療制度\",IF(O10=3,\"生活保護　世帯\",IF(O10=4,\"非課税世帯\",\"\"))))","v":""},null,null,null,null,null,1,{"$f":"IF(ISBLANK('胃がん検診受診者名簿（1～20）'!B10),\"\",'胃がん検診受診者名簿（1～20）'!B10)","v":""},{"$f":"IF(ISBLANK('胃がん検診受診者名簿（1～20）'!C10),\"\",'胃がん検診受診者名簿（1～20）'!C10)","v":""},null,{"$f":"IF(ISBLANK('胃がん検診受診者名簿（1～20）'!E10),\"\",'胃がん検診受診者名簿（1～20）'!E10)","v":""},{"$f":"IF(ISBLANK('胃がん検診受診者名簿（1～20）'!F10),\"\",'胃がん検診受診者名簿（1～20）'!F10)","v":""},null,null,null,null,null,null,{"$f":"IF(ISBLANK('胃がん検診受診者名簿（1～20）'!M10),\"\",'胃がん検診受診者名簿（1～20）'!M10)","v":""},null,null,{"$f":"IF(ISBLANK('胃がん検診受診者名簿（1～20）'!P10),\"\",'胃がん検診受診者名簿（1～20）'!P10)","v":""},null,{"$f":"IF(ISBLANK('胃がん検診受診者名簿（1～20）'!R10),\"\",'胃がん検診受診者名簿（1～20）'!R10)","v":""},null,null,1,{"$f":"IF(ISBLANK('胃がん検診受診者名簿（1～20）'!W10),\"\",'胃がん検診受診者名簿（1～20）'!W10)","v":""},{"$f":"IF(ISBLANK('胃がん検診受診者名簿（1～20）'!X10),\"\",'胃がん検診受診者名簿（1～20）'!X10)","v":""},null,{"$f":"IF(ISBLANK('胃がん検診受診者名簿（1～20）'!Z10),\"\",'胃がん検診受診者名簿（1～20）'!Z10)","v":""},{"$f":"IF(ISBLANK('胃がん検診受診者名簿（1～20）'!AA10),\"\",'胃がん検診受診者名簿（1～20）'!AA10)","v":""},null,null,null,null,null,null,{"$f":"IF(ISBLANK('胃がん検診受診者名簿（1～20）'!AH10),\"\",'胃がん検診受診者名簿（1～20）'!AH10)","v":""},null,null,{"$f":"IF(ISBLANK('胃がん検診受診者名簿（1～20）'!AK10),\"\",'胃がん検診受診者名簿（1～20）'!AK10)","v":""},null,{"$f":"IF(ISBLANK('胃がん検診受診者名簿（1～20）'!AM10),\"\",'胃がん検診受診者名簿（1～20）'!AM10)","v":""},null,null,1,{"$f":"IF(ISBLANK('胃がん検診受診者名簿（1～20）'!AQ10),\"\",'胃がん検診受診者名簿（1～20）'!AQ10)","v":""},{"$f":"IF(ISBLANK('胃がん検診受診者名簿（1～20）'!AR10),\"\",'胃がん検診受診者名簿（1～20）'!AR10)","v":""},null,{"$f":"IF(ISBLANK('胃がん検診受診者名簿（1～20）'!AT10),\"\",'胃がん検診受診者名簿（1～20）'!AT10)","v":""},{"$f":"IF(ISBLANK('胃がん検診受診者名簿（1～20）'!AU10),\"\",'胃がん検診受診者名簿（1～20）'!AU10)","v":""},null,null,null,null,null,null,{"$f":"IF(ISBLANK('胃がん検診受診者名簿（1～20）'!BB10),\"\",'胃がん検診受診者名簿（1～20）'!BB10)","v":""},null,null,{"$f":"IF(ISBLANK('胃がん検診受診者名簿（1～20）'!BE10),\"\",'胃がん検診受診者名簿（1～20）'!BE10)","v":""},null,{"$f":"IF(ISBLANK('胃がん検診受診者名簿（1～20）'!BG10),\"\",'胃がん検診受診者名簿（1～20）'!BG10)","v":""}]
[2,null,null,null,null,null,null,false,false,false,null,null,{"$f":"IF(L11=1,\"胃がんなし\",IF(L11=2,\"胃がん疑い\",IF(L11=3,\"胃がんあり\",IF(L11=4,\"胃がん以外の悪性病変\",\"\"))))","v":""},null,null,{"$f":"IF(O11=1,\"70歳以上\",IF(O11=2,\"後期高齢者医療制度\",IF(O11=3,\"生活保護　世帯\",IF(O11=4,\"非課税世帯\",\"\"))))","v":""},null,null,null,null,null,2,{"$f":"IF(ISBLANK('胃がん検診受診者名簿（1～20）'!B11),\"\",'胃がん検診受診者名簿（1～20）'!B11)","v":""},{"$f":"IF(ISBLANK('胃がん検診受診者名簿（1～20）'!C11),\"\",'胃がん検診受診者名簿（1～20）'!C11)","v":""},null,{"$f":"IF(ISBLANK('胃がん検診受診者名簿（1～20）'!E11),\"\",'胃がん検診受診者名簿（1～20）'!E11)","v":""},{"$f":"IF(ISBLANK('胃がん検診受診者名簿（1～20）'!F11),\"\",'胃がん検診受診者名簿（1～20）'!F11)","v":""},null,null,null,null,null,null,{"$f":"IF(ISBLANK('胃がん検診受診者名簿（1～20）'!M11),\"\",'胃がん検診受診者名簿（1～20）'!M11)","v":""},null,null,{"$f":"IF(ISBLANK('胃がん検診受診者名簿（1～20）'!P11),\"\",'胃がん検診受診者名簿（1～20）'!P11)","v":""},null,{"$f":"IF(ISBLANK('胃がん検診受診者名簿（1～20）'!R11),\"\",'胃がん検診受診者名簿（1～20）'!R11)","v":""},null,null,2,{"$f":"IF(ISBLANK('胃がん検診受診者名簿（1～20）'!W11),\"\",'胃がん検診受診者名簿（1～20）'!W11)","v":""},{"$f":"IF(ISBLANK('胃がん検診受診者名簿（1～20）'!X11),\"\",'胃がん検診受診者名簿（1～20）'!X11)","v":""},null,{"$f":"IF(ISBLANK('胃がん検診受診者名簿（1～20）'!Z11),\"\",'胃がん検診受診者名簿（1～20）'!Z11)","v":""},{"$f":"IF(ISBLANK('胃がん検診受診者名簿（1～20）'!AA11),\"\",'胃がん検診受診者名簿（1～20）'!AA11)","v":""},null,null,null,null,null,null,{"$f":"IF(ISBLANK('胃がん検診受診者名簿（1～20）'!AH11),\"\",'胃がん検診受診者名簿（1～20）'!AH11)","v":""},null,null,{"$f":"IF(ISBLANK('胃がん検診受診者名簿（1～20）'!AK11),\"\",'胃がん検診受診者名簿（1～20）'!AK11)","v":""},null,{"$f":"IF(ISBLANK('胃がん検診受診者名簿（1～20）'!AM11),\"\",'胃がん検診受診者名簿（1～20）'!AM11)","v":""},null,null,2,{"$f":"IF(ISBLANK('胃がん検診受診者名簿（1～20）'!AQ11),\"\",'胃がん検診受診者名簿（1～20）'!AQ11)","v":""},{"$f":"IF(ISBLANK('胃がん検診受診者名簿（1～20）'!AR11),\"\",'胃がん検診受診者名簿（1～20）'!AR11)","v":""},null,{"$f":"IF(ISBLANK('胃がん検診受診者名簿（1～20）'!AT11),\"\",'胃がん検診受診者名簿（1～20）'!AT11)","v":""},{"$f":"IF(ISBLANK('胃がん検診受診者名簿（1～20）'!AU11),\"\",'胃がん検診受診者名簿（1～20）'!AU11)","v":""},null,null,null,null,null,null,{"$f":"IF(ISBLANK('胃がん検診受診者名簿（1～20）'!BB11),\"\",'胃がん検診受診者名簿（1～20）'!BB11)","v":""},null,null,{"$f":"IF(ISBLANK('胃がん検診受診者名簿（1～20）'!BE11),\"\",'胃がん検診受診者名簿（1～20）'!BE11)","v":""},null,{"$f":"IF(ISBLANK('胃がん検診受診者名簿（1～20）'!BG11),\"\",'胃がん検診受診者名簿（1～20）'!BG11)","v":""}]
[3,null,null,null,null,null,null,false,false,false,null,null,"",null,null,"",null,null,null,null,null,3,{"$f":"IF(ISBLANK('胃がん検診受診者名簿（1～20）'!B12),\"\",'胃がん検診受診者名簿（1～20）'!B12)","v":""},{"$f":"IF(ISBLANK('胃がん検診受診者名簿（1～20）'!C12),\"\",'胃がん検診受診者名簿（1～20）'!C12)","v":""},null,{"$f":"IF(ISBLANK('胃がん検診受診者名簿（1～20）'!E12),\"\",'胃がん検診受診者名簿（1～20）'!E12)","v":""},{"$f":"IF(ISBLANK('胃がん検診受診者名簿（1～20）'!F12),\"\",'胃がん検診受診者名簿（1～20）'!F12)","v":""},null,null,null,null,null,null,{"$f":"IF(ISBLANK('胃がん検診受診者名簿（1～20）'!M12),\"\",'胃がん検診受診者名簿（1～20）'!M12)","v":""},null,null,{"$f":"IF(ISBLANK('胃がん検診受診者名簿（1～20）'!P12),\"\",'胃がん検診受診者名簿（1～20）'!P12)","v":""},null,{"$f":"IF(ISBLANK('胃がん検診受診者名簿（1～20）'!R12),\"\",'胃がん検診受診者名簿（1～20）'!R12)","v":""},null,null,3,{"$f":"IF(ISBLANK('胃がん検診受診者名簿（1～20）'!W12),\"\",'胃がん検診受診者名簿（1～20）'!W12)","v":""},{"$f":"IF(ISBLANK('胃がん検診受診者名簿（1～20）'!X12),\"\",'胃がん検診受診者名簿（1～20）'!X12)","v":""},null,{"$f":"IF(ISBLANK('胃がん検診受診者名簿（1～20）'!Z12),\"\",'胃がん検診受診者名簿（1～20）'!Z12)","v":""},{"$f":"IF(ISBLANK('胃がん検診受診者名簿（1～20）'!AA12),\"\",'胃がん検診受診者名簿（1～20）'!AA12)","v":""},null,null,null,null,null,null,{"$f":"IF(ISBLANK('胃がん検診受診者名簿（1～20）'!AH12),\"\",'胃がん検診受診者名簿（1～20）'!AH12)","v":""},null,null,{"$f":"IF(ISBLANK('胃がん検診受診者名簿（1～20）'!AK12),\"\",'胃がん検診受診者名簿（1～20）'!AK12)","v":""},null,{"$f":"IF(ISBLANK('胃がん検診受診者名簿（1～20）'!AM12),\"\",'胃がん検診受診者名簿（1～20）'!AM12)","v":""},null,null,3,{"$f":"IF(ISBLANK('胃がん検診受診者名簿（1～20）'!AQ12),\"\",'胃がん検診受診者名簿（1～20）'!AQ12)","v":""},{"$f":"IF(ISBLANK('胃がん検診受診者名簿（1～20）'!AR12),\"\",'胃がん検診受診者名簿（1～20）'!AR12)","v":""},null,{"$f":"IF(ISBLANK('胃がん検診受診者名簿（1～20）'!AT12),\"\",'胃がん検診受診者名簿（1～20）'!AT12)","v":""},{"$f":"IF(ISBLANK('胃がん検診受診者名簿（1～20）'!AU12),\"\",'胃がん検診受診者名簿（1～20）'!AU12)","v":""},null,null,null,null,null,null,{"$f":"IF(ISBLANK('胃がん検診受診者名簿（1～20）'!BB12),\"\",'胃がん検診受診者名簿（1～20）'!BB12)","v":""},null,null,{"$f":"IF(ISBLANK('胃がん検診受診者名簿（1～20）'!BE12),\"\",'胃がん検診受診者名簿（1～20）'!BE12)","v":""},null,{"$f":"IF(ISBLANK('胃がん検診受診者名簿（1～20）'!BG12),\"\",'胃がん検診受診者名簿（1～20）'!BG12)","v":""}]
[4,null,null,null,null,null,null,false,false,false,null,null,"",null,null,"",null,null,null,null,null,4,{"$f":"IF(ISBLANK('胃がん検診受診者名簿（1～20）'!B13),\"\",'胃がん検診受診者名簿（1～20）'!B13)","v":""},{"$f":"IF(ISBLANK('胃がん検診受診者名簿（1～20）'!C13),\"\",'胃がん検診受診者名簿（1～20）'!C13)","v":""},null,{"$f":"IF(ISBLANK('胃がん検診受診者名簿（1～20）'!E13),\"\",'胃がん検診受診者名簿（1～20）'!E13)","v":""},{"$f":"IF(ISBLANK('胃がん検診受診者名簿（1～20）'!F13),\"\",'胃がん検診受診者名簿（1～20）'!F13)","v":""},null,null,null,null,null,null,{"$f":"IF(ISBLANK('胃がん検診受診者名簿（1～20）'!M13),\"\",'胃がん検診受診者名簿（1～20）'!M13)","v":""},null,null,{"$f":"IF(ISBLANK('胃がん検診受診者名簿（1～20）'!P13),\"\",'胃がん検診受診者名簿（1～20）'!P13)","v":""},null,{"$f":"IF(ISBLANK('胃がん検診受診者名簿（1～20）'!R13),\"\",'胃がん検診受診者名簿（1～20）'!R13)","v":""},null,null,4,{"$f":"IF(ISBLANK('胃がん検診受診者名簿（1～20）'!W13),\"\",'胃がん検診受診者名簿（1～20）'!W13)","v":""},{"$f":"IF(ISBLANK('胃がん検診受診者名簿（1～20）'!X13),\"\",'胃がん検診受診者名簿（1～20）'!X13)","v":""},null,{"$f":"IF(ISBLANK('胃がん検診受診者名簿（1～20）'!Z13),\"\",'胃がん検診受診者名簿（1～20）'!Z13)","v":""},{"$f":"IF(ISBLANK('胃がん検診受診者名簿（1～20）'!AA13),\"\",'胃がん検診受診者名簿（1～20）'!AA13)","v":""},null,null,null,null,null,null,{"$f":"IF(ISBLANK('胃がん検診受診者名簿（1～20）'!AH13),\"\",'胃がん検診受診者名簿（1～20）'!AH13)","v":""},null,null,{"$f":"IF(ISBLANK('胃がん検診受診者名簿（1～20）'!AK13),\"\",'胃がん検診受診者名簿（1～20）'!AK13)","v":""},null,{"$f":"IF(ISBLANK('胃がん検診受診者名簿（1～20）'!AM13),\"\",'胃がん検診受診者名簿（1～20）'!AM13)","v":""},null,null,4,{"$f":"IF(ISBLANK('胃がん検診受診者名簿（1～20）'!AQ13),\"\",'胃がん検診受診者名簿（1～20）'!AQ13)","v":""},{"$f":"IF(ISBLANK('胃がん検診受診者名簿（1～20）'!AR13),\"\",'胃がん検診受診者名簿（1～20）'!AR13)","v":""},null,{"$f":"IF(ISBLANK('胃がん検診受診者名簿（1～20）'!AT13),\"\",'胃がん検診受診者名簿（1～20）'!AT13)","v":""},{"$f":"IF(ISBLANK('胃がん検診受診者名簿（1～20）'!AU13),\"\",'胃がん検診受診者名簿（1～20）'!AU13)","v":""},null,null,null,null,null,null,{"$f":"IF(ISBLANK('胃がん検診受診者名簿（1～20）'!BB13),\"\",'胃がん検診受診者名簿（1～20）'!BB13)","v":""},null,null,{"$f":"IF(ISBLANK('胃がん検診受診者名簿（1～20）'!BE13),\"\",'胃がん検診受診者名簿（1～20）'!BE13)","v":""},null,{"$f":"IF(ISBLANK('胃がん検診受診者名簿（1～20）'!BG13),\"\",'胃がん検診受診者名簿（1～20）'!BG13)","v":""}]
[5,null,null,null,null,null,null,false,false,false,null,null,"",null,null,"",null,null,null,null,null,5,{"$f":"IF(ISBLANK('胃がん検診受診者名簿（1～20）'!B14),\"\",'胃がん検診受診者名簿（1～20）'!B14)","v":""},{"$f":"IF(ISBLANK('胃がん検診受診者名簿（1～20）'!C14),\"\",'胃がん検診受診者名簿（1～20）'!C14)","v":""},null,{"$f":"IF(ISBLANK('胃がん検診受診者名簿（1～20）'!E14),\"\",'胃がん検診受診者名簿（1～20）'!E14)","v":""},{"$f":"IF(ISBLANK('胃がん検診受診者名簿（1～20）'!F14),\"\",'胃がん検診受診者名簿（1～20）'!F14)","v":""},null,null,null,null,null,null,{"$f":"IF(ISBLANK('胃がん検診受診者名簿（1～20）'!M14),\"\",'胃がん検診受診者名簿（1～20）'!M14)","v":""},null,null,{"$f":"IF(ISBLANK('胃がん検診受診者名簿（1～20）'!P14),\"\",'胃がん検診受診者名簿（1～20）'!P14)","v":""},null,{"$f":"IF(ISBLANK('胃がん検診受診者名簿（1～20）'!R14),\"\",'胃がん検診受診者名簿（1～20）'!R14)","v":""},null,null,5,{"$f":"IF(ISBLANK('胃がん検診受診者名簿（1～20）'!W14),\"\",'胃がん検診受診者名簿（1～20）'!W14)","v":""},{"$f":"IF(ISBLANK('胃がん検診受診者名簿（1～20）'!X14),\"\",'胃がん検診受診者名簿（1～20）'!X14)","v":""},null,{"$f":"IF(ISBLANK('胃がん検診受診者名簿（1～20）'!Z14),\"\",'胃がん検診受診者名簿（1～20）'!Z14)","v":""},{"$f":"IF(ISBLANK('胃がん検診受診者名簿（1～20）'!AA14),\"\",'胃がん検診受診者名簿（1～20）'!AA14)","v":""},null,null,null,null,null,null,{"$f":"IF(ISBLANK('胃がん検診受診者名簿（1～20）'!AH14),\"\",'胃がん検診受診者名簿（1～20）'!AH14)","v":""},null,null,{"$f":"IF(ISBLANK('胃がん検診受診者名簿（1～20）'!AK14),\"\",'胃がん検診受診者名簿（1～20）'!AK14)","v":""},null,{"$f":"IF(ISBLANK('胃がん検診受診者名簿（1～20）'!AM14),\"\",'胃がん検診受診者名簿（1～20）'!AM14)","v":""},null,null,5,{"$f":"IF(ISBLANK('胃がん検診受診者名簿（1～20）'!AQ14),\"\",'胃がん検診受診者名簿（1～20）'!AQ14)","v":""},{"$f":"IF(ISBLANK('胃がん検診受診者名簿（1～20）'!AR14),\"\",'胃がん検診受診者名簿（1～20）'!AR14)","v":""},null,{"$f":"IF(ISBLANK('胃がん検診受診者名簿（1～20）'!AT14),\"\",'胃がん検診受診者名簿（1～20）'!AT14)","v":""},{"$f":"IF(ISBLANK('胃がん検診受診者名簿（1～20）'!AU14),\"\",'胃がん検診受診者名簿（1～20）'!AU14)","v":""},null,null,null,null,null,null,{"$f":"IF(ISBLANK('胃がん検診受診者名簿（1～20）'!BB14),\"\",'胃がん検診受診者名簿（1～20）'!BB14)","v":""},null,null,{"$f":"IF(ISBLANK('胃がん検診受診者名簿（1～20）'!BE14),\"\",'胃がん検診受診者名簿（1～20）'!BE14)","v":""},null,{"$f":"IF(ISBLANK('胃がん検診受診者名簿（1～20）'!BG14),\"\",'胃がん検診受診者名簿（1～20）'!BG14)","v":""}]
[6,null,null,null,null,null,null,false,false,false,null,null,"",null,null,"",null,null,null,null,null,6,{"$f":"IF(ISBLANK('胃がん検診受診者名簿（1～20）'!B15),\"\",'胃がん検診受診者名簿（1～20）'!B15)","v":""},{"$f":"IF(ISBLANK('胃がん検診受診者名簿（1～20）'!C15),\"\",'胃がん検診受診者名簿（1～20）'!C15)","v":""},null,{"$f":"IF(ISBLANK('胃がん検診受診者名簿（1～20）'!E15),\"\",'胃がん検診受診者名簿（1～20）'!E15)","v":""},{"$f":"IF(ISBLANK('胃がん検診受診者名簿（1～20）'!F15),\"\",'胃がん検診受診者名簿（1～20）'!F15)","v":""},null,null,null,null,null,null,{"$f":"IF(ISBLANK('胃がん検診受診者名簿（1～20）'!M15),\"\",'胃がん検診受診者名簿（1～20）'!M15)","v":""},null,null,{"$f":"IF(ISBLANK('胃がん検診受診者名簿（1～20）'!P15),\"\",'胃がん検診受診者名簿（1～20）'!P15)","v":""},null,{"$f":"IF(ISBLANK('胃がん検診受診者名簿（1～20）'!R15),\"\",'胃がん検診受診者名簿（1～20）'!R15)","v":""},null,null,6,{"$f":"IF(ISBLANK('胃がん検診受診者名簿（1～20）'!W15),\"\",'胃がん検診受診者名簿（1～20）'!W15)","v":""},{"$f":"IF(ISBLANK('胃がん検診受診者名簿（1～20）'!X15),\"\",'胃がん検診受診者名簿（1～20）'!X15)","v":""},null,{"$f":"IF(ISBLANK('胃がん検診受診者名簿（1～20）'!Z15),\"\",'胃がん検診受診者名簿（1～20）'!Z15)","v":""},{"$f":"IF(ISBLANK('胃がん検診受診者名簿（1～20）'!AA15),\"\",'胃がん検診受診者名簿（1～20）'!AA15)","v":""},null,null,null,null,null,null,{"$f":"IF(ISBLANK('胃がん検診受診者名簿（1～20）'!AH15),\"\",'胃がん検診受診者名簿（1～20）'!AH15)","v":""},null,null,{"$f":"IF(ISBLANK('胃がん検診受診者名簿（1～20）'!AK15),\"\",'胃がん検診受診者名簿（1～20）'!AK15)","v":""},null,{"$f":"IF(ISBLANK('胃がん検診受診者名簿（1～20）'!AM15),\"\",'胃がん検診受診者名簿（1～20）'!AM15)","v":""},null,null,6,{"$f":"IF(ISBLANK('胃がん検診受診者名簿（1～20）'!AQ15),\"\",'胃がん検診受診者名簿（1～20）'!AQ15)","v":""},{"$f":"IF(ISBLANK('胃がん検診受診者名簿（1～20）'!AR15),\"\",'胃がん検診受診者名簿（1～20）'!AR15)","v":""},null,{"$f":"IF(ISBLANK('胃がん検診受診者名簿（1～20）'!AT15),\"\",'胃がん検診受診者名簿（1～20）'!AT15)","v":""},{"$f":"IF(ISBLANK('胃がん検診受診者名簿（1～20）'!AU15),\"\",'胃がん検診受診者名簿（1～20）'!AU15)","v":""},null,null,null,null,null,null,{"$f":"IF(ISBLANK('胃がん検診受診者名簿（1～20）'!BB15),\"\",'胃がん検診受診者名簿（1～20）'!BB15)","v":""},null,null,{"$f":"IF(ISBLANK('胃がん検診受診者名簿（1～20）'!BE15),\"\",'胃がん検診受診者名簿（1～20）'!BE15)","v":""},null,{"$f":"IF(ISBLANK('胃がん検診受診者名簿（1～20）'!BG15),\"\",'胃がん検診受診者名簿（1～20）'!BG15)","v":""}]
[7,null,null,null,null,null,null,false,false,false,null,null,"",null,null,"",null,null,null,null,null,7,{"$f":"IF(ISBLANK('胃がん検診受診者名簿（1～20）'!B16),\"\",'胃がん検診受診者名簿（1～20）'!B16)","v":""},{"$f":"IF(ISBLANK('胃がん検診受診者名簿（1～20）'!C16),\"\",'胃がん検診受診者名簿（1～20）'!C16)","v":""},null,{"$f":"IF(ISBLANK('胃がん検診受診者名簿（1～20）'!E16),\"\",'胃がん検診受診者名簿（1～20）'!E16)","v":""},{"$f":"IF(ISBLANK('胃がん検診受診者名簿（1～20）'!F16),\"\",'胃がん検診受診者名簿（1～20）'!F16)","v":""},null,null,null,null,null,null,{"$f":"IF(ISBLANK('胃がん検診受診者名簿（1～20）'!M16),\"\",'胃がん検診受診者名簿（1～20）'!M16)","v":""},null,null,{"$f":"IF(ISBLANK('胃がん検診受診者名簿（1～20）'!P16),\"\",'胃がん検診受診者名簿（1～20）'!P16)","v":""},null,{"$f":"IF(ISBLANK('胃がん検診受診者名簿（1～20）'!R16),\"\",'胃がん検診受診者名簿（1～20）'!R16)","v":""},null,null,7,{"$f":"IF(ISBLANK('胃がん検診受診者名簿（1～20）'!W16),\"\",'胃がん検診受診者名簿（1～20）'!W16)","v":""},{"$f":"IF(ISBLANK('胃がん検診受診者名簿（1～20）'!X16),\"\",'胃がん検診受診者名簿（1～20）'!X16)","v":""},null,{"$f":"IF(ISBLANK('胃がん検診受診者名簿（1～20）'!Z16),\"\",'胃がん検診受診者名簿（1～20）'!Z16)","v":""},{"$f":"IF(ISBLANK('胃がん検診受診者名簿（1～20）'!AA16),\"\",'胃がん検診受診者名簿（1～20）'!AA16)","v":""},null,null,null,null,null,null,{"$f":"IF(ISBLANK('胃がん検診受診者名簿（1～20）'!AH16),\"\",'胃がん検診受診者名簿（1～20）'!AH16)","v":""},null,null,{"$f":"IF(ISBLANK('胃がん検診受診者名簿（1～20）'!AK16),\"\",'胃がん検診受診者名簿（1～20）'!AK16)","v":""},null,{"$f":"IF(ISBLANK('胃がん検診受診者名簿（1～20）'!AM16),\"\",'胃がん検診受診者名簿（1～20）'!AM16)","v":""},null,null,7,{"$f":"IF(ISBLANK('胃がん検診受診者名簿（1～20）'!AQ16),\"\",'胃がん検診受診者名簿（1～20）'!AQ16)","v":""},{"$f":"IF(ISBLANK('胃がん検診受診者名簿（1～20）'!AR16),\"\",'胃がん検診受診者名簿（1～20）'!AR16)","v":""},null,{"$f":"IF(ISBLANK('胃がん検診受診者名簿（1～20）'!AT16),\"\",'胃がん検診受診者名簿（1～20）'!AT16)","v":""},{"$f":"IF(ISBLANK('胃がん検診受診者名簿（1～20）'!AU16),\"\",'胃がん検診受診者名簿（1～20）'!AU16)","v":""},null,null,null,null,null,null,{"$f":"IF(ISBLANK('胃がん検診受診者名簿（1～20）'!BB16),\"\",'胃がん検診受診者名簿（1～20）'!BB16)","v":""},null,null,{"$f":"IF(ISBLANK('胃がん検診受診者名簿（1～20）'!BE16),\"\",'胃がん検診受診者名簿（1～20）'!BE16)","v":""},null,{"$f":"IF(ISBLANK('胃がん検診受診者名簿（1～20）'!BG16),\"\",'胃がん検診受診者名簿（1～20）'!BG16)","v":""}]
[8,null,null,null,null,null,null,false,false,false,null,null,"",null,null,"",null,null,null,null,null,8,{"$f":"IF(ISBLANK('胃がん検診受診者名簿（1～20）'!B17),\"\",'胃がん検診受診者名簿（1～20）'!B17)","v":""},{"$f":"IF(ISBLANK('胃がん検診受診者名簿（1～20）'!C17),\"\",'胃がん検診受診者名簿（1～20）'!C17)","v":""},null,{"$f":"IF(ISBLANK('胃がん検診受診者名簿（1～20）'!E17),\"\",'胃がん検診受診者名簿（1～20）'!E17)","v":""},{"$f":"IF(ISBLANK('胃がん検診受診者名簿（1～20）'!F17),\"\",'胃がん検診受診者名簿（1～20）'!F17)","v":""},null,null,null,null,null,null,{"$f":"IF(ISBLANK('胃がん検診受診者名簿（1～20）'!M17),\"\",'胃がん検診受診者名簿（1～20）'!M17)","v":""},null,null,{"$f":"IF(ISBLANK('胃がん検診受診者名簿（1～20）'!P17),\"\",'胃がん検診受診者名簿（1～20）'!P17)","v":""},null,{"$f":"IF(ISBLANK('胃がん検診受診者名簿（1～20）'!R17),\"\",'胃がん検診受診者名簿（1～20）'!R17)","v":""},null,null,8,{"$f":"IF(ISBLANK('胃がん検診受診者名簿（1～20）'!W17),\"\",'胃がん検診受診者名簿（1～20）'!W17)","v":""},{"$f":"IF(ISBLANK('胃がん検診受診者名簿（1～20）'!X17),\"\",'胃がん検診受診者名簿（1～20）'!X17)","v":""},null,{"$f":"IF(ISBLANK('胃がん検診受診者名簿（1～20）'!Z17),\"\",'胃がん検診受診者名簿（1～20）'!Z17)","v":""},{"$f":"IF(ISBLANK('胃がん検診受診者名簿（1～20）'!AA17),\"\",'胃がん検診受診者名簿（1～20）'!AA17)","v":""},null,null,null,null,null,null,{"$f":"IF(ISBLANK('胃がん検診受診者名簿（1～20）'!AH17),\"\",'胃がん検診受診者名簿（1～20）'!AH17)","v":""},null,null,{"$f":"IF(ISBLANK('胃がん検診受診者名簿（1～20）'!AK17),\"\",'胃がん検診受診者名簿（1～20）'!AK17)","v":""},null,{"$f":"IF(ISBLANK('胃がん検診受診者名簿（1～20）'!AM17),\"\",'胃がん検診受診者名簿（1～20）'!AM17)","v":""},null,null,8,{"$f":"IF(ISBLANK('胃がん検診受診者名簿（1～20）'!AQ17),\"\",'胃がん検診受診者名簿（1～20）'!AQ17)","v":""},{"$f":"IF(ISBLANK('胃がん検診受診者名簿（1～20）'!AR17),\"\",'胃がん検診受診者名簿（1～20）'!AR17)","v":""},null,{"$f":"IF(ISBLANK('胃がん検診受診者名簿（1～20）'!AT17),\"\",'胃がん検診受診者名簿（1～20）'!AT17)","v":""},{"$f":"IF(ISBLANK('胃がん検診受診者名簿（1～20）'!AU17),\"\",'胃がん検診受診者名簿（1～20）'!AU17)","v":""},null,null,null,null,null,null,{"$f":"IF(ISBLANK('胃がん検診受診者名簿（1～20）'!BB17),\"\",'胃がん検診受診者名簿（1～20）'!BB17)","v":""},null,null,{"$f":"IF(ISBLANK('胃がん検診受診者名簿（1～20）'!BE17),\"\",'胃がん検診受診者名簿（1～20）'!BE17)","v":""},null,{"$f":"IF(ISBLANK('胃がん検診受診者名簿（1～20）'!BG17),\"\",'胃がん検診受診者名簿（1～20）'!BG17)","v":""}]
[9,null,null,null,null,null,null,false,false,false,null,null,"",null,null,"",null,null,null,null,null,9,{"$f":"IF(ISBLANK('胃がん検診受診者名簿（1～20）'!B18),\"\",'胃がん検診受診者名簿（1～20）'!B18)","v":""},{"$f":"IF(ISBLANK('胃がん検診受診者名簿（1～20）'!C18),\"\",'胃がん検診受診者名簿（1～20）'!C18)","v":""},null,{"$f":"IF(ISBLANK('胃がん検診受診者名簿（1～20）'!E18),\"\",'胃がん検診受診者名簿（1～20）'!E18)","v":""},{"$f":"IF(ISBLANK('胃がん検診受診者名簿（1～20）'!F18),\"\",'胃がん検診受診者名簿（1～20）'!F18)","v":""},null,null,null,null,null,null,{"$f":"IF(ISBLANK('胃がん検診受診者名簿（1～20）'!M18),\"\",'胃がん検診受診者名簿（1～20）'!M18)","v":""},null,null,{"$f":"IF(ISBLANK('胃がん検診受診者名簿（1～20）'!P18),\"\",'胃がん検診受診者名簿（1～20）'!P18)","v":""},null,{"$f":"IF(ISBLANK('胃がん検診受診者名簿（1～20）'!R18),\"\",'胃がん検診受診者名簿（1～20）'!R18)","v":""},null,null,9,{"$f":"IF(ISBLANK('胃がん検診受診者名簿（1～20）'!W18),\"\",'胃がん検診受診者名簿（1～20）'!W18)","v":""},{"$f":"IF(ISBLANK('胃がん検診受診者名簿（1～20）'!X18),\"\",'胃がん検診受診者名簿（1～20）'!X18)","v":""},null,{"$f":"IF(ISBLANK('胃がん検診受診者名簿（1～20）'!Z18),\"\",'胃がん検診受診者名簿（1～20）'!Z18)","v":""},{"$f":"IF(ISBLANK('胃がん検診受診者名簿（1～20）'!AA18),\"\",'胃がん検診受診者名簿（1～20）'!AA18)","v":""},null,null,null,null,null,null,{"$f":"IF(ISBLANK('胃がん検診受診者名簿（1～20）'!AH18),\"\",'胃がん検診受診者名簿（1～20）'!AH18)","v":""},null,null,{"$f":"IF(ISBLANK('胃がん検診受診者名簿（1～20）'!AK18),\"\",'胃がん検診受診者名簿（1～20）'!AK18)","v":""},null,{"$f":"IF(ISBLANK('胃がん検診受診者名簿（1～20）'!AM18),\"\",'胃がん検診受診者名簿（1～20）'!AM18)","v":""},null,null,9,{"$f":"IF(ISBLANK('胃がん検診受診者名簿（1～20）'!AQ18),\"\",'胃がん検診受診者名簿（1～20）'!AQ18)","v":""},{"$f":"IF(ISBLANK('胃がん検診受診者名簿（1～20）'!AR18),\"\",'胃がん検診受診者名簿（1～20）'!AR18)","v":""},null,{"$f":"IF(ISBLANK('胃がん検診受診者名簿（1～20）'!AT18),\"\",'胃がん検診受診者名簿（1～20）'!AT18)","v":""},{"$f":"IF(ISBLANK('胃がん検診受診者名簿（1～20）'!AU18),\"\",'胃がん検診受診者名簿（1～20）'!AU18)","v":""},null,null,null,null,null,null,{"$f":"IF(ISBLANK('胃がん検診受診者名簿（1～20）'!BB18),\"\",'胃がん検診受診者名簿（1～20）'!BB18)","v":""},null,null,{"$f":"IF(ISBLANK('胃がん検診受診者名簿（1～20）'!BE18),\"\",'胃がん検診受診者名簿（1～20）'!BE18)","v":""},null,{"$f":"IF(ISBLANK('胃がん検診受診者名簿（1～20）'!BG18),\"\",'胃がん検診受診者名簿（1～20）'!BG18)","v":""}]
[10,null,null,null,null,null,null,false,false,false,null,null,"",null,null,"",null,null,null,null,null,10,{"$f":"IF(ISBLANK('胃がん検診受診者名簿（1～20）'!B19),\"\",'胃がん検診受診者名簿（1～20）'!B19)","v":""},{"$f":"IF(ISBLANK('胃がん検診受診者名簿（1～20）'!C19),\"\",'胃がん検診受診者名簿（1～20）'!C19)","v":""},null,{"$f":"IF(ISBLANK('胃がん検診受診者名簿（1～20）'!E19),\"\",'胃がん検診受診者名簿（1～20）'!E19)","v":""},{"$f":"IF(ISBLANK('胃がん検診受診者名簿（1～20）'!F19),\"\",'胃がん検診受診者名簿（1～20）'!F19)","v":""},null,null,null,null,null,null,{"$f":"IF(ISBLANK('胃がん検診受診者名簿（1～20）'!M19),\"\",'胃がん検診受診者名簿（1～20）'!M19)","v":""},null,null,{"$f":"IF(ISBLANK('胃がん検診受診者名簿（1～20）'!P19),\"\",'胃がん検診受診者名簿（1～20）'!P19)","v":""},null,{"$f":"IF(ISBLANK('胃がん検診受診者名簿（1～20）'!R19),\"\",'胃がん検診受診者名簿（1～20）'!R19)","v":""},null,null,10,{"$f":"IF(ISBLANK('胃がん検診受診者名簿（1～20）'!W19),\"\",'胃がん検診受診者名簿（1～20）'!W19)","v":""},{"$f":"IF(ISBLANK('胃がん検診受診者名簿（1～20）'!X19),\"\",'胃がん検診受診者名簿（1～20）'!X19)","v":""},null,{"$f":"IF(ISBLANK('胃がん検診受診者名簿（1～20）'!Z19),\"\",'胃がん検診受診者名簿（1～20）'!Z19)","v":""},{"$f":"IF(ISBLANK('胃がん検診受診者名簿（1～20）'!AA19),\"\",'胃がん検診受診者名簿（1～20）'!AA19)","v":""},null,null,null,null,null,null,{"$f":"IF(ISBLANK('胃がん検診受診者名簿（1～20）'!AH19),\"\",'胃がん検診受診者名簿（1～20）'!AH19)","v":""},null,null,{"$f":"IF(ISBLANK('胃がん検診受診者名簿（1～20）'!AK19),\"\",'胃がん検診受診者名簿（1～20）'!AK19)","v":""},null,{"$f":"IF(ISBLANK('胃がん検診受診者名簿（1～20）'!AM19),\"\",'胃がん検診受診者名簿（1～20）'!AM19)","v":""},null,null,10,{"$f":"IF(ISBLANK('胃がん検診受診者名簿（1～20）'!AQ19),\"\",'胃がん検診受診者名簿（1～20）'!AQ19)","v":""},{"$f":"IF(ISBLANK('胃がん検診受診者名簿（1～20）'!AR19),\"\",'胃がん検診受診者名簿（1～20）'!AR19)","v":""},null,{"$f":"IF(ISBLANK('胃がん検診受診者名簿（1～20）'!AT19),\"\",'胃がん検診受診者名簿（1～20）'!AT19)","v":""},{"$f":"IF(ISBLANK('胃がん検診受診者名簿（1～20）'!AU19),\"\",'胃がん検診受診者名簿（1～20）'!AU19)","v":""},null,null,null,null,null,null,{"$f":"IF(ISBLANK('胃がん検診受診者名簿（1～20）'!BB19),\"\",'胃がん検診受診者名簿（1～20）'!BB19)","v":""},null,null,{"$f":"IF(ISBLANK('胃がん検診受診者名簿（1～20）'!BE19),\"\",'胃がん検診受診者名簿（1～20）'!BE19)","v":""},null,{"$f":"IF(ISBLANK('胃がん検診受診者名簿（1～20）'!BG19),\"\",'胃がん検診受診者名簿（1～20）'!BG19)","v":""}]
[11,null,null,null,null,null,null,false,false,false,null,null,"",null,null,"",null,null,null,null,null,11,{"$f":"IF(ISBLANK('胃がん検診受診者名簿（1～20）'!B20),\"\",'胃がん検診受診者名簿（1～20）'!B20)","v":""},{"$f":"IF(ISBLANK('胃がん検診受診者名簿（1～20）'!C20),\"\",'胃がん検診受診者名簿（1～20）'!C20)","v":""},null,{"$f":"IF(ISBLANK('胃がん検診受診者名簿（1～20）'!E20),\"\",'胃がん検診受診者名簿（1～20）'!E20)","v":""},{"$f":"IF(ISBLANK('胃がん検診受診者名簿（1～20）'!F20),\"\",'胃がん検診受診者名簿（1～20）'!F20)","v":""},null,null,null,null,null,null,{"$f":"IF(ISBLANK('胃がん検診受診者名簿（1～20）'!M20),\"\",'胃がん検診受診者名簿（1～20）'!M20)","v":""},null,null,{"$f":"IF(ISBLANK('胃がん検診受診者名簿（1～20）'!P20),\"\",'胃がん検診受診者名簿（1～20）'!P20)","v":""},null,{"$f":"IF(ISBLANK('胃がん検診受診者名簿（1～20）'!R20),\"\",'胃がん検診受診者名簿（1～20）'!R20)","v":""},null,null,11,{"$f":"IF(ISBLANK('胃がん検診受診者名簿（1～20）'!W20),\"\",'胃がん検診受診者名簿（1～20）'!W20)","v":""},{"$f":"IF(ISBLANK('胃がん検診受診者名簿（1～20）'!X20),\"\",'胃がん検診受診者名簿（1～20）'!X20)","v":""},null,{"$f":"IF(ISBLANK('胃がん検診受診者名簿（1～20）'!Z20),\"\",'胃がん検診受診者名簿（1～20）'!Z20)","v":""},{"$f":"IF(ISBLANK('胃がん検診受診者名簿（1～20）'!AA20),\"\",'胃がん検診受診者名簿（1～20）'!AA20)","v":""},null,null,null,null,null,null,{"$f":"IF(ISBLANK('胃がん検診受診者名簿（1～20）'!AH20),\"\",'胃がん検診受診者名簿（1～20）'!AH20)","v":""},null,null,{"$f":"IF(ISBLANK('胃がん検診受診者名簿（1～20）'!AK20),\"\",'胃がん検診受診者名簿（1～20）'!AK20)","v":""},null,{"$f":"IF(ISBLANK('胃がん検診受診者名簿（1～20）'!AM20),\"\",'胃がん検診受診者名簿（1～20）'!AM20)","v":""},null,null,11,{"$f":"IF(ISBLANK('胃がん検診受診者名簿（1～20）'!AQ20),\"\",'胃がん検診受診者名簿（1～20）'!AQ20)","v":""},{"$f":"IF(ISBLANK('胃がん検診受診者名簿（1～20）'!AR20),\"\",'胃がん検診受診者名簿（1～20）'!AR20)","v":""},null,{"$f":"IF(ISBLANK('胃がん検診受診者名簿（1～20）'!AT20),\"\",'胃がん検診受診者名簿（1～20）'!AT20)","v":""},{"$f":"IF(ISBLANK('胃がん検診受診者名簿（1～20）'!AU20),\"\",'胃がん検診受診者名簿（1～20）'!AU20)","v":""},null,null,null,null,null,null,{"$f":"IF(ISBLANK('胃がん検診受診者名簿（1～20）'!BB20),\"\",'胃がん検診受診者名簿（1～20）'!BB20)","v":""},null,null,{"$f":"IF(ISBLANK('胃がん検診受診者名簿（1～20）'!BE20),\"\",'胃がん検診受診者名簿（1～20）'!BE20)","v":""},null,{"$f":"IF(ISBLANK('胃がん検診受診者名簿（1～20）'!BG20),\"\",'胃がん検診受診者名簿（1～20）'!BG20)","v":""}]
[12,null,null,null,null,null,null,false,false,false,null,null,"",null,null,"",null,null,null,null,null,12,{"$f":"IF(ISBLANK('胃がん検診受診者名簿（1～20）'!B21),\"\",'胃がん検診受診者名簿（1～20）'!B21)","v":""},{"$f":"IF(ISBLANK('胃がん検診受診者名簿（1～20）'!C21),\"\",'胃がん検診受診者名簿（1～20）'!C21)","v":""},null,{"$f":"IF(ISBLANK('胃がん検診受診者名簿（1～20）'!E21),\"\",'胃がん検診受診者名簿（1～20）'!E21)","v":""},{"$f":"IF(ISBLANK('胃がん検診受診者名簿（1～20）'!F21),\"\",'胃がん検診受診者名簿（1～20）'!F21)","v":""},null,null,null,null,null,null,{"$f":"IF(ISBLANK('胃がん検診受診者名簿（1～20）'!M21),\"\",'胃がん検診受診者名簿（1～20）'!M21)","v":""},null,null,{"$f":"IF(ISBLANK('胃がん検診受診者名簿（1～20）'!P21),\"\",'胃がん検診受診者名簿（1～20）'!P21)","v":""},null,{"$f":"IF(ISBLANK('胃がん検診受診者名簿（1～20）'!R21),\"\",'胃がん検診受診者名簿（1～20）'!R21)","v":""},null,null,12,{"$f":"IF(ISBLANK('胃がん検診受診者名簿（1～20）'!W21),\"\",'胃がん検診受診者名簿（1～20）'!W21)","v":""},{"$f":"IF(ISBLANK('胃がん検診受診者名簿（1～20）'!X21),\"\",'胃がん検診受診者名簿（1～20）'!X21)","v":""},null,{"$f":"IF(ISBLANK('胃がん検診受診者名簿（1～20）'!Z21),\"\",'胃がん検診受診者名簿（1～20）'!Z21)","v":""},{"$f":"IF(ISBLANK('胃がん検診受診者名簿（1～20）'!AA21),\"\",'胃がん検診受診者名簿（1～20）'!AA21)","v":""},null,null,null,null,null,null,{"$f":"IF(ISBLANK('胃がん検診受診者名簿（1～20）'!AH21),\"\",'胃がん検診受診者名簿（1～20）'!AH21)","v":""},null,null,{"$f":"IF(ISBLANK('胃がん検診受診者名簿（1～20）'!AK21),\"\",'胃がん検診受診者名簿（1～20）'!AK21)","v":""},null,{"$f":"IF(ISBLANK('胃がん検診受診者名簿（1～20）'!AM21),\"\",'胃がん検診受診者名簿（1～20）'!AM21)","v":""},null,null,12,{"$f":"IF(ISBLANK('胃がん検診受診者名簿（1～20）'!AQ21),\"\",'胃がん検診受診者名簿（1～20）'!AQ21)","v":""},{"$f":"IF(ISBLANK('胃がん検診受診者名簿（1～20）'!AR21),\"\",'胃がん検診受診者名簿（1～20）'!AR21)","v":""},null,{"$f":"IF(ISBLANK('胃がん検診受診者名簿（1～20）'!AT21),\"\",'胃がん検診受診者名簿（1～20）'!AT21)","v":""},{"$f":"IF(ISBLANK('胃がん検診受診者名簿（1～20）'!AU21),\"\",'胃がん検診受診者名簿（1～20）'!AU21)","v":""},null,null,null,null,null,null,{"$f":"IF(ISBLANK('胃がん検診受診者名簿（1～20）'!BB21),\"\",'胃がん検診受診者名簿（1～20）'!BB21)","v":""},null,null,{"$f":"IF(ISBLANK('胃がん検診受診者名簿（1～20）'!BE21),\"\",'胃がん検診受診者名簿（1～20）'!BE21)","v":""},null,{"$f":"IF(ISBLANK('胃がん検診受診者名簿（1～20）'!BG21),\"\",'胃がん検診受診者名簿（1～20）'!BG21)","v":""}]
[13,null,null,null,null,null,null,false,false,false,null,null,"",null,null,"",null,null,null,null,null,13,{"$f":"IF(ISBLANK('胃がん検診受診者名簿（1～20）'!B22),\"\",'胃がん検診受診者名簿（1～20）'!B22)","v":""},{"$f":"IF(ISBLANK('胃がん検診受診者名簿（1～20）'!C22),\"\",'胃がん検診受診者名簿（1～20）'!C22)","v":""},null,{"$f":"IF(ISBLANK('胃がん検診受診者名簿（1～20）'!E22),\"\",'胃がん検診受診者名簿（1～20）'!E22)","v":""},{"$f":"IF(ISBLANK('胃がん検診受診者名簿（1～20）'!F22),\"\",'胃がん検診受診者名簿（1～20）'!F22)","v":""},null,null,null,null,null,null,{"$f":"IF(ISBLANK('胃がん検診受診者名簿（1～20）'!M22),\"\",'胃がん検診受診者名簿（1～20）'!M22)","v":""},null,null,{"$f":"IF(ISBLANK('胃がん検診受診者名簿（1～20）'!P22),\"\",'胃がん検診受診者名簿（1～20）'!P22)","v":""},null,{"$f":"IF(ISBLANK('胃がん検診受診者名簿（1～20）'!R22),\"\",'胃がん検診受診者名簿（1～20）'!R22)","v":""},null,null,13,{"$f":"IF(ISBLANK('胃がん検診受診者名簿（1～20）'!W22),\"\",'胃がん検診受診者名簿（1～20）'!W22)","v":""},{"$f":"IF(ISBLANK('胃がん検診受診者名簿（1～20）'!X22),\"\",'胃がん検診受診者名簿（1～20）'!X22)","v":""},null,{"$f":"IF(ISBLANK('胃がん検診受診者名簿（1～20）'!Z22),\"\",'胃がん検診受診者名簿（1～20）'!Z22)","v":""},{"$f":"IF(ISBLANK('胃がん検診受診者名簿（1～20）'!AA22),\"\",'胃がん検診受診者名簿（1～20）'!AA22)","v":""},null,null,null,null,null,null,{"$f":"IF(ISBLANK('胃がん検診受診者名簿（1～20）'!AH22),\"\",'胃がん検診受診者名簿（1～20）'!AH22)","v":""},null,null,{"$f":"IF(ISBLANK('胃がん検診受診者名簿（1～20）'!AK22),\"\",'胃がん検診受診者名簿（1～20）'!AK22)","v":""},null,{"$f":"IF(ISBLANK('胃がん検診受診者名簿（1～20）'!AM22),\"\",'胃がん検診受診者名簿（1～20）'!AM22)","v":""},null,null,13,{"$f":"IF(ISBLANK('胃がん検診受診者名簿（1～20）'!AQ22),\"\",'胃がん検診受診者名簿（1～20）'!AQ22)","v":""},{"$f":"IF(ISBLANK('胃がん検診受診者名簿（1～20）'!AR22),\"\",'胃がん検診受診者名簿（1～20）'!AR22)","v":""},null,{"$f":"IF(ISBLANK('胃がん検診受診者名簿（1～20）'!AT22),\"\",'胃がん検診受診者名簿（1～20）'!AT22)","v":""},{"$f":"IF(ISBLANK('胃がん検診受診者名簿（1～20）'!AU22),\"\",'胃がん検診受診者名簿（1～20）'!AU22)","v":""},null,null,null,null,null,null,{"$f":"IF(ISBLANK('胃がん検診受診者名簿（1～20）'!BB22),\"\",'胃がん検診受診者名簿（1～20）'!BB22)","v":""},null,null,{"$f":"IF(ISBLANK('胃がん検診受診者名簿（1～20）'!BE22),\"\",'胃がん検診受診者名簿（1～20）'!BE22)","v":""},null,{"$f":"IF(ISBLANK('胃がん検診受診者名簿（1～20）'!BG22),\"\",'胃がん検診受診者名簿（1～20）'!BG22)","v":""}]
[14,null,null,null,null,null,null,false,false,false,null,null,"",null,null,"",null,null,null,null,null,14,{"$f":"IF(ISBLANK('胃がん検診受診者名簿（1～20）'!B23),\"\",'胃がん検診受診者名簿（1～20）'!B23)","v":""},{"$f":"IF(ISBLANK('胃がん検診受診者名簿（1～20）'!C23),\"\",'胃がん検診受診者名簿（1～20）'!C23)","v":""},null,{"$f":"IF(ISBLANK('胃がん検診受診者名簿（1～20）'!E23),\"\",'胃がん検診受診者名簿（1～20）'!E23)","v":""},{"$f":"IF(ISBLANK('胃がん検診受診者名簿（1～20）'!F23),\"\",'胃がん検診受診者名簿（1～20）'!F23)","v":""},null,null,null,null,null,null,{"$f":"IF(ISBLANK('胃がん検診受診者名簿（1～20）'!M23),\"\",'胃がん検診受診者名簿（1～20）'!M23)","v":""},null,null,{"$f":"IF(ISBLANK('胃がん検診受診者名簿（1～20）'!P23),\"\",'胃がん検診受診者名簿（1～20）'!P23)","v":""},null,{"$f":"IF(ISBLANK('胃がん検診受診者名簿（1～20）'!R23),\"\",'胃がん検診受診者名簿（1～20）'!R23)","v":""},null,null,14,{"$f":"IF(ISBLANK('胃がん検診受診者名簿（1～20）'!W23),\"\",'胃がん検診受診者名簿（1～20）'!W23)","v":""},{"$f":"IF(ISBLANK('胃がん検診受診者名簿（1～20）'!X23),\"\",'胃がん検診受診者名簿（1～20）'!X23)","v":""},null,{"$f":"IF(ISBLANK('胃がん検診受診者名簿（1～20）'!Z23),\"\",'胃がん検診受診者名簿（1～20）'!Z23)","v":""},{"$f":"IF(ISBLANK('胃がん検診受診者名簿（1～20）'!AA23),\"\",'胃がん検診受診者名簿（1～20）'!AA23)","v":""},null,null,null,null,null,null,{"$f":"IF(ISBLANK('胃がん検診受診者名簿（1～20）'!AH23),\"\",'胃がん検診受診者名簿（1～20）'!AH23)","v":""},null,null,{"$f":"IF(ISBLANK('胃がん検診受診者名簿（1～20）'!AK23),\"\",'胃がん検診受診者名簿（1～20）'!AK23)","v":""},null,{"$f":"IF(ISBLANK('胃がん検診受診者名簿（1～20）'!AM23),\"\",'胃がん検診受診者名簿（1～20）'!AM23)","v":""},null,null,14,{"$f":"IF(ISBLANK('胃がん検診受診者名簿（1～20）'!AQ23),\"\",'胃がん検診受診者名簿（1～20）'!AQ23)","v":""},{"$f":"IF(ISBLANK('胃がん検診受診者名簿（1～20）'!AR23),\"\",'胃がん検診受診者名簿（1～20）'!AR23)","v":""},null,{"$f":"IF(ISBLANK('胃がん検診受診者名簿（1～20）'!AT23),\"\",'胃がん検診受診者名簿（1～20）'!AT23)","v":""},{"$f":"IF(ISBLANK('胃がん検診受診者名簿（1～20）'!AU23),\"\",'胃がん検診受診者名簿（1～20）'!AU23)","v":""},null,null,null,null,null,null,{"$f":"IF(ISBLANK('胃がん検診受診者名簿（1～20）'!BB23),\"\",'胃がん検診受診者名簿（1～20）'!BB23)","v":""},null,null,{"$f":"IF(ISBLANK('胃がん検診受診者名簿（1～20）'!BE23),\"\",'胃がん検診受診者名簿（1～20）'!BE23)","v":""},null,{"$f":"IF(ISBLANK('胃がん検診受診者名簿（1～20）'!BG23),\"\",'胃がん検診受診者名簿（1～20）'!BG23)","v":""}]
[15,null,null,null,null,null,null,false,false,false,null,null,"",null,null,"",null,null,null,null,null,15,{"$f":"IF(ISBLANK('胃がん検診受診者名簿（1～20）'!B24),\"\",'胃がん検診受診者名簿（1～20）'!B24)","v":""},{"$f":"IF(ISBLANK('胃がん検診受診者名簿（1～20）'!C24),\"\",'胃がん検診受診者名簿（1～20）'!C24)","v":""},null,{"$f":"IF(ISBLANK('胃がん検診受診者名簿（1～20）'!E24),\"\",'胃がん検診受診者名簿（1～20）'!E24)","v":""},{"$f":"IF(ISBLANK('胃がん検診受診者名簿（1～20）'!F24),\"\",'胃がん検診受診者名簿（1～20）'!F24)","v":""},null,null,null,null,null,null,{"$f":"IF(ISBLANK('胃がん検診受診者名簿（1～20）'!M24),\"\",'胃がん検診受診者名簿（1～20）'!M24)","v":""},null,null,{"$f":"IF(ISBLANK('胃がん検診受診者名簿（1～20）'!P24),\"\",'胃がん検診受診者名簿（1～20）'!P24)","v":""},null,{"$f":"IF(ISBLANK('胃がん検診受診者名簿（1～20）'!R24),\"\",'胃がん検診受診者名簿（1～20）'!R24)","v":""},null,null,15,{"$f":"IF(ISBLANK('胃がん検診受診者名簿（1～20）'!W24),\"\",'胃がん検診受診者名簿（1～20）'!W24)","v":""},{"$f":"IF(ISBLANK('胃がん検診受診者名簿（1～20）'!X24),\"\",'胃がん検診受診者名簿（1～20）'!X24)","v":""},null,{"$f":"IF(ISBLANK('胃がん検診受診者名簿（1～20）'!Z24),\"\",'胃がん検診受診者名簿（1～20）'!Z24)","v":""},{"$f":"IF(ISBLANK('胃がん検診受診者名簿（1～20）'!AA24),\"\",'胃がん検診受診者名簿（1～20）'!AA24)","v":""},null,null,null,null,null,null,{"$f":"IF(ISBLANK('胃がん検診受診者名簿（1～20）'!AH24),\"\",'胃がん検診受診者名簿（1～20）'!AH24)","v":""},null,null,{"$f":"IF(ISBLANK('胃がん検診受診者名簿（1～20）'!AK24),\"\",'胃がん検診受診者名簿（1～20）'!AK24)","v":""},null,{"$f":"IF(ISBLANK('胃がん検診受診者名簿（1～20）'!AM24),\"\",'胃がん検診受診者名簿（1～20）'!AM24)","v":""},null,null,15,{"$f":"IF(ISBLANK('胃がん検診受診者名簿（1～20）'!AQ24),\"\",'胃がん検診受診者名簿（1～20）'!AQ24)","v":""},{"$f":"IF(ISBLANK('胃がん検診受診者名簿（1～20）'!AR24),\"\",'胃がん検診受診者名簿（1～20）'!AR24)","v":""},null,{"$f":"IF(ISBLANK('胃がん検診受診者名簿（1～20）'!AT24),\"\",'胃がん検診受診者名簿（1～20）'!AT24)","v":""},{"$f":"IF(ISBLANK('胃がん検診受診者名簿（1～20）'!AU24),\"\",'胃がん検診受診者名簿（1～20）'!AU24)","v":""},null,null,null,null,null,null,{"$f":"IF(ISBLANK('胃がん検診受診者名簿（1～20）'!BB24),\"\",'胃がん検診受診者名簿（1～20）'!BB24)","v":""},null,null,{"$f":"IF(ISBLANK('胃がん検診受診者名簿（1～20）'!BE24),\"\",'胃がん検診受診者名簿（1～20）'!BE24)","v":""},null,{"$f":"IF(ISBLANK('胃がん検診受診者名簿（1～20）'!BG24),\"\",'胃がん検診受診者名簿（1～20）'!BG24)","v":""}]
[16,null,null,null,null,null,null,false,false,false,null,null,"",null,null,"",null,null,null,null,null,16,{"$f":"IF(ISBLANK('胃がん検診受診者名簿（1～20）'!B25),\"\",'胃がん検診受診者名簿（1～20）'!B25)","v":""},{"$f":"IF(ISBLANK('胃がん検診受診者名簿（1～20）'!C25),\"\",'胃がん検診受診者名簿（1～20）'!C25)","v":""},null,{"$f":"IF(ISBLANK('胃がん検診受診者名簿（1～20）'!E25),\"\",'胃がん検診受診者名簿（1～20）'!E25)","v":""},{"$f":"IF(ISBLANK('胃がん検診受診者名簿（1～20）'!F25),\"\",'胃がん検診受診者名簿（1～20）'!F25)","v":""},null,null,null,null,null,null,{"$f":"IF(ISBLANK('胃がん検診受診者名簿（1～20）'!M25),\"\",'胃がん検診受診者名簿（1～20）'!M25)","v":""},null,null,{"$f":"IF(ISBLANK('胃がん検診受診者名簿（1～20）'!P25),\"\",'胃がん検診受診者名簿（1～20）'!P25)","v":""},null,{"$f":"IF(ISBLANK('胃がん検診受診者名簿（1～20）'!R25),\"\",'胃がん検診受診者名簿（1～20）'!R25)","v":""},null,null,16,{"$f":"IF(ISBLANK('胃がん検診受診者名簿（1～20）'!W25),\"\",'胃がん検診受診者名簿（1～20）'!W25)","v":""},{"$f":"IF(ISBLANK('胃がん検診受診者名簿（1～20）'!X25),\"\",'胃がん検診受診者名簿（1～20）'!X25)","v":""},null,{"$f":"IF(ISBLANK('胃がん検診受診者名簿（1～20）'!Z25),\"\",'胃がん検診受診者名簿（1～20）'!Z25)","v":""},{"$f":"IF(ISBLANK('胃がん検診受診者名簿（1～20）'!AA25),\"\",'胃がん検診受診者名簿（1～20）'!AA25)","v":""},null,null,null,null,null,null,{"$f":"IF(ISBLANK('胃がん検診受診者名簿（1～20）'!AH25),\"\",'胃がん検診受診者名簿（1～20）'!AH25)","v":""},null,null,{"$f":"IF(ISBLANK('胃がん検診受診者名簿（1～20）'!AK25),\"\",'胃がん検診受診者名簿（1～20）'!AK25)","v":""},null,{"$f":"IF(ISBLANK('胃がん検診受診者名簿（1～20）'!AM25),\"\",'胃がん検診受診者名簿（1～20）'!AM25)","v":""},null,null,16,{"$f":"IF(ISBLANK('胃がん検診受診者名簿（1～20）'!AQ25),\"\",'胃がん検診受診者名簿（1～20）'!AQ25)","v":""},{"$f":"IF(ISBLANK('胃がん検診受診者名簿（1～20）'!AR25),\"\",'胃がん検診受診者名簿（1～20）'!AR25)","v":""},null,{"$f":"IF(ISBLANK('胃がん検診受診者名簿（1～20）'!AT25),\"\",'胃がん検診受診者名簿（1～20）'!AT25)","v":""},{"$f":"IF(ISBLANK('胃がん検診受診者名簿（1～20）'!AU25),\"\",'胃がん検診受診者名簿（1～20）'!AU25)","v":""},null,null,null,null,null,null,{"$f":"IF(ISBLANK('胃がん検診受診者名簿（1～20）'!BB25),\"\",'胃がん検診受診者名簿（1～20）'!BB25)","v":""},null,null,{"$f":"IF(ISBLANK('胃がん検診受診者名簿（1～20）'!BE25),\"\",'胃がん検診受診者名簿（1～20）'!BE25)","v":""},null,{"$f":"IF(ISBLANK('胃がん検診受診者名簿（1～20）'!BG25),\"\",'胃がん検診受診者名簿（1～20）'!BG25)","v":""}]
[17,null,null,null,null,null,null,false,false,false,null,null,"",null,null,"",null,null,null,null,null,17,{"$f":"IF(ISBLANK('胃がん検診受診者名簿（1～20）'!B26),\"\",'胃がん検診受診者名簿（1～20）'!B26)","v":""},{"$f":"IF(ISBLANK('胃がん検診受診者名簿（1～20）'!C26),\"\",'胃がん検診受診者名簿（1～20）'!C26)","v":""},null,{"$f":"IF(ISBLANK('胃がん検診受診者名簿（1～20）'!E26),\"\",'胃がん検診受診者名簿（1～20）'!E26)","v":""},{"$f":"IF(ISBLANK('胃がん検診受診者名簿（1～20）'!F26),\"\",'胃がん検診受診者名簿（1～20）'!F26)","v":""},null,null,null,null,null,null,{"$f":"IF(ISBLANK('胃がん検診受診者名簿（1～20）'!M26),\"\",'胃がん検診受診者名簿（1～20）'!M26)","v":""},null,null,{"$f":"IF(ISBLANK('胃がん検診受診者名簿（1～20）'!P26),\"\",'胃がん検診受診者名簿（1～20）'!P26)","v":""},null,{"$f":"IF(ISBLANK('胃がん検診受診者名簿（1～20）'!R26),\"\",'胃がん検診受診者名簿（1～20）'!R26)","v":""},null,null,17,{"$f":"IF(ISBLANK('胃がん検診受診者名簿（1～20）'!W26),\"\",'胃がん検診受診者名簿（1～20）'!W26)","v":""},{"$f":"IF(ISBLANK('胃がん検診受診者名簿（1～20）'!X26),\"\",'胃がん検診受診者名簿（1～20）'!X26)","v":""},null,{"$f":"IF(ISBLANK('胃がん検診受診者名簿（1～20）'!Z26),\"\",'胃がん検診受診者名簿（1～20）'!Z26)","v":""},{"$f":"IF(ISBLANK('胃がん検診受診者名簿（1～20）'!AA26),\"\",'胃がん検診受診者名簿（1～20）'!AA26)","v":""},null,null,null,null,null,null,{"$f":"IF(ISBLANK('胃がん検診受診者名簿（1～20）'!AH26),\"\",'胃がん検診受診者名簿（1～20）'!AH26)","v":""},null,null,{"$f":"IF(ISBLANK('胃がん検診受診者名簿（1～20）'!AK26),\"\",'胃がん検診受診者名簿（1～20）'!AK26)","v":""},null,{"$f":"IF(ISBLANK('胃がん検診受診者名簿（1～20）'!AM26),\"\",'胃がん検診受診者名簿（1～20）'!AM26)","v":""},null,null,17,{"$f":"IF(ISBLANK('胃がん検診受診者名簿（1～20）'!AQ26),\"\",'胃がん検診受診者名簿（1～20）'!AQ26)","v":""},{"$f":"IF(ISBLANK('胃がん検診受診者名簿（1～20）'!AR26),\"\",'胃がん検診受診者名簿（1～20）'!AR26)","v":""},null,{"$f":"IF(ISBLANK('胃がん検診受診者名簿（1～20）'!AT26),\"\",'胃がん検診受診者名簿（1～20）'!AT26)","v":""},{"$f":"IF(ISBLANK('胃がん検診受診者名簿（1～20）'!AU26),\"\",'胃がん検診受診者名簿（1～20）'!AU26)","v":""},null,null,null,null,null,null,{"$f":"IF(ISBLANK('胃がん検診受診者名簿（1～20）'!BB26),\"\",'胃がん検診受診者名簿（1～20）'!BB26)","v":""},null,null,{"$f":"IF(ISBLANK('胃がん検診受診者名簿（1～20）'!BE26),\"\",'胃がん検診受診者名簿（1～20）'!BE26)","v":""},null,{"$f":"IF(ISBLANK('胃がん検診受診者名簿（1～20）'!BG26),\"\",'胃がん検診受診者名簿（1～20）'!BG26)","v":""}]
[18,null,null,null,null,null,null,false,false,false,null,null,"",null,null,"",null,null,null,null,null,18,{"$f":"IF(ISBLANK('胃がん検診受診者名簿（1～20）'!B27),\"\",'胃がん検診受診者名簿（1～20）'!B27)","v":""},{"$f":"IF(ISBLANK('胃がん検診受診者名簿（1～20）'!C27),\"\",'胃がん検診受診者名簿（1～20）'!C27)","v":""},null,{"$f":"IF(ISBLANK('胃がん検診受診者名簿（1～20）'!E27),\"\",'胃がん検診受診者名簿（1～20）'!E27)","v":""},{"$f":"IF(ISBLANK('胃がん検診受診者名簿（1～20）'!F27),\"\",'胃がん検診受診者名簿（1～20）'!F27)","v":""},null,null,null,null,null,null,{"$f":"IF(ISBLANK('胃がん検診受診者名簿（1～20）'!M27),\"\",'胃がん検診受診者名簿（1～20）'!M27)","v":""},null,null,{"$f":"IF(ISBLANK('胃がん検診受診者名簿（1～20）'!P27),\"\",'胃がん検診受診者名簿（1～20）'!P27)","v":""},null,{"$f":"IF(ISBLANK('胃がん検診受診者名簿（1～20）'!R27),\"\",'胃がん検診受診者名簿（1～20）'!R27)","v":""},null,null,18,{"$f":"IF(ISBLANK('胃がん検診受診者名簿（1～20）'!W27),\"\",'胃がん検診受診者名簿（1～20）'!W27)","v":""},{"$f":"IF(ISBLANK('胃がん検診受診者名簿（1～20）'!X27),\"\",'胃がん検診受診者名簿（1～20）'!X27)","v":""},null,{"$f":"IF(ISBLANK('胃がん検診受診者名簿（1～20）'!Z27),\"\",'胃がん検診受診者名簿（1～20）'!Z27)","v":""},{"$f":"IF(ISBLANK('胃がん検診受診者名簿（1～20）'!AA27),\"\",'胃がん検診受診者名簿（1～20）'!AA27)","v":""},null,null,null,null,null,null,{"$f":"IF(ISBLANK('胃がん検診受診者名簿（1～20）'!AH27),\"\",'胃がん検診受診者名簿（1～20）'!AH27)","v":""},null,null,{"$f":"IF(ISBLANK('胃がん検診受診者名簿（1～20）'!AK27),\"\",'胃がん検診受診者名簿（1～20）'!AK27)","v":""},null,{"$f":"IF(ISBLANK('胃がん検診受診者名簿（1～20）'!AM27),\"\",'胃がん検診受診者名簿（1～20）'!AM27)","v":""},null,null,18,{"$f":"IF(ISBLANK('胃がん検診受診者名簿（1～20）'!AQ27),\"\",'胃がん検診受診者名簿（1～20）'!AQ27)","v":""},{"$f":"IF(ISBLANK('胃がん検診受診者名簿（1～20）'!AR27),\"\",'胃がん検診受診者名簿（1～20）'!AR27)","v":""},null,{"$f":"IF(ISBLANK('胃がん検診受診者名簿（1～20）'!AT27),\"\",'胃がん検診受診者名簿（1～20）'!AT27)","v":""},{"$f":"IF(ISBLANK('胃がん検診受診者名簿（1～20）'!AU27),\"\",'胃がん検診受診者名簿（1～20）'!AU27)","v":""},null,null,null,null,null,null,{"$f":"IF(ISBLANK('胃がん検診受診者名簿（1～20）'!BB27),\"\",'胃がん検診受診者名簿（1～20）'!BB27)","v":""},null,null,{"$f":"IF(ISBLANK('胃がん検診受診者名簿（1～20）'!BE27),\"\",'胃がん検診受診者名簿（1～20）'!BE27)","v":""},null,{"$f":"IF(ISBLANK('胃がん検診受診者名簿（1～20）'!BG27),\"\",'胃がん検診受診者名簿（1～20）'!BG27)","v":""}]
[19,null,null,null,null,null,null,false,false,false,null,null,"",null,null,"",null,null,null,null,null,19,{"$f":"IF(ISBLANK('胃がん検診受診者名簿（1～20）'!B28),\"\",'胃がん検診受診者名簿（1～20）'!B28)","v":""},{"$f":"IF(ISBLANK('胃がん検診受診者名簿（1～20）'!C28),\"\",'胃がん検診受診者名簿（1～20）'!C28)","v":""},null,{"$f":"IF(ISBLANK('胃がん検診受診者名簿（1～20）'!E28),\"\",'胃がん検診受診者名簿（1～20）'!E28)","v":""},{"$f":"IF(ISBLANK('胃がん検診受診者名簿（1～20）'!F28),\"\",'胃がん検診受診者名簿（1～20）'!F28)","v":""},null,null,null,null,null,null,{"$f":"IF(ISBLANK('胃がん検診受診者名簿（1～20）'!M28),\"\",'胃がん検診受診者名簿（1～20）'!M28)","v":""},null,null,{"$f":"IF(ISBLANK('胃がん検診受診者名簿（1～20）'!P28),\"\",'胃がん検診受診者名簿（1～20）'!P28)","v":""},null,{"$f":"IF(ISBLANK('胃がん検診受診者名簿（1～20）'!R28),\"\",'胃がん検診受診者名簿（1～20）'!R28)","v":""},null,null,19,{"$f":"IF(ISBLANK('胃がん検診受診者名簿（1～20）'!W28),\"\",'胃がん検診受診者名簿（1～20）'!W28)","v":""},{"$f":"IF(ISBLANK('胃がん検診受診者名簿（1～20）'!X28),\"\",'胃がん検診受診者名簿（1～20）'!X28)","v":""},null,{"$f":"IF(ISBLANK('胃がん検診受診者名簿（1～20）'!Z28),\"\",'胃がん検診受診者名簿（1～20）'!Z28)","v":""},{"$f":"IF(ISBLANK('胃がん検診受診者名簿（1～20）'!AA28),\"\",'胃がん検診受診者名簿（1～20）'!AA28)","v":""},null,null,null,null,null,null,{"$f":"IF(ISBLANK('胃がん検診受診者名簿（1～20）'!AH28),\"\",'胃がん検診受診者名簿（1～20）'!AH28)","v":""},null,null,{"$f":"IF(ISBLANK('胃がん検診受診者名簿（1～20）'!AK28),\"\",'胃がん検診受診者名簿（1～20）'!AK28)","v":""},null,{"$f":"IF(ISBLANK('胃がん検診受診者名簿（1～20）'!AM28),\"\",'胃がん検診受診者名簿（1～20）'!AM28)","v":""},null,null,19,{"$f":"IF(ISBLANK('胃がん検診受診者名簿（1～20）'!AQ28),\"\",'胃がん検診受診者名簿（1～20）'!AQ28)","v":""},{"$f":"IF(ISBLANK('胃がん検診受診者名簿（1～20）'!AR28),\"\",'胃がん検診受診者名簿（1～20）'!AR28)","v":""},null,{"$f":"IF(ISBLANK('胃がん検診受診者名簿（1～20）'!AT28),\"\",'胃がん検診受診者名簿（1～20）'!AT28)","v":""},{"$f":"IF(ISBLANK('胃がん検診受診者名簿（1～20）'!AU28),\"\",'胃がん検診受診者名簿（1～20）'!AU28)","v":""},null,null,null,null,null,null,{"$f":"IF(ISBLANK('胃がん検診受診者名簿（1～20）'!BB28),\"\",'胃がん検診受診者名簿（1～20）'!BB28)","v":""},null,null,{"$f":"IF(ISBLANK('胃がん検診受診者名簿（1～20）'!BE28),\"\",'胃がん検診受診者名簿（1～20）'!BE28)","v":""},null,{"$f":"IF(ISBLANK('胃がん検診受診者名簿（1～20）'!BG28),\"\",'胃がん検診受診者名簿（1～20）'!BG28)","v":""}]
[20,null,null,null,null,null,null,false,false,false,null,null,"",null,null,"",null,null,null,null,null,20,{"$f":"IF(ISBLANK('胃がん検診受診者名簿（1～20）'!B29),\"\",'胃がん検診受診者名簿（1～20）'!B29)","v":""},{"$f":"IF(ISBLANK('胃がん検診受診者名簿（1～20）'!C29),\"\",'胃がん検診受診者名簿（1～20）'!C29)","v":""},null,{"$f":"IF(ISBLANK('胃がん検診受診者名簿（1～20）'!E29),\"\",'胃がん検診受診者名簿（1～20）'!E29)","v":""},{"$f":"IF(ISBLANK('胃がん検診受診者名簿（1～20）'!F29),\"\",'胃がん検診受診者名簿（1～20）'!F29)","v":""},null,null,null,null,null,null,{"$f":"IF(ISBLANK('胃がん検診受診者名簿（1～20）'!M29),\"\",'胃がん検診受診者名簿（1～20）'!M29)","v":""},null,null,{"$f":"IF(ISBLANK('胃がん検診受診者名簿（1～20）'!P29),\"\",'胃がん検診受診者名簿（1～20）'!P29)","v":""},null,{"$f":"IF(ISBLANK('胃がん検診受診者名簿（1～20）'!R29),\"\",'胃がん検診受診者名簿（1～20）'!R29)","v":""},null,null,20,{"$f":"IF(ISBLANK('胃がん検診受診者名簿（1～20）'!W29),\"\",'胃がん検診受診者名簿（1～20）'!W29)","v":""},{"$f":"IF(ISBLANK('胃がん検診受診者名簿（1～20）'!X29),\"\",'胃がん検診受診者名簿（1～20）'!X29)","v":""},null,{"$f":"IF(ISBLANK('胃がん検診受診者名簿（1～20）'!Z29),\"\",'胃がん検診受診者名簿（1～20）'!Z29)","v":""},{"$f":"IF(ISBLANK('胃がん検診受診者名簿（1～20）'!AA29),\"\",'胃がん検診受診者名簿（1～20）'!AA29)","v":""},null,null,null,null,null,null,{"$f":"IF(ISBLANK('胃がん検診受診者名簿（1～20）'!AH29),\"\",'胃がん検診受診者名簿（1～20）'!AH29)","v":""},null,null,{"$f":"IF(ISBLANK('胃がん検診受診者名簿（1～20）'!AK29),\"\",'胃がん検診受診者名簿（1～20）'!AK29)","v":""},null,{"$f":"IF(ISBLANK('胃がん検診受診者名簿（1～20）'!AM29),\"\",'胃がん検診受診者名簿（1～20）'!AM29)","v":""},null,null,20,{"$f":"IF(ISBLANK('胃がん検診受診者名簿（1～20）'!AQ29),\"\",'胃がん検診受診者名簿（1～20）'!AQ29)","v":""},{"$f":"IF(ISBLANK('胃がん検診受診者名簿（1～20）'!AR29),\"\",'胃がん検診受診者名簿（1～20）'!AR29)","v":""},null,{"$f":"IF(ISBLANK('胃がん検診受診者名簿（1～20）'!AT29),\"\",'胃がん検診受診者名簿（1～20）'!AT29)","v":""},{"$f":"IF(ISBLANK('胃がん検診受診者名簿（1～20）'!AU29),\"\",'胃がん検診受診者名簿（1～20）'!AU29)","v":""},null,null,null,null,null,null,{"$f":"IF(ISBLANK('胃がん検診受診者名簿（1～20）'!BB29),\"\",'胃がん検診受診者名簿（1～20）'!BB29)","v":""},null,null,{"$f":"IF(ISBLANK('胃がん検診受診者名簿（1～20）'!BE29),\"\",'胃がん検診受診者名簿（1～20）'!BE29)","v":""},null,{"$f":"IF(ISBLANK('胃がん検診受診者名簿（1～20）'!BG29),\"\",'胃がん検診受診者名簿（1～20）'!BG29)","v":""}]
[]
["区　分",null,"総　計","頁　計",null,null,"区　分",null,"総　計",null,"頁　計",null,null,null,"区　分",null,"総　計",null,"頁　計",null,null,"区　分",null,"総　計","頁　計",null,null,"区　分",null,"総　計",null,"頁　計",null,null,null,"区　分",null,"総　計",null,"頁　計",null,"区　分",null,"総　計","頁　計",null,null,"区　分",null,"総　計",null,"頁　計",null,null,null,"区　分",null,"総　計",null,"頁　計",null,"区　分",null,"総　計","頁　計",null,null,"区　分",null,"総　計",null,"頁　計",null,null,null,"区　分",null,"総　計",null,"頁　計"]
["受診者数",null,{"$f":"D32+'胃がん検診受診者名簿（21～40）'!D32+'胃がん検診受診者名簿（41～60）'!D32+'胃がん検診受診者名簿（61～80） '!D32+'胃がん検診受診者名簿（81～100）'!D32","v":0},{"$f":"COUNTIF(L10:L29,1)+COUNTIF(L10:L29,2)+COUNTIF(L10:L29,3)+COUNTIF(L10:L29,4)","v":0},null,null,"生検実施数",null,{"$f":"J32+'胃がん検診受診者名簿（21～40）'!J32+'胃がん検診受診者名簿（41～60）'!J32+'胃がん検診受診者名簿（61～80） '!J32+'胃がん検診受診者名簿（81～100）'!J32","v":0},{"$f":"K32+'胃がん検診受診者名簿（21～40）'!K32+'胃がん検診受診者名簿（41～60）'!K32+'胃がん検診受診者名簿（61～80） '!K32+'胃がん検診受診者名簿（81～100）'!K32","v":0},{"$f":"COUNTIF(H10:H29,TRUE)","v":0},null,null,null,"胃がんなし",null,{"$f":"S32+'胃がん検診受診者名簿（21～40）'!S32+'胃がん検診受診者名簿（41～60）'!S32+'胃がん検診受診者名簿（61～80） '!S32+'胃がん検診受診者名簿（81～100）'!S32","v":0},null,{"$f":"COUNTIF(L10:L29,1)","v":0},null,null,"受診者数",null,{"$f":"C32","v":0},{"$f":"D32","v":0},{"$f":"E32","v":0},null,"生検実施数",null,{"$f":"I32","v":0},null,{"$f":"K32","v":0},null,null,null,"胃がんなし",null,{"$f":"Q32","v":0},null,{"$f":"S32","v":0},null,"受診者数",null,{"$f":"X32","v":0},{"$f":"Y32","v":0},{"$f":"Z32","v":0},null,"生検実施数",null,{"$f":"AD32","v":0},null,{"$f":"AF32","v":0},null,null,null,"胃がんなし",null,{"$f":"AL32","v":0},null,{"$f":"AN32","v":0},null,"受診者数",null,{"$f":"AR32","v":0},{"$f":"AS32","v":0},{"$f":"AT32","v":0},null,"生検実施数",null,{"$f":"AX32","v":0},null,{"$f":"AZ32","v":0},null,null,null,"胃がんなし",null,{"$f":"BF32","v":0},null,{"$f":"BH32","v":0}]
["自己負担額\n納入者",null,{"$f":"D33+'胃がん検診受診者名簿（21～40）'!D33+'胃がん検診受診者名簿（41～60）'!D33+'胃がん検診受診者名簿（61～80） '!D33+'胃がん検診受診者名簿（81～100）'!D33","v":0},{"$f":"D32-D34","v":0},null,null,"偶発症\n発生総数",null,{"$f":"J33+'胃がん検診受診者名簿（21～40）'!J33+'胃がん検診受診者名簿（41～60）'!J33+'胃がん検診受診者名簿（61～80） '!J33+'胃がん検診受診者名簿（81～100）'!J33","v":0},{"$f":"K33+'胃がん検診受診者名簿（21～40）'!K33+'胃がん検診受診者名簿（41～60）'!K33+'胃がん検診受診者名簿（61～80） '!K33+'胃がん検診受診者名簿（81～100）'!K33","v":0},{"$f":"COUNTIF(I10:K29,TRUE)","v":0},null,null,null,"胃がん疑い",null,{"$f":"S33+'胃がん検診受診者名簿（21～40）'!S33+'胃がん検診受診者名簿（41～60）'!S33+'胃がん検診受診者名簿（61～80） '!S33+'胃がん検診受診者名簿（81～100）'!S33","v":0},null,{"$f":"+COUNTIF(L10:L29,2)","v":0},null,null,"自己負担額\n納入者",null,{"$f":"C33","v":0},{"$f":"D33","v":0},{"$f":"E33","v":0},null,"偶発症\n発生総数",null,{"$f":"I33","v":0},null,{"$f":"K33","v":0},null,null,null,"胃がん疑い",null,{"$f":"Q33","v":0},null,0,null,"自己負担額\n納入者",null,{"$f":"X33","v":0},0,0,null,"偶発症\n発生総数",null,{"$f":"AD33","v":0},null,{"$f":"AF33","v":0},null,null,null,"胃がん疑い",null,{"$f":"AL33","v":0},null,0,null,"自己負担額\n納入者",null,{"$f":"AR33","v":0},0,0,null,"偶発症\n発生総数",null,{"$f":"AX33","v":0},null,{"$f":"AZ33","v":0},null,null,null,"胃がん疑い",null,{"$f":"BF33","v":0},null,0]
["自己負担額\n免除者",null,{"$f":"D34+'胃がん検診受診者名簿（21～40）'!D34+'胃がん検診受診者名簿（41～60）'!D34+'胃がん検診受診者名簿（61～80） '!D34+'胃がん検診受診者名簿（81～100）'!D34","v":0},{"$f":"COUNTIF(O10:O29,1)+COUNTIF(O10:O29,2)+COUNTIF(O10:O29,3)+COUNTIF(O10:O29,4)","v":0},null,null,null,null,null,null,null,null,null,null,"胃がんあり",null,{"$f":"S34+'胃がん検診受診者名簿（21～40）'!S34+'胃がん検診受診者名簿（41～60）'!S34+'胃がん検診受診者名簿（61～80） '!S34+'胃がん検診受診者名簿（81～100）'!S34","v":0},null,{"$f":"+COUNTIF(L10:L29,3)","v":0},null,null,"自己負担額\n免除者",null,0,{"$f":"D34","v":0},{"$f":"E34","v":0},null,null,null,null,null,null,null,null,null,"胃がんあり",null,0,null,0,null,"自己負担額\n免除者",null,0,0,0,null,null,null,null,null,null,null,null,null,"胃がんあり",null,0,null,0,null,"自己負担額\n免除者",null,0,0,0,null,null,null,null,null,null,null,null,null,"胃がんあり",null,0,null,0]
[null,null,null,null,null,null,null,null,null,null,null,null,null,null,"胃がん以外の悪性病変",null,{"$f":"S35+'胃がん検診受診者名簿（21～40）'!S35+'胃がん検診受診者名簿（41～60）'!S35+'胃がん検診受診者名簿（61～80） '!S35+'胃がん検診受診者名簿（81～100）'!S35","v":0},null,{"$f":"+COUNTIF(L10:L29,4)","v":0},null,null,null,null,null,null,null,null,null,null,null,null,null,null,null,null,"胃がん以外の悪性病変",null,0,null,0,null,null,null,null,null,null,null,null,null,null,null,null,null,null,null,"胃がん以外の悪性病変",null,0,null,0,null,null,null,null,null,null,null,null,null,null,null,null,null,null,null,"胃がん以外の悪性病変",null,0,null,0]
[null,null,null,null,null,null,null,null,null,null,null,null,null,null,null,null,{"$f":"S36+'胃がん検診受診者名簿（21～40）'!S36+'胃がん検診受診者名簿（41～60）'!S36+'胃がん検診受診者名簿（61～80） '!S36+'胃がん検診受診者名簿（81～100）'!S36","v":0},null,null,null,null,null,null,null,null,null,null,null,null,null,null,null,null,null,null,null,null,0,null,0,null,null,null,null,null,null,null,null,null,null,null,null,null,null,null,null,null,0,null,0,null,null,null,null,null,null,null,null,null,null,null,null,null,null,null,null,null,0,null,0]
["【結果判定】　1.胃がんなし　2.胃がん疑い　3.胃がんあり　4.胃がん以外の悪性病変",null,null,null,null,null,null,null,null,null,null,null,null,null,null,null,null,null,null,null,null,"【結果判定】　1.胃がんなし　2.胃がん疑い　3.胃がんあり　4.胃がん以外の悪性病変",null,null,null,null,null,null,null,null,null,null,null,null,null,null,null,null,null,null,null,"【結果判定】　1.胃がんなし　2.胃がん疑い　3.胃がんあり　4.胃がん以外の悪性病変",null,null,null,null,null,null,null,null,null,null,null,null,null,null,null,null,null,null,null,"【結果判定】　1.胃がんなし　2.胃がん疑い　3.胃がんあり　4.胃がん以外の悪性病変"]
["【自己負担免除者区分】　1.70歳以上　2.後期高齢者医療制度　3.生活保護世帯　4.市民税非課税世帯　",null,null,null,null,null,null,null,null,null,null,null,null,null,null,null,null,null,null,"R5.10",null,"【自己負担免除者区分】　1.70歳以上　2.後期高齢者医療制度　3.生活保護世帯　4.市民税非課税世帯　",null,null,null,null,null,null,null,null,null,null,null,null,null,null,null,null,null,null,"R5.10","【自己負担免除者区分】　1.70歳以上　2.後期高齢者医療制度　3.生活保護世帯　4.市民税非課税世帯　",null,null,null,null,null,null,null,null,null,null,null,null,null,null,null,null,null,null,"R5.10","【自己負担免除者区分】　1.70歳以上　2.後期高齢者医療制度　3.生活保護世帯　4.市民税非課税世帯　",null,null,null,null,null,null,null,null,null,null,null,null,null,null,null,null,null,null,"R5.10"]

{"sheet":"胃がん検診受診者名簿（21～40）","index":1,"n_rows":38,"n_cols":81,"rows_kept":38,"cut":false,"hidden":false,"merged":[[7,0,8,0],[7,1,8,1],[7,2,8,3],[7,4,8,4],[7,5,8,6],[7,7,8,7],[1,13,1,19],[2,13,4,19],[5,2,6,2],[5,3,6,3],[5,4,6,4],[5,5,6,5],[5,6,6,7],[5,13,5,14],[5,15,5,19],[9,17,9,19],[10,2,10,3],[10,5,10,6],[10,9,10,10],[10,12,10,13],[10,15,10,16],[10,17,10,19],[7,8,7,10],[7,11,8,13],[7,14,8,16],[7,17,8,19],[8,9,8,10],[9,2,9,3],[9,5,9,6],[9,9,9,10],[9,12,9,13],[9,15,9,16],[12,2,12,3],[12,5,12,6],[12,9,12,10],[12,12,12,13],[12,15,12,16],[12,17,12,19],[11,2,11,3],[11,5,11,6],[11,9,11,10],[11,12,11,13],[11,15,11,16],[11,17,11,19],[14,2,14,3],[14,5,14,6],[14,9,14,10],[14,12,14,13],[14,15,14,16],[14,17,14,19],[13,2,13,3],[13,5,13,6],[13,9,13,10],[13,12,13,13],[13,15,13,16],[13,17,13,19],[16,2,16,3],[16,5,16,6],[16,9,16,10],[16,12,16,13],[16,15,16,16],[16,17,16,19],[15,2,15,3],[15,5,15,6],[15,9,15,10],[15,12,15,13],[15,15,15,16],[15,17,15,19],[18,2,18,3],[18,5,18,6],[18,9,18,10],[18,12,18,13],[18,15,18,16],[18,17,18,19],[17,2,17,3],[17,5,17,6],[17,9,17,10],[17,12,17,13],[17,15,17,16],[17,17,17,19],[20,2,20,3],[20,5,20,6],[20,9,20,10],[20,12,20,13],[20,15,20,16],[20,17,20,19],[19,2,19,3],[19,5,19,6],[19,9,19,10],[19,12,19,13],[19,15,19,16],[19,17,19,19],[22,2,22,3],[22,5,22,6],[22,9,22,10],[22,12,22,13],[22,15,22,16],[22,17,22,19],[21,2,21,3],[21,5,21,6],[21,9,21,10],[21,12,21,13],[21,15,21,16],[21,17,21,19],[24,2,24,3],[24,5,24,6],[24,9,24,10],[24,12,24,13],[24,15,24,16],[24,17,24,19],[23,2,23,3],[23,5,23,6],[23,9,23,10],[23,12,23,13],[23,15,23,16],[23,17,23,19],[26,2,26,3],[26,5,26,6],[26,9,26,10],[26,12,26,13],[26,15,26,16],[26,17,26,19],[25,2,25,3],[25,5,25,6],[25,9,25,10],[25,12,25,13],[25,15,25,16],[25,17,25,19],[28,2,28,3],[28,5,28,6],[28,9,28,10],[28,12,28,13],[28,15,28,16],[28,17,28,19],[27,2,27,3],[27,5,27,6],[27,9,27,10],[27,12,27,13],[27,15,27,16],[27,17,27,19],[30,16,30,17],[31,0,31,1],[31,3,31,4],[31,6,31,7],[31,8,31,9],[31,10,31,12],[31,14,31,15],[31,16,31,17],[30,0,30,1],[30,3,30,4],[30,6,30,7],[30,8,30,9],[30,10,30,12],[30,14,30,15],[34,14,35,15],[34,16,35,17],[34,18,35,18],[32,16,32,17],[33,0,33,1],[33,3,33,4],[33,14,33,15],[33,16,33,17],[32,0,32,1],[32,3,32,4],[32,6,32,7],[32,8,32,9],[32,10,32,12],[32,14,32,15],[5,23,6,23],[5,24,6,24],[5,25,6,25],[5,26,6,26],[5,27,6,28],[5,34,5,35],[5,36,5,40],[5,43,6,43],[5,44,6,44],[7,55,8,57],[7,58,8,60],[7,61,8,61],[1,34,1,40],[1,54,1,60],[1,74,1,80],[2,34,4,40],[2,54,4,60],[2,74,4,80],[5,45,6,45],[5,46,6,46],[5,47,6,48],[5,54,5,55],[5,56,5,60],[5,63,6,63],[5,64,6,64],[5,65,6,65],[5,66,6,66],[7,72,8,74],[7,75,8,77],[7,78,8,80],[5,67,6,68],[5,74,5,75],[5,76,5,80],[7,42,8,42],[7,43,8,44],[7,45,8,45],[7,46,8,47],[7,48,8,48],[7,49,7,51],[7,52,8,54],[8,50,8,51],[7,21,8,21],[7,22,8,22],[7,23,8,24],[7,25,8,25],[7,26,8,27],[7,28,8,28],[7,29,7,31],[7,32,8,34],[7,35,8,37],[8,30,8,31],[8,70,8,71],[9,23,9,24],[9,26,9,27],[9,30,9,31],[9,33,9,34],[9,36,9,37],[9,38,9,40],[9,43,9,44],[9,46,9,47],[9,50,9,51],[9,53,9,54],[9,56,9,57],[9,58,9,60],[9,63,9,64],[9,66,9,67],[9,70,9,71],[7,62,8,62],[7,63,8,64],[7,65,8,65],[7,66,8,67],[7,68,8,68],[7,69,7,71],[7,38,8,40],[7,41,8,41],[9,73,9,74],[9,76,9,77],[9,78,9,80],[10,23,10,24],[10,26,10,27],[10,30,10,31],[10,33,10,34],[10,36,10,37],[10,38,10,40],[10,43,10,44],[10,46,10,47],[10,50,10,51],[10,53,10,54],[10,56,10,57],[10,58,10,60],[10,63,10,64],[10,66,10,67],[10,70,10,71],[10,73,10,74],[10,76,10,77],[10,78,10,80],[11,23,11,24],[11,26,11,27],[11,30,11,31],[11,33,11,34],[11,36,11,37],[11,38,11,40],[11,43,11,44],[11,46,11,47],[11,50,11,51],[11,53,11,54],[11,56,11,57],[11,58,11,60],[11,63,11,64],[11,66,11,67],[11,70,11,71],[11,73,11,74],[11,76,11,77],[11,78,11,80],[12,23,12,24],[12,26,12,27],[12,30,12,31],[12,33,12,34],[12,36,12,37],[12,38,12,40],[12,43,12,44],[12,46,12,47],[12,50,12,51],[12,53,12,54],[12,56,12,57],[12,58,12,60],[12,63,12,64],[12,66,12,67],[12,70,12,71],[12,73,12,74],[12,76,12,77],[12,78,12,80],[13,23,13,24],[13,26,13,27],[13,30,13,31],[13,33,13,34],[13,36,13,37],[13,38,13,40],[13,43,13,44],[13,46,13,47],[13,50,13,51],[13,53,13,54],[13,56,13,57],[13,58,13,60],[13,63,13,64],[13,66,13,67],[13,70,13,71],[13,73,13,74],[13,76,13,77],[13,78,13,80],[14,23,14,24],[14,26,14,27],[14,30,14,31],[14,33,14,34],[14,36,14,37],[14,38,14,40],[14,43,14,44],[14,46,14,47],[14,50,14,51],[14,53,14,54],[14,56,14,57],[14,58,14,60],[14,63,14,64],[14,66,14,67],[14,70,14,71],[14,73,14,74],[14,76,14,77],[14,78,14,80],[15,23,15,24],[15,26,15,27],[15,30,15,31],[15,33,15,34],[15,36,15,37],[15,38,15,40],[15,43,15,44],[15,46,15,47],[15,50,15,51],[15,53,15,54],[15,56,15,57],[15,58,15,60],[15,63,15,64],[15,66,15,67],[15,70,15,71],[15,73,15,74],[15,76,15,77],[15,78,15,80],[16,23,16,24],[16,26,16,27],[16,30,16,31],[16,33,16,34],[16,36,16,37],[16,38,16,40],[16,43,16,44],[16,46,16,47],[16,50,16,51],[16,53,16,54],[16,56,16,57],[16,58,16,60],[16,63,16,64],[16,66,16,67],[16,70,16,71],[16,73,16,74],[16,76,16,77],[16,78,16,80],[17,23,17,24],[17,26,17,27],[17,30,17,31],[17,33,17,34],[17,36,17,37],[17,38,17,40],[17,43,17,44],[17,46,17,47],[17,50,17,51],[17,53,17,54],[17,56,17,57],[17,58,17,60],[17,63,17,64],[17,66,17,67],[17,70,17,71],[17,73,17,74],[17,76,17,77],[17,78,17,80],[18,23,18,24],[18,26,18,27],[18,30,18,31],[18,33,18,34],[18,36,18,37],[18,38,18,40],[18,43,18,44],[18,46,18,47],[18,50,18,51],[18,53,18,54],[18,56,18,57],[18,58,18,60],[18,63,18,64],[18,66,18,67],[18,70,18,71],[18,73,18,74],[18,76,18,77],[18,78,18,80],[19,23,19,24],[19,26,19,27],[19,30,19,31],[19,33,19,34],[19,36,19,37],[19,38,19,40],[19,43,19,44],[19,46,19,47],[19,50,19,51],[19,53,19,54],[19,56,19,57],[19,58,19,60],[19,63,19,64],[19,66,19,67],[19,70,19,71],[19,73,19,74],[19,76,19,77],[19,78,19,80],[20,23,20,24],[20,26,20,27],[20,30,20,31],[20,33,20,34],[20,36,20,37],[20,38,20,40],[20,43,20,44],[20,46,20,47],[20,50,20,51],[20,53,20,54],[20,56,20,57],[20,58,20,60],[20,63,20,64],[20,66,20,67],[20,70,20,71],[20,73,20,74],[20,76,20,77],[20,78,20,80],[21,23,21,24],[21,26,21,27],[21,30,21,31],[21,33,21,34],[21,36,21,37],[21,38,21,40],[21,43,21,44],[21,46,21,47],[21,50,21,51],[21,53,21,54],[21,56,21,57],[21,58,21,60],[21,63,21,64],[21,66,21,67],[21,70,21,71],[21,73,21,74],[21,76,21,77],[21,78,21,80],[22,23,22,24],[22,26,22,27],[22,30,22,31],[22,33,22,34],[22,36,22,37],[22,38,22,40],[22,43,22,44],[22,46,22,47],[22,50,22,51],[22,53,22,54],[22,56,22,57],[22,58,22,60],[22,63,22,64],[22,66,22,67],[22,70,22,71],[22,73,22,74],[22,76,22,77],[22,78,22,80],[23,23,23,24],[23,26,23,27],[23,30,23,31],[23,33,23,34],[23,36,23,37],[23,38,23,40],[23,43,23,44],[23,46,23,47],[23,50,23,51],[23,53,23,54],[23,56,23,57],[23,58,23,60],[23,63,23,64],[23,66,23,67],[23,70,23,71],[23,73,23,74],[23,76,23,77],[23,78,23,80],[24,23,24,24],[24,26,24,27],[24,30,24,31],[24,33,24,34],[24,36,24,37],[24,38,24,40],[24,43,24,44],[24,46,24,47],[24,50,24,51],[24,53,24,54],[24,56,24,57],[24,58,24,60],[24,63,24,64],[24,66,24,67],[24,70,24,71],[24,73,24,74],[24,76,24,77],[24,78,24,80],[25,23,25,24],[25,26,25,27],[25,30,25,31],[25,33,25,34],[25,36,25,37],[25,38,25,40],[25,43,25,44],[25,46,25,47],[25,50,25,51],[25,53,25,54],[25,56,25,57],[25,58,25,60],[25,63,25,64],[25,66,25,67],[25,70,25,71],[25,73,25,74],[25,76,25,77],[25,78,25,80],[26,23,26,24],[26,26,26,27],[26,30,26,31],[26,33,26,34],[26,36,26,37],[26,38,26,40],[26,43,26,44],[26,46,26,47],[26,50,26,51],[26,53,26,54],[26,56,26,57],[26,58,26,60],[26,63,26,64],[26,66,26,67],[26,70,26,71],[26,73,26,74],[26,76,26,77],[26,78,26,80],[27,23,27,24],[27,26,27,27],[27,30,27,31],[27,33,27,34],[27,36,27,37],[27,38,27,40],[27,43,27,44],[27,46,27,47],[27,50,27,51],[27,53,27,54],[27,56,27,57],[27,58,27,60],[27,63,27,64],[27,66,27,67],[27,70,27,71],[27,73,27,74],[27,76,27,77],[27,78,27,80],[28,23,28,24],[28,26,28,27],[28,30,28,31],[28,33,28,34],[28,36,28,37],[28,38,28,40],[28,43,28,44],[28,46,28,47],[28,50,28,51],[28,53,28,54],[28,56,28,57],[28,58,28,60],[28,63,28,64],[28,66,28,67],[28,70,28,71],[28,73,28,74],[28,76,28,77],[28,78,28,80],[30,21,30,22],[30,24,30,25],[30,27,30,28],[30,29,30,30],[30,31,30,33],[30,35,30,36],[30,37,30,38],[30,41,30,42],[30,44,30,45],[30,47,30,48],[30,49,30,50],[30,51,30,53],[30,55,30,56],[30,57,30,58],[30,61,30,62],[30,64,30,65],[30,67,30,68],[30,69,30,70],[30,71,30,73],[30,75,30,76],[30,77,30,78],[31,21,31,22],[31,24,31,25],[31,27,31,28],[31,29,31,30],[31,31,31,33],[31,35,31,36],[31,37,31,38],[31,41,31,42],[31,44,31,45],[31,47,31,48],[31,49,31,50],[31,51,31,53],[31,55,31,56],[31,57,31,58],[31,61,31,62],[31,64,31,65],[31,67,31,68],[31,69,31,70],[31,71,31,73],[31,75,31,76],[31,77,31,78],[32,21,32,22],[32,24,32,25],[32,27,32,28],[32,29,32,30],[32,31,32,33],[32,35,32,36],[32,37,32,38],[32,41,32,42],[32,44,32,45],[32,71,32,73],[32,75,32,76],[32,77,32,78],[33,21,33,22],[33,24,33,25],[33,35,33,36],[33,37,33,38],[33,41,33,42],[33,44,33,45],[33,55,33,56],[33,57,33,58],[33,61,33,62],[33,64,33,65],[33,75,33,76],[33,77,33,78],[32,47,32,48],[32,49,32,50],[32,51,32,53],[32,55,32,56],[32,57,32,58],[32,61,32,62],[32,64,32,65],[32,67,32,68],[32,69,32,70],[34,35,35,36],[34,37,35,38],[34,39,35,39],[34,55,35,56],[34,57,35,58],[34,59,35,59],[34,75,35,76],[34,77,35,78],[34,79,35,79]]}
["様式第21",null,null,null,null,null,null,null,null,null,null,null,null,null,null,null,null,null,null,"（入力用）",null,"様式第21",null,null,null,null,null,null,null,null,null,null,null,null,null,null,null,null,null,null,"（保健所提出用）","様式第21",null,null,null,null,null,null,null,null,null,null,null,null,null,null,null,null,null,null,"（医師会提出用）","様式第21",null,null,null,null,null,null,null,null,null,null,null,null,null,null,null,null,null,null,"（医療機関控え）"]
[null,null,null,null,null,null,null,null,null,null,null,null,null,"検　診　医　療　機　関　名",null,null,null,null,null,null,null,null,null,null,null,null,null,null,null,null,null,null,null,null,"検　診　医　療　機　関　名",null,null,null,null,null,null,null,null,null,null,null,null,null,null,null,null,null,null,null,"検　診　医　療　機　関　名",null,null,null,null,null,null,null,null,null,null,null,null,null,null,null,null,null,null,null,"検　診　医　療　機　関　名"]
["胃がん検診（胃内視鏡検査）受診者名簿",null,null,null,null,null,null,null,null,null,null,null,null,{"$f":"IF(ISBLANK('胃がん検診受診者名簿（1～20）'!N3:T5),\"\",'胃がん検診受診者名簿（1～20）'!N3:T5)","v":""},null,null,null,null,null,null,null,"胃がん検診（胃内視鏡検査）受診者名簿",null,null,null,null,null,null,null,null,null,null,null,null,{"$f":"IF(ISBLANK('胃がん検診受診者名簿（1～20）'!N3),\"\",'胃がん検診受診者名簿（1～20）'!N3)","v":""},null,null,null,null,null,null,"胃がん検診（胃内視鏡検査）受診者名簿",null,null,null,null,null,null,null,null,null,null,null,null,{"$f":"IF(ISBLANK('胃がん検診受診者名簿（1～20）'!AI3),\"\",'胃がん検診受診者名簿（1～20）'!AI3)","v":""},null,null,null,null,null,null,"胃がん検診（胃内視鏡検査）受診者名簿",null,null,null,null,null,null,null,null,null,null,null,null,{"$f":"IF(ISBLANK('胃がん検診受診者名簿（1～20）'!BC3),\"\",'胃がん検診受診者名簿（1～20）'!BC3)","v":""}]
[]
[]
[null,null,"（令和",{"$f":"IF(ISBLANK('胃がん検診受診者名簿（1～20）'!D6:D7),\"\",'胃がん検診受診者名簿（1～20）'!D6:D7)","v":""},"年",{"$f":"IF(ISBLANK('胃がん検診受診者名簿（1～20）'!F6:F7),\"\",'胃がん検診受診者名簿（1～20）'!F6:F7)","v":""},"月分）",null,null,null,null,null,null,"電話番号",null,{"$f":"IF(ISBLANK('胃がん検診受診者名簿（1～20）'!P6:T63),\"\",'胃がん検診受診者名簿（1～20）'!P6:T6)","v":""},null,null,null,null,null,null,null,"（令和",{"$f":"IF(ISBLANK('胃がん検診受診者名簿（1～20）'!D6),\"\",'胃がん検診受診者名簿（1～20）'!D6)","v":""},"年",{"$f":"IF(ISBLANK('胃がん検診受診者名簿（1～20）'!F6),\"\",'胃がん検診受診者名簿（1～20）'!F6)","v":""},"月分）",null,null,null,null,null,null,"電話番号",null,{"$f":"IF(ISBLANK('胃がん検診受診者名簿（1～20）'!P6),\"\",'胃がん検診受診者名簿（1～20）'!P6)","v":""},{"$f":"IF(ISBLANK('胃がん検診受診者名簿（1～20）'!Q6),\"\",'胃がん検診受診者名簿（1～20）'!Q6)","v":""},{"$f":"IF(ISBLANK('胃がん検診受診者名簿（1～20）'!R6),\"\",'胃がん検診受診者名簿（1～20）'!R6)","v":""},{"$f":"IF(ISBLANK('胃がん検診受診者名簿（1～20）'!S6),\"\",'胃がん検診受診者名簿（1～20）'!S6)","v":""},{"$f":"IF(ISBLANK('胃がん検診受診者名簿（1～20）'!T6),\"\",'胃がん検診受診者名簿（1～20）'!T6)","v":""},null,null,"（令和",{"$f":"IF(ISBLANK('胃がん検診受診者名簿（1～20）'!Y6),\"\",'胃がん検診受診者名簿（1～20）'!Y6)","v":""},"年",{"$f":"IF(ISBLANK('胃がん検診受診者名簿（1～20）'!AA6),\"\",'胃がん検診受診者名簿（1～20）'!AA6)","v":""},"月分）",null,null,null,null,null,null,"電話番号",null,{"$f":"IF(ISBLANK('胃がん検診受診者名簿（1～20）'!AK6),\"\",'胃がん検診受診者名簿（1～20）'!AK6)","v":""},{"$f":"IF(ISBLANK('胃がん検診受診者名簿（1～20）'!AL6),\"\",'胃がん検診受診者名簿（1～20）'!AL6)","v":""},{"$f":"IF(ISBLANK('胃がん検診受診者名簿（1～20）'!AM6),\"\",'胃がん検診受診者名簿（1～20）'!AM6)","v":""},{"$f":"IF(ISBLANK('胃がん検診受診者名簿（1～20）'!AN6),\"\",'胃がん検診受診者名簿（1～20）'!AN6)","v":""},{"$f":"IF(ISBLANK('胃がん検診受診者名簿（1～20）'!AO6),\"\",'胃がん検診受診者名簿（1～20）'!AO6)","v":""},null,null,"（令和",{"$f":"IF(ISBLANK('胃がん検診受診者名簿（1～20）'!AS6),\"\",'胃がん検診受診者名簿（1～20）'!AS6)","v":""},"年",{"$f":"IF(ISBLANK('胃がん検診受診者名簿（1～20）'!AU6),\"\",'胃がん検診受診者名簿（1～20）'!AU6)","v":""},"月分）",null,null,null,null,null,null,"電話番号",null,{"$f":"IF(ISBLANK('胃がん検診受診者名簿（1～20）'!BE6),\"\",'胃がん検診受診者名簿（1～20）'!BE6)","v":""},{"$f":"IF(ISBLANK('胃がん検診受診者名簿（1～20）'!BF6),\"\",'胃がん検診受診者名簿（1～20）'!BF6)","v":""},{"$f":"IF(ISBLANK('胃がん検診受診者名簿（1～20）'!BG6),\"\",'胃がん検診受診者名簿（1～20）'!BG6)","v":""},{"$f":"IF(ISBLANK('胃がん検診受診者名簿（1～20）'!BH6),\"\",'胃がん検診受診者名簿（1～20）'!BH6)","v":""},{"$f":"IF(ISBLANK('胃がん検診受診者名簿（1～20）'!BI6),\"\",'胃がん検診受診者名簿（1～20）'!BI6)","v":""}]
[]
["受付\n番号","受診日","氏　　名",null,"年齢","電話番号",null,"生検\n実施","偶発症\n発生",null,null,"結 果 判 定",null,null,"自己負担\n免除者区分",null,null,"備　　考\n（精検紹介先医療機関等）",null,null,null,"受付\n番号","受診日","氏　　名",null,"年齢","電話番号",null,"生検\n実施","偶発症\n発生",null,null,"結 果 判 定",null,null,"自己負担\n免除者区分",null,null,"備　　考\n（精検紹介先医療機関等）",null,null,"受付\n番号","受診日","氏　　名",null,"年齢","電話番号",null,"生検\n実施","偶発症\n発生",null,null,"結 果 判 定",null,null,"自己負担\n免除者区分",null,null,"備　　考\n（精検紹介先医療機関等）",null,null,"受付\n番号","受診日","氏　　名",null,"年齢","電話番号",null,"生検\n実施","偶発症\n発生",null,null,"結 果 判 定",null,null,"自己負担\n免除者区分",null,null,"備　　考\n（精検紹介先医療機関等）"]
[null,null,null,null,null,null,null,null,"検診時","生検時",null,null,null,null,null,null,null,null,null,null,null,null,null,null,null,null,null,null,null,"検診時","生検時",null,null,null,null,null,null,null,null,null,null,null,null,null,null,null,null,null,null,"検診時","生検時",null,null,null,null,null,null,null,null,null,null,null,null,null,null,null,null,null,null,"検診時","生検時"]
[21,null,null,null,null,null,null,false,false,false,null,null,{"$f":"IF(L10=1,\"胃がんなし\",IF(L10=2,\"胃がん疑い\",IF(L10=3,\"胃がんあり\",IF(L10=4,\"胃がん以外の悪性病変\",\"\"))))","v":""},null,null,{"$f":"IF(O10=1,\"70歳以上\",IF(O10=2,\"後期高齢者医療制度\",IF(O10=3,\"生活保護　世帯\",IF(O10=4,\"非課税世帯\",\"\"))))","v":""},null,null,null,null,null,21,{"$f":"IF(ISBLANK('胃がん検診受診者名簿（21～40）'!B10),\"\",'胃がん検診受診者名簿（21～40）'!B10)","v":""},{"$f":"IF(ISBLANK('胃がん検診受診者名簿（21～40）'!C10),\"\",'胃がん検診受診者名簿（21～40）'!C10)","v":""},null,{"$f":"IF(ISBLANK('胃がん検診受診者名簿（21～40）'!E10),\"\",'胃がん検診受診者名簿（21～40）'!E10)","v":""},{"$f":"IF(ISBLANK('胃がん検診受診者名簿（21～40）'!F10),\"\",'胃がん検診受診者名簿（21～40）'!F10)","v":""},null,null,null,null,null,null,{"$f":"IF(ISBLANK('胃がん検診受診者名簿（21～40）'!M10),\"\",'胃がん検診受診者名簿（21～40）'!M10)","v":""},null,null,{"$f":"IF(ISBLANK('胃がん検診受診者名簿（21～40）'!P10),\"\",'胃がん検診受診者名簿（21～40）'!P10)","v":""},null,{"$f":"IF(ISBLANK('胃がん検診受診者名簿（21～40）'!R10),\"\",'胃がん検診受診者名簿（21～40）'!R10)","v":""},null,null,21,{"$f":"IF(ISBLANK('胃がん検診受診者名簿（21～40）'!W10),\"\",'胃がん検診受診者名簿（21～40）'!W10)","v":""},{"$f":"IF(ISBLANK('胃がん検診受診者名簿（21～40）'!X10),\"\",'胃がん検診受診者名簿（21～40）'!X10)","v":""},{"$f":"IF(ISBLANK('胃がん検診受診者名簿（21～40）'!Y10),\"\",'胃がん検診受診者名簿（21～40）'!Y10)","v":""},{"$f":"IF(ISBLANK('胃がん検診受診者名簿（21～40）'!Z10),\"\",'胃がん検診受診者名簿（21～40）'!Z10)","v":""},{"$f":"IF(ISBLANK('胃がん検診受診者名簿（21～40）'!AA10),\"\",'胃がん検診受診者名簿（21～40）'!AA10)","v":""},{"$f":"IF(ISBLANK('胃がん検診受診者名簿（21～40）'!AB10),\"\",'胃がん検診受診者名簿（21～40）'!AB10)","v":""},null,null,null,null,null,{"$f":"IF(ISBLANK('胃がん検診受診者名簿（21～40）'!AH10),\"\",'胃がん検診受診者名簿（21～40）'!AH10)","v":""},null,null,{"$f":"IF(ISBLANK('胃がん検診受診者名簿（21～40）'!AK10),\"\",'胃がん検診受診者名簿（21～40）'!AK10)","v":""},null,{"$f":"IF(ISBLANK('胃がん検診受診者名簿（21～40）'!AM10),\"\",'胃がん検診受診者名簿（21～40）'!AM10)","v":""},null,null,21,{"$f":"IF(ISBLANK('胃がん検診受診者名簿（21～40）'!AQ10),\"\",'胃がん検診受診者名簿（21～40）'!AQ10)","v":""},{"$f":"IF(ISBLANK('胃がん検診受診者名簿（21～40）'!AR10),\"\",'胃がん検診受診者名簿（21～40）'!AR10)","v":""},{"$f":"IF(ISBLANK('胃がん検診受診者名簿（21～40）'!AS10),\"\",'胃がん検診受診者名簿（21～40）'!AS10)","v":""},{"$f":"IF(ISBLANK('胃がん検診受診者名簿（21～40）'!AT10),\"\",'胃がん検診受診者名簿（21～40）'!AT10)","v":""},{"$f":"IF(ISBLANK('胃がん検診受診者名簿（21～40）'!AU10),\"\",'胃がん検診受診者名簿（21～40）'!AU10)","v":""},{"$f":"IF(ISBLANK('胃がん検診受診者名簿（21～40）'!AV10),\"\",'胃がん検診受診者名簿（21～40）'!AV10)","v":""},null,null,null,null,null,{"$f":"IF(ISBLANK('胃がん検診受診者名簿（21～40）'!BB10),\"\",'胃がん検診受診者名簿（21～40）'!BB10)","v":""},null,null,{"$f":"IF(ISBLANK('胃がん検診受診者名簿（21～40）'!BE10),\"\",'胃がん検診受診者名簿（21～40）'!BE10)","v":""},null,{"$f":"IF(ISBLANK('胃がん検診受診者名簿（21～40）'!BG10),\"\",'胃がん検診受診者名簿（21～40）'!BG10)","v":""}]
[22,null,null,null,null,null,null,false,false,false,null,null,{"$f":"IF(L11=1,\"胃がんなし\",IF(L11=2,\"胃がん疑い\",IF(L11=3,\"胃がんあり\",IF(L11=4,\"胃がん以外の悪性病変\",\"\"))))","v":""},null,null,{"$f":"IF(O11=1,\"70歳以上\",IF(O11=2,\"後期高齢者医療制度\",IF(O11=3,\"生活保護　世帯\",IF(O11=4,\"非課税世帯\",\"\"))))","v":""},null,null,null,null,null,22,{"$f":"IF(ISBLANK('胃がん検診受診者名簿（21～40）'!B11),\"\",'胃がん検診受診者名簿（21～40）'!B11)","v":""},{"$f":"IF(ISBLANK('胃がん検診受診者名簿（21～40）'!C11),\"\",'胃がん検診受診者名簿（21～40）'!C11)","v":""},null,{"$f":"IF(ISBLANK('胃がん検診受診者名簿（21～40）'!E11),\"\",'胃がん検診受診者名簿（21～40）'!E11)","v":""},{"$f":"IF(ISBLANK('胃がん検診受診者名簿（21～40）'!F11),\"\",'胃がん検診受診者名簿（21～40）'!F11)","v":""},null,null,null,null,null,null,{"$f":"IF(ISBLANK('胃がん検診受診者名簿（21～40）'!M11),\"\",'胃がん検診受診者名簿（21～40）'!M11)","v":""},null,null,{"$f":"IF(ISBLANK('胃がん検診受診者名簿（21～40）'!P11),\"\",'胃がん検診受診者名簿（21～40）'!P11)","v":""},null,{"$f":"IF(ISBLANK('胃がん検診受診者名簿（21～40）'!R11),\"\",'胃がん検診受診者名簿（21～40）'!R11)","v":""},null,null,22,{"$f":"IF(ISBLANK('胃がん検診受診者名簿（21～40）'!W11),\"\",'胃がん検診受診者名簿（21～40）'!W11)","v":""},{"$f":"IF(ISBLANK('胃がん検診受診者名簿（21～40）'!X11),\"\",'胃がん検診受診者名簿（21～40）'!X11)","v":""},{"$f":"IF(ISBLANK('胃がん検診受診者名簿（21～40）'!Y11),\"\",'胃がん検診受診者名簿（21～40）'!Y11)","v":""},{"$f":"IF(ISBLANK('胃がん検診受診者名簿（21～40）'!Z11),\"\",'胃がん検診受診者名簿（21～40）'!Z11)","v":""},{"$f":"IF(ISBLANK('胃がん検診受診者名簿（21～40）'!AA11),\"\",'胃がん検診受診者名簿（21～40）'!AA11)","v":""},{"$f":"IF(ISBLANK('胃がん検診受診者名簿（21～40）'!AB11),\"\",'胃がん検診受診者名簿（21～40）'!AB11)","v":""},null,null,null,null,null,{"$f":"IF(ISBLANK('胃がん検診受診者名簿（21～40）'!AH11),\"\",'胃がん検診受診者名簿（21～40）'!AH11)","v":""},null,null,{"$f":"IF(ISBLANK('胃がん検診受診者名簿（21～40）'!AK11),\"\",'胃がん検診受診者名簿（21～40）'!AK11)","v":""},null,{"$f":"IF(ISBLANK('胃がん検診受診者名簿（21～40）'!AM11),\"\",'胃がん検診受診者名簿（21～40）'!AM11)","v":""},null,null,22,{"$f":"IF(ISBLANK('胃がん検診受診者名簿（21～40）'!AQ11),\"\",'胃がん検診受診者名簿（21～40）'!AQ11)","v":""},{"$f":"IF(ISBLANK('胃がん検診受診者名簿（21～40）'!AR11),\"\",'胃がん検診受診者名簿（21～40）'!AR11)","v":""},{"$f":"IF(ISBLANK('胃がん検診受診者名簿（21～40）'!AS11),\"\",'胃がん検診受診者名簿（21～40）'!AS11)","v":""},{"$f":"IF(ISBLANK('胃がん検診受診者名簿（21～40）'!AT11),\"\",'胃がん検診受診者名簿（21～40）'!AT11)","v":""},{"$f":"IF(ISBLANK('胃がん検診受診者名簿（21～40）'!AU11),\"\",'胃がん検診受診者名簿（21～40）'!AU11)","v":""},{"$f":"IF(ISBLANK('胃がん検診受診者名簿（21～40）'!AV11),\"\",'胃がん検診受診者名簿（21～40）'!AV11)","v":""},null,null,null,null,null,{"$f":"IF(ISBLANK('胃がん検診受診者名簿（21～40）'!BB11),\"\",'胃がん検診受診者名簿（21～40）'!BB11)","v":""},null,null,{"$f":"IF(ISBLANK('胃がん検診受診者名簿（21～40）'!BE11),\"\",'胃がん検診受診者名簿（21～40）'!BE11)","v":""},null,{"$f":"IF(ISBLANK('胃がん検診受診者名簿（21～40）'!BG11),\"\",'胃がん検診受診者名簿（21～40）'!BG11)","v":""}]
[23,null,null,null,null,null,null,false,null,false,null,null,{"$f":"IF(L12=1,\"胃がんなし\",IF(L12=2,\"胃がん疑い\",IF(L12=3,\"胃がんあり\",IF(L12=4,\"胃がん以外の悪性病変\",\"\"))))","v":""},null,null,"",null,null,null,null,null,23,{"$f":"IF(ISBLANK('胃がん検診受診者名簿（21～40）'!B12),\"\",'胃がん検診受診者名簿（21～40）'!B12)","v":""},{"$f":"IF(ISBLANK('胃がん検診受診者名簿（21～40）'!C12),\"\",'胃がん検診受診者名簿（21～40）'!C12)","v":""},null,{"$f":"IF(ISBLANK('胃がん検診受診者名簿（21～40）'!E12),\"\",'胃がん検診受診者名簿（21～40）'!E12)","v":""},{"$f":"IF(ISBLANK('胃がん検診受診者名簿（21～40）'!F12),\"\",'胃がん検診受診者名簿（21～40）'!F12)","v":""},null,null,null,null,null,null,{"$f":"IF(ISBLANK('胃がん検診受診者名簿（21～40）'!M12),\"\",'胃がん検診受診者名簿（21～40）'!M12)","v":""},null,null,{"$f":"IF(ISBLANK('胃がん検診受診者名簿（21～40）'!P12),\"\",'胃がん検診受診者名簿（21～40）'!P12)","v":""},null,{"$f":"IF(ISBLANK('胃がん検診受診者名簿（21～40）'!R12),\"\",'胃がん検診受診者名簿（21～40）'!R12)","v":""},null,null,23,{"$f":"IF(ISBLANK('胃がん検診受診者名簿（21～40）'!W12),\"\",'胃がん検診受診者名簿（21～40）'!W12)","v":""},{"$f":"IF(ISBLANK('胃がん検診受診者名簿（21～40）'!X12),\"\",'胃がん検診受診者名簿（21～40）'!X12)","v":""},{"$f":"IF(ISBLANK('胃がん検診受診者名簿（21～40）'!Y12),\"\",'胃がん検診受診者名簿（21～40）'!Y12)","v":""},{"$f":"IF(ISBLANK('胃がん検診受診者名簿（21～40）'!Z12),\"\",'胃がん検診受診者名簿（21～40）'!Z12)","v":""},{"$f":"IF(ISBLANK('胃がん検診受診者名簿（21～40）'!AA12),\"\",'胃がん検診受診者名簿（21～40）'!AA12)","v":""},{"$f":"IF(ISBLANK('胃がん検診受診者名簿（21～40）'!AB12),\"\",'胃がん検診受診者名簿（21～40）'!AB12)","v":""},null,null,null,null,null,{"$f":"IF(ISBLANK('胃がん検診受診者名簿（21～40）'!AH12),\"\",'胃がん検診受診者名簿（21～40）'!AH12)","v":""},null,null,{"$f":"IF(ISBLANK('胃がん検診受診者名簿（21～40）'!AK12),\"\",'胃がん検診受診者名簿（21～40）'!AK12)","v":""},null,{"$f":"IF(ISBLANK('胃がん検診受診者名簿（21～40）'!AM12),\"\",'胃がん検診受診者名簿（21～40）'!AM12)","v":""},null,null,23,{"$f":"IF(ISBLANK('胃がん検診受診者名簿（21～40）'!AQ12),\"\",'胃がん検診受診者名簿（21～40）'!AQ12)","v":""},{"$f":"IF(ISBLANK('胃がん検診受診者名簿（21～40）'!AR12),\"\",'胃がん検診受診者名簿（21～40）'!AR12)","v":""},{"$f":"IF(ISBLANK('胃がん検診受診者名簿（21～40）'!AS12),\"\",'胃がん検診受診者名簿（21～40）'!AS12)","v":""},{"$f":"IF(ISBLANK('胃がん検診受診者名簿（21～40）'!AT12),\"\",'胃がん検診受診者名簿（21～40）'!AT12)","v":""},{"$f":"IF(ISBLANK('胃がん検診受診者名簿（21～40）'!AU12),\"\",'胃がん検診受診者名簿（21～40）'!AU12)","v":""},{"$f":"IF(ISBLANK('胃がん検診受診者名簿（21～40）'!AV12),\"\",'胃がん検診受診者名簿（21～40）'!AV12)","v":""},null,null,null,null,null,{"$f":"IF(ISBLANK('胃がん検診受診者名簿（21～40）'!BB12),\"\",'胃がん検診受診者名簿（21～40）'!BB12)","v":""},null,null,{"$f":"IF(ISBLANK('胃がん検診受診者名簿（21～40）'!BE12),\"\",'胃がん検診受診者名簿（21～40）'!BE12)","v":""},null,{"$f":"IF(ISBLANK('胃がん検診受診者名簿（21～40）'!BG12),\"\",'胃がん検診受診者名簿（21～40）'!BG12)","v":""}]
[24,null,null,null,null,null,null,false,null,null,null,null,"",null,null,"",null,null,null,null,null,24,{"$f":"IF(ISBLANK('胃がん検診受診者名簿（21～40）'!B13),\"\",'胃がん検診受診者名簿（21～40）'!B13)","v":""},{"$f":"IF(ISBLANK('胃がん検診受診者名簿（21～40）'!C13),\"\",'胃がん検診受診者名簿（21～40）'!C13)","v":""},null,{"$f":"IF(ISBLANK('胃がん検診受診者名簿（21～40）'!E13),\"\",'胃がん検診受診者名簿（21～40）'!E13)","v":""},{"$f":"IF(ISBLANK('胃がん検診受診者名簿（21～40）'!F13),\"\",'胃がん検診受診者名簿（21～40）'!F13)","v":""},null,null,null,null,null,null,{"$f":"IF(ISBLANK('胃がん検診受診者名簿（21～40）'!M13),\"\",'胃がん検診受診者名簿（21～40）'!M13)","v":""},null,null,{"$f":"IF(ISBLANK('胃がん検診受診者名簿（21～40）'!P13),\"\",'胃がん検診受診者名簿（21～40）'!P13)","v":""},null,{"$f":"IF(ISBLANK('胃がん検診受診者名簿（21～40）'!R13),\"\",'胃がん検診受診者名簿（21～40）'!R13)","v":""},null,null,24,{"$f":"IF(ISBLANK('胃がん検診受診者名簿（21～40）'!W13),\"\",'胃がん検診受診者名簿（21～40）'!W13)","v":""},{"$f":"IF(ISBLANK('胃がん検診受診者名簿（21～40）'!X13),\"\",'胃がん検診受診者名簿（21～40）'!X13)","v":""},{"$f":"IF(ISBLANK('胃がん検診受診者名簿（21～40）'!Y13),\"\",'胃がん検診受診者名簿（21～40）'!Y13)","v":""},{"$f":"IF(ISBLANK('胃がん検診受診者名簿（21～40）'!Z13),\"\",'胃がん検診受診者名簿（21～40）'!Z13)","v":""},{"$f":"IF(ISBLANK('胃がん検診受診者名簿（21～40）'!AA13),\"\",'胃がん検診受診者名簿（21～40）'!AA13)","v":""},{"$f":"IF(ISBLANK('胃がん検診受診者名簿（21～40）'!AB13),\"\",'胃がん検診受診者名簿（21～40）'!AB13)","v":""},null,null,null,null,null,{"$f":"IF(ISBLANK('胃がん検診受診者名簿（21～40）'!AH13),\"\",'胃がん検診受診者名簿（21～40）'!AH13)","v":""},null,null,{"$f":"IF(ISBLANK('胃がん検診受診者名簿（21～40）'!AK13),\"\",'胃がん検診受診者名簿（21～40）'!AK13)","v":""},null,{"$f":"IF(ISBLANK('胃がん検診受診者名簿（21～40）'!AM13),\"\",'胃がん検診受診者名簿（21～40）'!AM13)","v":""},null,null,24,{"$f":"IF(ISBLANK('胃がん検診受診者名簿（21～40）'!AQ13),\"\",'胃がん検診受診者名簿（21～40）'!AQ13)","v":""},{"$f":"IF(ISBLANK('胃がん検診受診者名簿（21～40）'!AR13),\"\",'胃がん検診受診者名簿（21～40）'!AR13)","v":""},{"$f":"IF(ISBLANK('胃がん検診受診者名簿（21～40）'!AS13),\"\",'胃がん検診受診者名簿（21～40）'!AS13)","v":""},{"$f":"IF(ISBLANK('胃がん検診受診者名簿（21～40）'!AT13),\"\",'胃がん検診受診者名簿（21～40）'!AT13)","v":""},{"$f":"IF(ISBLANK('胃がん検診受診者名簿（21～40）'!AU13),\"\",'胃がん検診受診者名簿（21～40）'!AU13)","v":""},{"$f":"IF(ISBLANK('胃がん検診受診者名簿（21～40）'!AV13),\"\",'胃がん検診受診者名簿（21～40）'!AV13)","v":""},null,null,null,null,null,{"$f":"IF(ISBLANK('胃がん検診受診者名簿（21～40）'!BB13),\"\",'胃がん検診受診者名簿（21～40）'!BB13)","v":""},null,null,{"$f":"IF(ISBLANK('胃がん検診受診者名簿（21～40）'!BE13),\"\",'胃がん検診受診者名簿（21～40）'!BE13)","v":""},null,{"$f":"IF(ISBLANK('胃がん検診受診者名簿（21～40）'!BG13),\"\",'胃がん検診受診者名簿（21～40）'!BG13)","v":""}]
[25,null,null,null,null,null,null,null,false,null,null,null,"",null,null,"",null,null,null,null,null,25,{"$f":"IF(ISBLANK('胃がん検診受診者名簿（21～40）'!B14),\"\",'胃がん検診受診者名簿（21～40）'!B14)","v":""},{"$f":"IF(ISBLANK('胃がん検診受診者名簿（21～40）'!C14),\"\",'胃がん検診受診者名簿（21～40）'!C14)","v":""},null,{"$f":"IF(ISBLANK('胃がん検診受診者名簿（21～40）'!E14),\"\",'胃がん検診受診者名簿（21～40）'!E14)","v":""},{"$f":"IF(ISBLANK('胃がん検診受診者名簿（21～40）'!F14),\"\",'胃がん検診受診者名簿（21～40）'!F14)","v":""},null,null,null,null,null,null,{"$f":"IF(ISBLANK('胃がん検診受診者名簿（21～40）'!M14),\"\",'胃がん検診受診者名簿（21～40）'!M14)","v":""},null,null,{"$f":"IF(ISBLANK('胃がん検診受診者名簿（21～40）'!P14),\"\",'胃がん検診受診者名簿（21～40）'!P14)","v":""},null,{"$f":"IF(ISBLANK('胃がん検診受診者名簿（21～40）'!R14),\"\",'胃がん検診受診者名簿（21～40）'!R14)","v":""},null,null,25,{"$f":"IF(ISBLANK('胃がん検診受診者名簿（21～40）'!W14),\"\",'胃がん検診受診者名簿（21～40）'!W14)","v":""},{"$f":"IF(ISBLANK('胃がん検診受診者名簿（21～40）'!X14),\"\",'胃がん検診受診者名簿（21～40）'!X14)","v":""},{"$f":"IF(ISBLANK('胃がん検診受診者名簿（21～40）'!Y14),\"\",'胃がん検診受診者名簿（21～40）'!Y14)","v":""},{"$f":"IF(ISBLANK('胃がん検診受診者名簿（21～40）'!Z14),\"\",'胃がん検診受診者名簿（21～40）'!Z14)","v":""},{"$f":"IF(ISBLANK('胃がん検診受診者名簿（21～40）'!AA14),\"\",'胃がん検診受診者名簿（21～40）'!AA14)","v":""},{"$f":"IF(ISBLANK('胃がん検診受診者名簿（21～40）'!AB14),\"\",'胃がん検診受診者名簿（21～40）'!AB14)","v":""},null,null,null,null,null,{"$f":"IF(ISBLANK('胃がん検診受診者名簿（21～40）'!AH14),\"\",'胃がん検診受診者名簿（21～40）'!AH14)","v":""},null,null,{"$f":"IF(ISBLANK('胃がん検診受診者名簿（21～40）'!AK14),\"\",'胃がん検診受診者名簿（21～40）'!AK14)","v":""},null,{"$f":"IF(ISBLANK('胃がん検診受診者名簿（21～40）'!AM14),\"\",'胃がん検診受診者名簿（21～40）'!AM14)","v":""},null,null,25,{"$f":"IF(ISBLANK('胃がん検診受診者名簿（21～40）'!AQ14),\"\",'胃がん検診受診者名簿（21～40）'!AQ14)","v":""},{"$f":"IF(ISBLANK('胃がん検診受診者名簿（21～40）'!AR14),\"\",'胃がん検診受診者名簿（21～40）'!AR14)","v":""},{"$f":"IF(ISBLANK('胃がん検診受診者名簿（21～40）'!AS14),\"\",'胃がん検診受診者名簿（21～40）'!AS14)","v":""},{"$f":"IF(ISBLANK('胃がん検診受診者名簿（21～40）'!AT14),\"\",'胃がん検診受診者名簿（21～40）'!AT14)","v":""},{"$f":"IF(ISBLANK('胃がん検診受診者名簿（21～40）'!AU14),\"\",'胃がん検診受診者名簿（21～40）'!AU14)","v":""},{"$f":"IF(ISBLANK('胃がん検診受診者名簿（21～40）'!AV14),\"\",'胃がん検診受診者名簿（21～40）'!AV14)","v":""},null,null,null,null,null,{"$f":"IF(ISBLANK('胃がん検診受診者名簿（21～40）'!BB14),\"\",'胃がん検診受診者名簿（21～40）'!BB14)","v":""},null,null,{"$f":"IF(ISBLANK('胃がん検診受診者名簿（21～40）'!BE14),\"\",'胃がん検診受診者名簿（21～40）'!BE14)","v":""},null,{"$f":"IF(ISBLANK('胃がん検診受診者名簿（21～40）'!BG14),\"\",'胃がん検診受診者名簿（21～40）'!BG14)","v":""}]
[26,null,null,null,null,null,null,false,false,false,null,null,"",null,null,"",null,null,null,null,null,26,{"$f":"IF(ISBLANK('胃がん検診受診者名簿（21～40）'!B15),\"\",'胃がん検診受診者名簿（21～40）'!B15)","v":""},{"$f":"IF(ISBLANK('胃がん検診受診者名簿（21～40）'!C15),\"\",'胃がん検診受診者名簿（21～40）'!C15)","v":""},null,{"$f":"IF(ISBLANK('胃がん検診受診者名簿（21～40）'!E15),\"\",'胃がん検診受診者名簿（21～40）'!E15)","v":""},{"$f":"IF(ISBLANK('胃がん検診受診者名簿（21～40）'!F15),\"\",'胃がん検診受診者名簿（21～40）'!F15)","v":""},null,null,null,null,null,null,{"$f":"IF(ISBLANK('胃がん検診受診者名簿（21～40）'!M15),\"\",'胃がん検診受診者名簿（21～40）'!M15)","v":""},null,null,{"$f":"IF(ISBLANK('胃がん検診受診者名簿（21～40）'!P15),\"\",'胃がん検診受診者名簿（21～40）'!P15)","v":""},null,{"$f":"IF(ISBLANK('胃がん検診受診者名簿（21～40）'!R15),\"\",'胃がん検診受診者名簿（21～40）'!R15)","v":""},null,null,26,{"$f":"IF(ISBLANK('胃がん検診受診者名簿（21～40）'!W15),\"\",'胃がん検診受診者名簿（21～40）'!W15)","v":""},{"$f":"IF(ISBLANK('胃がん検診受診者名簿（21～40）'!X15),\"\",'胃がん検診受診者名簿（21～40）'!X15)","v":""},{"$f":"IF(ISBLANK('胃がん検診受診者名簿（21～40）'!Y15),\"\",'胃がん検診受診者名簿（21～40）'!Y15)","v":""},{"$f":"IF(ISBLANK('胃がん検診受診者名簿（21～40）'!Z15),\"\",'胃がん検診受診者名簿（21～40）'!Z15)","v":""},{"$f":"IF(ISBLANK('胃がん検診受診者名簿（21～40）'!AA15),\"\",'胃がん検診受診者名簿（21～40）'!AA15)","v":""},{"$f":"IF(ISBLANK('胃がん検診受診者名簿（21～40）'!AB15),\"\",'胃がん検診受診者名簿（21～40）'!AB15)","v":""},null,null,null,null,null,{"$f":"IF(ISBLANK('胃がん検診受診者名簿（21～40）'!AH15),\"\",'胃がん検診受診者名簿（21～40）'!AH15)","v":""},null,null,{"$f":"IF(ISBLANK('胃がん検診受診者名簿（21～40）'!AK15),\"\",'胃がん検診受診者名簿（21～40）'!AK15)","v":""},null,{"$f":"IF(ISBLANK('胃がん検診受診者名簿（21～40）'!AM15),\"\",'胃がん検診受診者名簿（21～40）'!AM15)","v":""},null,null,26,{"$f":"IF(ISBLANK('胃がん検診受診者名簿（21～40）'!AQ15),\"\",'胃がん検診受診者名簿（21～40）'!AQ15)","v":""},{"$f":"IF(ISBLANK('胃がん検診受診者名簿（21～40）'!AR15),\"\",'胃がん検診受診者名簿（21～40）'!AR15)","v":""},{"$f":"IF(ISBLANK('胃がん検診受診者名簿（21～40）'!AS15),\"\",'胃がん検診受診者名簿（21～40）'!AS15)","v":""},{"$f":"IF(ISBLANK('胃がん検診受診者名簿（21～40）'!AT15),\"\",'胃がん検診受診者名簿（21～40）'!AT15)","v":""},{"$f":"IF(ISBLANK('胃がん検診受診者名簿（21～40）'!AU15),\"\",'胃がん検診受診者名簿（21～40）'!AU15)","v":""},{"$f":"IF(ISBLANK('胃がん検診受診者名簿（21～40）'!AV15),\"\",'胃がん検診受診者名簿（21～40）'!AV15)","v":""},null,null,null,null,null,{"$f":"IF(ISBLANK('胃がん検診受診者名簿（21～40）'!BB15),\"\",'胃がん検診受診者名簿（21～40）'!BB15)","v":""},null,null,{"$f":"IF(ISBLANK('胃がん検診受診者名簿（21～40）'!BE15),\"\",'胃がん検診受診者名簿（21～40）'!BE15)","v":""},null,{"$f":"IF(ISBLANK('胃がん検診受診者名簿（21～40）'!BG15),\"\",'胃がん検診受診者名簿（21～40）'!BG15)","v":""}]
[27,null,null,null,null,null,null,null,null,null,null,null,"",null,null,"",null,null,null,null,null,27,{"$f":"IF(ISBLANK('胃がん検診受診者名簿（21～40）'!B16),\"\",'胃がん検診受診者名簿（21～40）'!B16)","v":""},{"$f":"IF(ISBLANK('胃がん検診受診者名簿（21～40）'!C16),\"\",'胃がん検診受診者名簿（21～40）'!C16)","v":""},null,{"$f":"IF(ISBLANK('胃がん検診受診者名簿（21～40）'!E16),\"\",'胃がん検診受診者名簿（21～40）'!E16)","v":""},{"$f":"IF(ISBLANK('胃がん検診受診者名簿（21～40）'!F16),\"\",'胃がん検診受診者名簿（21～40）'!F16)","v":""},null,null,null,null,null,null,{"$f":"IF(ISBLANK('胃がん検診受診者名簿（21～40）'!M16),\"\",'胃がん検診受診者名簿（21～40）'!M16)","v":""},null,null,{"$f":"IF(ISBLANK('胃がん検診受診者名簿（21～40）'!P16),\"\",'胃がん検診受診者名簿（21～40）'!P16)","v":""},null,{"$f":"IF(ISBLANK('胃がん検診受診者名簿（21～40）'!R16),\"\",'胃がん検診受診者名簿（21～40）'!R16)","v":""},null,null,27,{"$f":"IF(ISBLANK('胃がん検診受診者名簿（21～40）'!W16),\"\",'胃がん検診受診者名簿（21～40）'!W16)","v":""},{"$f":"IF(ISBLANK('胃がん検診受診者名簿（21～40）'!X16),\"\",'胃がん検診受診者名簿（21～40）'!X16)","v":""},{"$f":"IF(ISBLANK('胃がん検診受診者名簿（21～40）'!Y16),\"\",'胃がん検診受診者名簿（21～40）'!Y16)","v":""},{"$f":"IF(ISBLANK('胃がん検診受診者名簿（21～40）'!Z16),\"\",'胃がん検診受診者名簿（21～40）'!Z16)","v":""},{"$f":"IF(ISBLANK('胃がん検診受診者名簿（21～40）'!AA16),\"\",'胃がん検診受診者名簿（21～40）'!AA16)","v":""},{"$f":"IF(ISBLANK('胃がん検診受診者名簿（21～40）'!AB16),\"\",'胃がん検診受診者名簿（21～40）'!AB16)","v":""},null,null,null,null,null,{"$f":"IF(ISBLANK('胃がん検診受診者名簿（21～40）'!AH16),\"\",'胃がん検診受診者名簿（21～40）'!AH16)","v":""},null,null,{"$f":"IF(ISBLANK('胃がん検診受診者名簿（21～40）'!AK16),\"\",'胃がん検診受診者名簿（21～40）'!AK16)","v":""},null,{"$f":"IF(ISBLANK('胃がん検診受診者名簿（21～40）'!AM16),\"\",'胃がん検診受診者名簿（21～40）'!AM16)","v":""},null,null,27,{"$f":"IF(ISBLANK('胃がん検診受診者名簿（21～40）'!AQ16),\"\",'胃がん検診受診者名簿（21～40）'!AQ16)","v":""},{"$f":"IF(ISBLANK('胃がん検診受診者名簿（21～40）'!AR16),\"\",'胃がん検診受診者名簿（21～40）'!AR16)","v":""},{"$f":"IF(ISBLANK('胃がん検診受診者名簿（21～40）'!AS16),\"\",'胃がん検診受診者名簿（21～40）'!AS16)","v":""},{"$f":"IF(ISBLANK('胃がん検診受診者名簿（21～40）'!AT16),\"\",'胃がん検診受診者名簿（21～40）'!AT16)","v":""},{"$f":"IF(ISBLANK('胃がん検診受診者名簿（21～40）'!AU16),\"\",'胃がん検診受診者名簿（21～40）'!AU16)","v":""},{"$f":"IF(ISBLANK('胃がん検診受診者名簿（21～40）'!AV16),\"\",'胃がん検診受診者名簿（21～40）'!AV16)","v":""},null,null,null,null,null,{"$f":"IF(ISBLANK('胃がん検診受診者名簿（21～40）'!BB16),\"\",'胃がん検診受診者名簿（21～40）'!BB16)","v":""},null,null,{"$f":"IF(ISBLANK('胃がん検診受診者名簿（21～40）'!BE16),\"\",'胃がん検診受診者名簿（21～40）'!BE16)","v":""},null,{"$f":"IF(ISBLANK('胃がん検診受診者名簿（21～40）'!BG16),\"\",'胃がん検診受診者名簿（21～40）'!BG16)","v":""}]
[28,null,null,null,null,null,null,false,false,false,null,null,"",null,null,"",null,null,null,null,null,28,{"$f":"IF(ISBLANK('胃がん検診受診者名簿（21～40）'!B17),\"\",'胃がん検診受診者名簿（21～40）'!B17)","v":""},{"$f":"IF(ISBLANK('胃がん検診受診者名簿（21～40）'!C17),\"\",'胃がん検診受診者名簿（21～40）'!C17)","v":""},null,{"$f":"IF(ISBLANK('胃がん検診受診者名簿（21～40）'!E17),\"\",'胃がん検診受診者名簿（21～40）'!E17)","v":""},{"$f":"IF(ISBLANK('胃がん検診受診者名簿（21～40）'!F17),\"\",'胃がん検診受診者名簿（21～40）'!F17)","v":""},null,null,null,null,null,null,{"$f":"IF(ISBLANK('胃がん検診受診者名簿（21～40）'!M17),\"\",'胃がん検診受診者名簿（21～40）'!M17)","v":""},null,null,{"$f":"IF(ISBLANK('胃がん検診受診者名簿（21～40）'!P17),\"\",'胃がん検診受診者名簿（21～40）'!P17)","v":""},null,{"$f":"IF(ISBLANK('胃がん検診受診者名簿（21～40）'!R17),\"\",'胃がん検診受診者名簿（21～40）'!R17)","v":""},null,null,28,{"$f":"IF(ISBLANK('胃がん検診受診者名簿（21～40）'!W17),\"\",'胃がん検診受診者名簿（21～40）'!W17)","v":""},{"$f":"IF(ISBLANK('胃がん検診受診者名簿（21～40）'!X17),\"\",'胃がん検診受診者名簿（21～40）'!X17)","v":""},{"$f":"IF(ISBLANK('胃がん検診受診者名簿（21～40）'!Y17),\"\",'胃がん検診受診者名簿（21～40）'!Y17)","v":""},{"$f":"IF(ISBLANK('胃がん検診受診者名簿（21～40）'!Z17),\"\",'胃がん検診受診者名簿（21～40）'!Z17)","v":""},{"$f":"IF(ISBLANK('胃がん検診受診者名簿（21～40）'!AA17),\"\",'胃がん検診受診者名簿（21～40）'!AA17)","v":""},{"$f":"IF(ISBLANK('胃がん検診受診者名簿（21～40）'!AB17),\"\",'胃がん検診受診者名簿（21～40）'!AB17)","v":""},null,null,null,null,null,{"$f":"IF(ISBLANK('胃がん検診受診者名簿（21～40）'!AH17),\"\",'胃がん検診受診者名簿（21～40）'!AH17)","v":""},null,null,{"$f":"IF(ISBLANK('胃がん検診受診者名簿（21～40）'!AK17),\"\",'胃がん検診受診者名簿（21～40）'!AK17)","v":""},null,{"$f":"IF(ISBLANK('胃がん検診受診者名簿（21～40）'!AM17),\"\",'胃がん検診受診者名簿（21～40）'!AM17)","v":""},null,null,28,{"$f":"IF(ISBLANK('胃がん検診受診者名簿（21～40）'!AQ17),\"\",'胃がん検診受診者名簿（21～40）'!AQ17)","v":""},{"$f":"IF(ISBLANK('胃がん検診受診者名簿（21～40）'!AR17),\"\",'胃がん検診受診者名簿（21～40）'!AR17)","v":""},{"$f":"IF(ISBLANK('胃がん検診受診者名簿（21～40）'!AS17),\"\",'胃がん検診受診者名簿（21～40）'!AS17)","v":""},{"$f":"IF(ISBLANK('胃がん検診受診者名簿（21～40）'!AT17),\"\",'胃がん検診受診者名簿（21～40）'!AT17)","v":""},{"$f":"IF(ISBLANK('胃がん検診受診者名簿（21～40）'!AU17),\"\",'胃がん検診受診者名簿（21～40）'!AU17)","v":""},{"$f":"IF(ISBLANK('胃がん検診受診者名簿（21～40）'!AV17),\"\",'胃がん検診受診者名簿（21～40）'!AV17)","v":""},null,null,null,null,null,{"$f":"IF(ISBLANK('胃がん検診受診者名簿（21～40）'!BB17),\"\",'胃がん検診受診者名簿（21～40）'!BB17)","v":""},null,null,{"$f":"IF(ISBLANK('胃がん検診受診者名簿（21～40）'!BE17),\"\",'胃がん検診受診者名簿（21～40）'!BE17)","v":""},null,{"$f":"IF(ISBLANK('胃がん検診受診者名簿（21～40）'!BG17),\"\",'胃がん検診受診者名簿（21～40）'!BG17)","v":""}]
[29,null,null,null,null,null,null,false,false,false,null,null,"",null,null,"",null,null,null,null,null,29,{"$f":"IF(ISBLANK('胃がん検診受診者名簿（21～40）'!B18),\"\",'胃がん検診受診者名簿（21～40）'!B18)","v":""},{"$f":"IF(ISBLANK('胃がん検診受診者名簿（21～40）'!C18),\"\",'胃がん検診受診者名簿（21～40）'!C18)","v":""},null,{"$f":"IF(ISBLANK('胃がん検診受診者名簿（21～40）'!E18),\"\",'胃がん検診受診者名簿（21～40）'!E18)","v":""},{"$f":"IF(ISBLANK('胃がん検診受診者名簿（21～40）'!F18),\"\",'胃がん検診受診者名簿（21～40）'!F18)","v":""},null,null,null,null,null,null,{"$f":"IF(ISBLANK('胃がん検診受診者名簿（21～40）'!M18),\"\",'胃がん検診受診者名簿（21～40）'!M18)","v":""},null,null,{"$f":"IF(ISBLANK('胃がん検診受診者名簿（21～40）'!P18),\"\",'胃がん検診受診者名簿（21～40）'!P18)","v":""},null,{"$f":"IF(ISBLANK('胃がん検診受診者名簿（21～40）'!R18),\"\",'胃がん検診受診者名簿（21～40）'!R18)","v":""},null,null,29,{"$f":"IF(ISBLANK('胃がん検診受診者名簿（21～40）'!W18),\"\",'胃がん検診受診者名簿（21～40）'!W18)","v":""},{"$f":"IF(ISBLANK('胃がん検診受診者名簿（21～40）'!X18),\"\",'胃がん検診受診者名簿（21～40）'!X18)","v":""},{"$f":"IF(ISBLANK('胃がん検診受診者名簿（21～40）'!Y18),\"\",'胃がん検診受診者名簿（21～40）'!Y18)","v":""},{"$f":"IF(ISBLANK('胃がん検診受診者名簿（21～40）'!Z18),\"\",'胃がん検診受診者名簿（21～40）'!Z18)","v":""},{"$f":"IF(ISBLANK('胃がん検診受診者名簿（21～40）'!AA18),\"\",'胃がん検診受診者名簿（21～40）'!AA18)","v":""},{"$f":"IF(ISBLANK('胃がん検診受診者名簿（21～40）'!AB18),\"\",'胃がん検診受診者名簿（21～40）'!AB18)","v":""},null,null,null,null,null,{"$f":"IF(ISBLANK('胃がん検診受診者名簿（21～40）'!AH18),\"\",'胃がん検診受診者名簿（21～40）'!AH18)","v":""},null,null,{"$f":"IF(ISBLANK('胃がん検診受診者名簿（21～40）'!AK18),\"\",'胃がん検診受診者名簿（21～40）'!AK18)","v":""},null,{"$f":"IF(ISBLANK('胃がん検診受診者名簿（21～40）'!AM18),\"\",'胃がん検診受診者名簿（21～40）'!AM18)","v":""},null,null,29,{"$f":"IF(ISBLANK('胃がん検診受診者名簿（21～40）'!AQ18),\"\",'胃がん検診受診者名簿（21～40）'!AQ18)","v":""},{"$f":"IF(ISBLANK('胃がん検診受診者名簿（21～40）'!AR18),\"\",'胃がん検診受診者名簿（21～40）'!AR18)","v":""},{"$f":"IF(ISBLANK('胃がん検診受診者名簿（21～40）'!AS18),\"\",'胃がん検診受診者名簿（21～40）'!AS18)","v":""},{"$f":"IF(ISBLANK('胃がん検診受診者名簿（21～40）'!AT18),\"\",'胃がん検診受診者名簿（21～40）'!AT18)","v":""},{"$f":"IF(ISBLANK('胃がん検診受診者名簿（21～40）'!AU18),\"\",'胃がん検診受診者名簿（21～40）'!AU18)","v":""},{"$f":"IF(ISBLANK('胃がん検診受診者名簿（21～40）'!AV18),\"\",'胃がん検診受診者名簿（21～40）'!AV18)","v":""},null,null,null,null,null,{"$f":"IF(ISBLANK('胃がん検診受診者名簿（21～40）'!BB18),\"\",'胃がん検診受診者名簿（21～40）'!BB18)","v":""},null,null,{"$f":"IF(ISBLANK('胃がん検診受診者名簿（21～40）'!BE18),\"\",'胃がん検診受診者名簿（21～40）'!BE18)","v":""},null,{"$f":"IF(ISBLANK('胃がん検診受診者名簿（21～40）'!BG18),\"\",'胃がん検診受診者名簿（21～40）'!BG18)","v":""}]
[30,null,null,null,null,null,null,false,false,false,null,null,"",null,null,"",null,null,null,null,null,30,{"$f":"IF(ISBLANK('胃がん検診受診者名簿（21～40）'!B19),\"\",'胃がん検診受診者名簿（21～40）'!B19)","v":""},{"$f":"IF(ISBLANK('胃がん検診受診者名簿（21～40）'!C19),\"\",'胃がん検診受診者名簿（21～40）'!C19)","v":""},null,{"$f":"IF(ISBLANK('胃がん検診受診者名簿（21～40）'!E19),\"\",'胃がん検診受診者名簿（21～40）'!E19)","v":""},{"$f":"IF(ISBLANK('胃がん検診受診者名簿（21～40）'!F19),\"\",'胃がん検診受診者名簿（21～40）'!F19)","v":""},null,null,null,null,null,null,{"$f":"IF(ISBLANK('胃がん検診受診者名簿（21～40）'!M19),\"\",'胃がん検診受診者名簿（21～40）'!M19)","v":""},null,null,{"$f":"IF(ISBLANK('胃がん検診受診者名簿（21～40）'!P19),\"\",'胃がん検診受診者名簿（21～40）'!P19)","v":""},null,{"$f":"IF(ISBLANK('胃がん検診受診者名簿（21～40）'!R19),\"\",'胃がん検診受診者名簿（21～40）'!R19)","v":""},null,null,30,{"$f":"IF(ISBLANK('胃がん検診受診者名簿（21～40）'!W19),\"\",'胃がん検診受診者名簿（21～40）'!W19)","v":""},{"$f":"IF(ISBLANK('胃がん検診受診者名簿（21～40）'!X19),\"\",'胃がん検診受診者名簿（21～40）'!X19)","v":""},{"$f":"IF(ISBLANK('胃がん検診受診者名簿（21～40）'!Y19),\"\",'胃がん検診受診者名簿（21～40）'!Y19)","v":""},{"$f":"IF(ISBLANK('胃がん検診受診者名簿（21～40）'!Z19),\"\",'胃がん検診受診者名簿（21～40）'!Z19)","v":""},{"$f":"IF(ISBLANK('胃がん検診受診者名簿（21～40）'!AA19),\"\",'胃がん検診受診者名簿（21～40）'!AA19)","v":""},{"$f":"IF(ISBLANK('胃がん検診受診者名簿（21～40）'!AB19),\"\",'胃がん検診受診者名簿（21～40）'!AB19)","v":""},null,null,null,null,null,{"$f":"IF(ISBLANK('胃がん検診受診者名簿（21～40）'!AH19),\"\",'胃がん検診受診者名簿（21～40）'!AH19)","v":""},null,null,{"$f":"IF(ISBLANK('胃がん検診受診者名簿（21～40）'!AK19),\"\",'胃がん検診受診者名簿（21～40）'!AK19)","v":""},null,{"$f":"IF(ISBLANK('胃がん検診受診者名簿（21～40）'!AM19),\"\",'胃がん検診受診者名簿（21～40）'!AM19)","v":""},null,null,30,{"$f":"IF(ISBLANK('胃がん検診受診者名簿（21～40）'!AQ19),\"\",'胃がん検診受診者名簿（21～40）'!AQ19)","v":""},{"$f":"IF(ISBLANK('胃がん検診受診者名簿（21～40）'!AR19),\"\",'胃がん検診受診者名簿（21～40）'!AR19)","v":""},{"$f":"IF(ISBLANK('胃がん検診受診者名簿（21～40）'!AS19),\"\",'胃がん検診受診者名簿（21～40）'!AS19)","v":""},{"$f":"IF(ISBLANK('胃がん検診受診者名簿（21～40）'!AT19),\"\",'胃がん検診受診者名簿（21～40）'!AT19)","v":""},{"$f":"IF(ISBLANK('胃がん検診受診者名簿（21～40）'!AU19),\"\",'胃がん検診受診者名簿（21～40）'!AU19)","v":""},{"$f":"IF(ISBLANK('胃がん検診受診者名簿（21～40）'!AV19),\"\",'胃がん検診受診者名簿（21～40）'!AV19)","v":""},null,null,null,null,null,{"$f":"IF(ISBLANK('胃がん検診受診者名簿（21～40）'!BB19),\"\",'胃がん検診受診者名簿（21～40）'!BB19)","v":""},null,null,{"$f":"IF(ISBLANK('胃がん検診受診者名簿（21～40）'!BE19),\"\",'胃がん検診受診者名簿（21～40）'!BE19)","v":""},null,{"$f":"IF(ISBLANK('胃がん検診受診者名簿（21～40）'!BG19),\"\",'胃がん検診受診者名簿（21～40）'!BG19)","v":""}]
[31,null,null,null,null,null,null,false,false,false,null,null,"",null,null,"",null,null,null,null,null,31,{"$f":"IF(ISBLANK('胃がん検診受診者名簿（21～40）'!B20),\"\",'胃がん検診受診者名簿（21～40）'!B20)","v":""},{"$f":"IF(ISBLANK('胃がん検診受診者名簿（21～40）'!C20),\"\",'胃がん検診受診者名簿（21～40）'!C20)","v":""},null,{"$f":"IF(ISBLANK('胃がん検診受診者名簿（21～40）'!E20),\"\",'胃がん検診受診者名簿（21～40）'!E20)","v":""},{"$f":"IF(ISBLANK('胃がん検診受診者名簿（21～40）'!F20),\"\",'胃がん検診受診者名簿（21～40）'!F20)","v":""},null,null,null,null,null,null,{"$f":"IF(ISBLANK('胃がん検診受診者名簿（21～40）'!M20),\"\",'胃がん検診受診者名簿（21～40）'!M20)","v":""},null,null,{"$f":"IF(ISBLANK('胃がん検診受診者名簿（21～40）'!P20),\"\",'胃がん検診受診者名簿（21～40）'!P20)","v":""},null,{"$f":"IF(ISBLANK('胃がん検診受診者名簿（21～40）'!R20),\"\",'胃がん検診受診者名簿（21～40）'!R20)","v":""},null,null,31,{"$f":"IF(ISBLANK('胃がん検診受診者名簿（21～40）'!W20),\"\",'胃がん検診受診者名簿（21～40）'!W20)","v":""},{"$f":"IF(ISBLANK('胃がん検診受診者名簿（21～40）'!X20),\"\",'胃がん検診受診者名簿（21～40）'!X20)","v":""},{"$f":"IF(ISBLANK('胃がん検診受診者名簿（21～40）'!Y20),\"\",'胃がん検診受診者名簿（21～40）'!Y20)","v":""},{"$f":"IF(ISBLANK('胃がん検診受診者名簿（21～40）'!Z20),\"\",'胃がん検診受診者名簿（21～40）'!Z20)","v":""},{"$f":"IF(ISBLANK('胃がん検診受診者名簿（21～40）'!AA20),\"\",'胃がん検診受診者名簿（21～40）'!AA20)","v":""},{"$f":"IF(ISBLANK('胃がん検診受診者名簿（21～40）'!AB20),\"\",'胃がん検診受診者名簿（21～40）'!AB20)","v":""},null,null,null,null,null,{"$f":"IF(ISBLANK('胃がん検診受診者名簿（21～40）'!AH20),\"\",'胃がん検診受診者名簿（21～40）'!AH20)","v":""},null,null,{"$f":"IF(ISBLANK('胃がん検診受診者名簿（21～40）'!AK20),\"\",'胃がん検診受診者名簿（21～40）'!AK20)","v":""},null,{"$f":"IF(ISBLANK('胃がん検診受診者名簿（21～40）'!AM20),\"\",'胃がん検診受診者名簿（21～40）'!AM20)","v":""},null,null,31,{"$f":"IF(ISBLANK('胃がん検診受診者名簿（21～40）'!AQ20),\"\",'胃がん検診受診者名簿（21～40）'!AQ20)","v":""},{"$f":"IF(ISBLANK('胃がん検診受診者名簿（21～40）'!AR20),\"\",'胃がん検診受診者名簿（21～40）'!AR20)","v":""},{"$f":"IF(ISBLANK('胃がん検診受診者名簿（21～40）'!AS20),\"\",'胃がん検診受診者名簿（21～40）'!AS20)","v":""},{"$f":"IF(ISBLANK('胃がん検診受診者名簿（21～40）'!AT20),\"\",'胃がん検診受診者名簿（21～40）'!AT20)","v":""},{"$f":"IF(ISBLANK('胃がん検診受診者名簿（21～40）'!AU20),\"\",'胃がん検診受診者名簿（21～40）'!AU20)","v":""},{"$f":"IF(ISBLANK('胃がん検診受診者名簿（21～40）'!AV20),\"\",'胃がん検診受診者名簿（21～40）'!AV20)","v":""},null,null,null,null,null,{"$f":"IF(ISBLANK('胃がん検診受診者名簿（21～40）'!BB20),\"\",'胃がん検診受診者名簿（21～40）'!BB20)","v":""},null,null,{"$f":"IF(ISBLANK('胃がん検診受診者名簿（21～40）'!BE20),\"\",'胃がん検診受診者名簿（21～40）'!BE20)","v":""},null,{"$f":"IF(ISBLANK('胃がん検診受診者名簿（21～40）'!BG20),\"\",'胃がん検診受診者名簿（21～40）'!BG20)","v":""}]
[32,null,null,null,null,null,null,false,false,false,null,null,"",null,null,"",null,null,null,null,null,32,{"$f":"IF(ISBLANK('胃がん検診受診者名簿（21～40）'!B21),\"\",'胃がん検診受診者名簿（21～40）'!B21)","v":""},{"$f":"IF(ISBLANK('胃がん検診受診者名簿（21～40）'!C21),\"\",'胃がん検診受診者名簿（21～40）'!C21)","v":""},null,{"$f":"IF(ISBLANK('胃がん検診受診者名簿（21～40）'!E21),\"\",'胃がん検診受診者名簿（21～40）'!E21)","v":""},{"$f":"IF(ISBLANK('胃がん検診受診者名簿（21～40）'!F21),\"\",'胃がん検診受診者名簿（21～40）'!F21)","v":""},null,null,null,null,null,null,{"$f":"IF(ISBLANK('胃がん検診受診者名簿（21～40）'!M21),\"\",'胃がん検診受診者名簿（21～40）'!M21)","v":""},null,null,{"$f":"IF(ISBLANK('胃がん検診受診者名簿（21～40）'!P21),\"\",'胃がん検診受診者名簿（21～40）'!P21)","v":""},null,{"$f":"IF(ISBLANK('胃がん検診受診者名簿（21～40）'!R21),\"\",'胃がん検診受診者名簿（21～40）'!R21)","v":""},null,null,32,{"$f":"IF(ISBLANK('胃がん検診受診者名簿（21～40）'!W21),\"\",'胃がん検診受診者名簿（21～40）'!W21)","v":""},{"$f":"IF(ISBLANK('胃がん検診受診者名簿（21～40）'!X21),\"\",'胃がん検診受診者名簿（21～40）'!X21)","v":""},{"$f":"IF(ISBLANK('胃がん検診受診者名簿（21～40）'!Y21),\"\",'胃がん検診受診者名簿（21～40）'!Y21)","v":""},{"$f":"IF(ISBLANK('胃がん検診受診者名簿（21～40）'!Z21),\"\",'胃がん検診受診者名簿（21～40）'!Z21)","v":""},{"$f":"IF(ISBLANK('胃がん検診受診者名簿（21～40）'!AA21),\"\",'胃がん検診受診者名簿（21～40）'!AA21)","v":""},{"$f":"IF(ISBLANK('胃がん検診受診者名簿（21～40）'!AB21),\"\",'胃がん検診受診者名簿（21～40）'!AB21)","v":""},null,null,null,null,null,{"$f":"IF(ISBLANK('胃がん検診受診者名簿（21～40）'!AH21),\"\",'胃がん検診受診者名簿（21～40）'!AH21)","v":""},null,null,{"$f":"IF(ISBLANK('胃がん検診受診者名簿（21～40）'!AK21),\"\",'胃がん検診受診者名簿（21～40）'!AK21)","v":""},null,{"$f":"IF(ISBLANK('胃がん検診受診者名簿（21～40）'!AM21),\"\",'胃がん検診受診者名簿（21～40）'!AM21)","v":""},null,null,32,{"$f":"IF(ISBLANK('胃がん検診受診者名簿（21～40）'!AQ21),\"\",'胃がん検診受診者名簿（21～40）'!AQ21)","v":""},{"$f":"IF(ISBLANK('胃がん検診受診者名簿（21～40）'!AR21),\"\",'胃がん検診受診者名簿（21～40）'!AR21)","v":""},{"$f":"IF(ISBLANK('胃がん検診受診者名簿（21～40）'!AS21),\"\",'胃がん検診受診者名簿（21～40）'!AS21)","v":""},{"$f":"IF(ISBLANK('胃がん検診受診者名簿（21～40）'!AT21),\"\",'胃がん検診受診者名簿（21～40）'!AT21)","v":""},{"$f":"IF(ISBLANK('胃がん検診受診者名簿（21～40）'!AU21),\"\",'胃がん検診受診者名簿（21～40）'!AU21)","v":""},{"$f":"IF(ISBLANK('胃がん検診受診者名簿（21～40）'!AV21),\"\",'胃がん検診受診者名簿（21～40）'!AV21)","v":""},null,null,null,null,null,{"$f":"IF(ISBLANK('胃がん検診受診者名簿（21～40）'!BB21),\"\",'胃がん検診受診者名簿（21～40）'!BB21)","v":""},null,null,{"$f":"IF(ISBLANK('胃がん検診受診者名簿（21～40）'!BE21),\"\",'胃がん検診受診者名簿（21～40）'!BE21)","v":""},null,{"$f":"IF(ISBLANK('胃がん検診受診者名簿（21～40）'!BG21),\"\",'胃がん検診受診者名簿（21～40）'!BG21)","v":""}]
[33,null,null,null,null,null,null,false,false,false,null,null,"",null,null,"",null,null,null,null,null,33,{"$f":"IF(ISBLANK('胃がん検診受診者名簿（21～40）'!B22),\"\",'胃がん検診受診者名簿（21～40）'!B22)","v":""},{"$f":"IF(ISBLANK('胃がん検診受診者名簿（21～40）'!C22),\"\",'胃がん検診受診者名簿（21～40）'!C22)","v":""},null,{"$f":"IF(ISBLANK('胃がん検診受診者名簿（21～40）'!E22),\"\",'胃がん検診受診者名簿（21～40）'!E22)","v":""},{"$f":"IF(ISBLANK('胃がん検診受診者名簿（21～40）'!F22),\"\",'胃がん検診受診者名簿（21～40）'!F22)","v":""},null,null,null,null,null,null,{"$f":"IF(ISBLANK('胃がん検診受診者名簿（21～40）'!M22),\"\",'胃がん検診受診者名簿（21～40）'!M22)","v":""},null,null,{"$f":"IF(ISBLANK('胃がん検診受診者名簿（21～40）'!P22),\"\",'胃がん検診受診者名簿（21～40）'!P22)","v":""},null,{"$f":"IF(ISBLANK('胃がん検診受診者名簿（21～40）'!R22),\"\",'胃がん検診受診者名簿（21～40）'!R22)","v":""},null,null,33,{"$f":"IF(ISBLANK('胃がん検診受診者名簿（21～40）'!W22),\"\",'胃がん検診受診者名簿（21～40）'!W22)","v":""},{"$f":"IF(ISBLANK('胃がん検診受診者名簿（21～40）'!X22),\"\",'胃がん検診受診者名簿（21～40）'!X22)","v":""},{"$f":"IF(ISBLANK('胃がん検診受診者名簿（21～40）'!Y22),\"\",'胃がん検診受診者名簿（21～40）'!Y22)","v":""},{"$f":"IF(ISBLANK('胃がん検診受診者名簿（21～40）'!Z22),\"\",'胃がん検診受診者名簿（21～40）'!Z22)","v":""},{"$f":"IF(ISBLANK('胃がん検診受診者名簿（21～40）'!AA22),\"\",'胃がん検診受診者名簿（21～40）'!AA22)","v":""},{"$f":"IF(ISBLANK('胃がん検診受診者名簿（21～40）'!AB22),\"\",'胃がん検診受診者名簿（21～40）'!AB22)","v":""},null,null,null,null,null,{"$f":"IF(ISBLANK('胃がん検診受診者名簿（21～40）'!AH22),\"\",'胃がん検診受診者名簿（21～40）'!AH22)","v":""},null,null,{"$f":"IF(ISBLANK('胃がん検診受診者名簿（21～40）'!AK22),\"\",'胃がん検診受診者名簿（21～40）'!AK22)","v":""},null,{"$f":"IF(ISBLANK('胃がん検診受診者名簿（21～40）'!AM22),\"\",'胃がん検診受診者名簿（21～40）'!AM22)","v":""},null,null,33,{"$f":"IF(ISBLANK('胃がん検診受診者名簿（21～40）'!AQ22),\"\",'胃がん検診受診者名簿（21～40）'!AQ22)","v":""},{"$f":"IF(ISBLANK('胃がん検診受診者名簿（21～40）'!AR22),\"\",'胃がん検診受診者名簿（21～40）'!AR22)","v":""},{"$f":"IF(ISBLANK('胃がん検診受診者名簿（21～40）'!AS22),\"\",'胃がん検診受診者名簿（21～40）'!AS22)","v":""},{"$f":"IF(ISBLANK('胃がん検診受診者名簿（21～40）'!AT22),\"\",'胃がん検診受診者名簿（21～40）'!AT22)","v":""},{"$f":"IF(ISBLANK('胃がん検診受診者名簿（21～40）'!AU22),\"\",'胃がん検診受診者名簿（21～40）'!AU22)","v":""},{"$f":"IF(ISBLANK('胃がん検診受診者名簿（21～40）'!AV22),\"\",'胃がん検診受診者名簿（21～40）'!AV22)","v":""},null,null,null,null,null,{"$f":"IF(ISBLANK('胃がん検診受診者名簿（21～40）'!BB22),\"\",'胃がん検診受診者名簿（21～40）'!BB22)","v":""},null,null,{"$f":"IF(ISBLANK('胃がん検診受診者名簿（21～40）'!BE22),\"\",'胃がん検診受診者名簿（21～40）'!BE22)","v":""},null,{"$f":"IF(ISBLANK('胃がん検診受診者名簿（21～40）'!BG22),\"\",'胃がん検診受診者名簿（21～40）'!BG22)","v":""}]
[34,null,null,null,null,null,null,false,false,false,null,null,"",null,null,"",null,null,null,null,null,34,{"$f":"IF(ISBLANK('胃がん検診受診者名簿（21～40）'!B23),\"\",'胃がん検診受診者名簿（21～40）'!B23)","v":""},{"$f":"IF(ISBLANK('胃がん検診受診者名簿（21～40）'!C23),\"\",'胃がん検診受診者名簿（21～40）'!C23)","v":""},null,{"$f":"IF(ISBLANK('胃がん検診受診者名簿（21～40）'!E23),\"\",'胃がん検診受診者名簿（21～40）'!E23)","v":""},{"$f":"IF(ISBLANK('胃がん検診受診者名簿（21～40）'!F23),\"\",'胃がん検診受診者名簿（21～40）'!F23)","v":""},null,null,null,null,null,null,{"$f":"IF(ISBLANK('胃がん検診受診者名簿（21～40）'!M23),\"\",'胃がん検診受診者名簿（21～40）'!M23)","v":""},null,null,{"$f":"IF(ISBLANK('胃がん検診受診者名簿（21～40）'!P23),\"\",'胃がん検診受診者名簿（21～40）'!P23)","v":""},null,{"$f":"IF(ISBLANK('胃がん検診受診者名簿（21～40）'!R23),\"\",'胃がん検診受診者名簿（21～40）'!R23)","v":""},null,null,34,{"$f":"IF(ISBLANK('胃がん検診受診者名簿（21～40）'!W23),\"\",'胃がん検診受診者名簿（21～40）'!W23)","v":""},{"$f":"IF(ISBLANK('胃がん検診受診者名簿（21～40）'!X23),\"\",'胃がん検診受診者名簿（21～40）'!X23)","v":""},{"$f":"IF(ISBLANK('胃がん検診受診者名簿（21～40）'!Y23),\"\",'胃がん検診受診者名簿（21～40）'!Y23)","v":""},{"$f":"IF(ISBLANK('胃がん検診受診者名簿（21～40）'!Z23),\"\",'胃がん検診受診者名簿（21～40）'!Z23)","v":""},{"$f":"IF(ISBLANK('胃がん検診受診者名簿（21～40）'!AA23),\"\",'胃がん検診受診者名簿（21～40）'!AA23)","v":""},{"$f":"IF(ISBLANK('胃がん検診受診者名簿（21～40）'!AB23),\"\",'胃がん検診受診者名簿（21～40）'!AB23)","v":""},null,null,null,null,null,{"$f":"IF(ISBLANK('胃がん検診受診者名簿（21～40）'!AH23),\"\",'胃がん検診受診者名簿（21～40）'!AH23)","v":""},null,null,{"$f":"IF(ISBLANK('胃がん検診受診者名簿（21～40）'!AK23),\"\",'胃がん検診受診者名簿（21～40）'!AK23)","v":""},null,{"$f":"IF(ISBLANK('胃がん検診受診者名簿（21～40）'!AM23),\"\",'胃がん検診受診者名簿（21～40）'!AM23)","v":""},null,null,34,{"$f":"IF(ISBLANK('胃がん検診受診者名簿（21～40）'!AQ23),\"\",'胃がん検診受診者名簿（21～40）'!AQ23)","v":""},{"$f":"IF(ISBLANK('胃がん検診受診者名簿（21～40）'!AR23),\"\",'胃がん検診受診者名簿（21～40）'!AR23)","v":""},{"$f":"IF(ISBLANK('胃がん検診受診者名簿（21～40）'!AS23),\"\",'胃がん検診受診者名簿（21～40）'!AS23)","v":""},{"$f":"IF(ISBLANK('胃がん検診受診者名簿（21～40）'!AT23),\"\",'胃がん検診受診者名簿（21～40）'!AT23)","v":""},{"$f":"IF(ISBLANK('胃がん検診受診者名簿（21～40）'!AU23),\"\",'胃がん検診受診者名簿（21～40）'!AU23)","v":""},{"$f":"IF(ISBLANK('胃がん検診受診者名簿（21～40）'!AV23),\"\",'胃がん検診受診者名簿（21～40）'!AV23)","v":""},null,null,null,null,null,{"$f":"IF(ISBLANK('胃がん検診受診者名簿（21～40）'!BB23),\"\",'胃がん検診受診者名簿（21～40）'!BB23)","v":""},null,null,{"$f":"IF(ISBLANK('胃がん検診受診者名簿（21～40）'!BE23),\"\",'胃がん検診受診者名簿（21～40）'!BE23)","v":""},null,{"$f":"IF(ISBLANK('胃がん検診受診者名簿（21～40）'!BG23),\"\",'胃がん検診受診者名簿（21～40）'!BG23)","v":""}]
[35,null,null,null,null,null,null,false,false,false,null,null,"",null,null,"",null,null,null,null,null,35,{"$f":"IF(ISBLANK('胃がん検診受診者名簿（21～40）'!B24),\"\",'胃がん検診受診者名簿（21～40）'!B24)","v":""},{"$f":"IF(ISBLANK('胃がん検診受診者名簿（21～40）'!C24),\"\",'胃がん検診受診者名簿（21～40）'!C24)","v":""},null,{"$f":"IF(ISBLANK('胃がん検診受診者名簿（21～40）'!E24),\"\",'胃がん検診受診者名簿（21～40）'!E24)","v":""},{"$f":"IF(ISBLANK('胃がん検診受診者名簿（21～40）'!F24),\"\",'胃がん検診受診者名簿（21～40）'!F24)","v":""},null,null,null,null,null,null,{"$f":"IF(ISBLANK('胃がん検診受診者名簿（21～40）'!M24),\"\",'胃がん検診受診者名簿（21～40）'!M24)","v":""},null,null,{"$f":"IF(ISBLANK('胃がん検診受診者名簿（21～40）'!P24),\"\",'胃がん検診受診者名簿（21～40）'!P24)","v":""},null,{"$f":"IF(ISBLANK('胃がん検診受診者名簿（21～40）'!R24),\"\",'胃がん検診受診者名簿（21～40）'!R24)","v":""},null,null,35,{"$f":"IF(ISBLANK('胃がん検診受診者名簿（21～40）'!W24),\"\",'胃がん検診受診者名簿（21～40）'!W24)","v":""},{"$f":"IF(ISBLANK('胃がん検診受診者名簿（21～40）'!X24),\"\",'胃がん検診受診者名簿（21～40）'!X24)","v":""},{"$f":"IF(ISBLANK('胃がん検診受診者名簿（21～40）'!Y24),\"\",'胃がん検診受診者名簿（21～40）'!Y24)","v":""},{"$f":"IF(ISBLANK('胃がん検診受診者名簿（21～40）'!Z24),\"\",'胃がん検診受診者名簿（21～40）'!Z24)","v":""},{"$f":"IF(ISBLANK('胃がん検診受診者名簿（21～40）'!AA24),\"\",'胃がん検診受診者名簿（21～40）'!AA24)","v":""},{"$f":"IF(ISBLANK('胃がん検診受診者名簿（21～40）'!AB24),\"\",'胃がん検診受診者名簿（21～40）'!AB24)","v":""},null,null,null,null,null,{"$f":"IF(ISBLANK('胃がん検診受診者名簿（21～40）'!AH24),\"\",'胃がん検診受診者名簿（21～40）'!AH24)","v":""},null,null,{"$f":"IF(ISBLANK('胃がん検診受診者名簿（21～40）'!AK24),\"\",'胃がん検診受診者名簿（21～40）'!AK24)","v":""},null,{"$f":"IF(ISBLANK('胃がん検診受診者名簿（21～40）'!AM24),\"\",'胃がん検診受診者名簿（21～40）'!AM24)","v":""},null,null,35,{"$f":"IF(ISBLANK('胃がん検診受診者名簿（21～40）'!AQ24),\"\",'胃がん検診受診者名簿（21～40）'!AQ24)","v":""},{"$f":"IF(ISBLANK('胃がん検診受診者名簿（21～40）'!AR24),\"\",'胃がん検診受診者名簿（21～40）'!AR24)","v":""},{"$f":"IF(ISBLANK('胃がん検診受診者名簿（21～40）'!AS24),\"\",'胃がん検診受診者名簿（21～40）'!AS24)","v":""},{"$f":"IF(ISBLANK('胃がん検診受診者名簿（21～40）'!AT24),\"\",'胃がん検診受診者名簿（21～40）'!AT24)","v":""},{"$f":"IF(ISBLANK('胃がん検診受診者名簿（21～40）'!AU24),\"\",'胃がん検診受診者名簿（21～40）'!AU24)","v":""},{"$f":"IF(ISBLANK('胃がん検診受診者名簿（21～40）'!AV24),\"\",'胃がん検診受診者名簿（21～40）'!AV24)","v":""},null,null,null,null,null,{"$f":"IF(ISBLANK('胃がん検診受診者名簿（21～40）'!BB24),\"\",'胃がん検診受診者名簿（21～40）'!BB24)","v":""},null,null,{"$f":"IF(ISBLANK('胃がん検診受診者名簿（21～40）'!BE24),\"\",'胃がん検診受診者名簿（21～40）'!BE24)","v":""},null,{"$f":"IF(ISBLANK('胃がん検診受診者名簿（21～40）'!BG24),\"\",'胃がん検診受診者名簿（21～40）'!BG24)","v":""}]
[36,null,null,null,null,null,null,false,false,false,null,null,"",null,null,"",null,null,null,null,null,36,{"$f":"IF(ISBLANK('胃がん検診受診者名簿（21～40）'!B25),\"\",'胃がん検診受診者名簿（21～40）'!B25)","v":""},{"$f":"IF(ISBLANK('胃がん検診受診者名簿（21～40）'!C25),\"\",'胃がん検診受診者名簿（21～40）'!C25)","v":""},null,{"$f":"IF(ISBLANK('胃がん検診受診者名簿（21～40）'!E25),\"\",'胃がん検診受診者名簿（21～40）'!E25)","v":""},{"$f":"IF(ISBLANK('胃がん検診受診者名簿（21～40）'!F25),\"\",'胃がん検診受診者名簿（21～40）'!F25)","v":""},null,null,null,null,null,null,{"$f":"IF(ISBLANK('胃がん検診受診者名簿（21～40）'!M25),\"\",'胃がん検診受診者名簿（21～40）'!M25)","v":""},null,null,{"$f":"IF(ISBLANK('胃がん検診受診者名簿（21～40）'!P25),\"\",'胃がん検診受診者名簿（21～40）'!P25)","v":""},null,{"$f":"IF(ISBLANK('胃がん検診受診者名簿（21～40）'!R25),\"\",'胃がん検診受診者名簿（21～40）'!R25)","v":""},null,null,36,{"$f":"IF(ISBLANK('胃がん検診受診者名簿（21～40）'!W25),\"\",'胃がん検診受診者名簿（21～40）'!W25)","v":""},{"$f":"IF(ISBLANK('胃がん検診受診者名簿（21～40）'!X25),\"\",'胃がん検診受診者名簿（21～40）'!X25)","v":""},{"$f":"IF(ISBLANK('胃がん検診受診者名簿（21～40）'!Y25),\"\",'胃がん検診受診者名簿（21～40）'!Y25)","v":""},{"$f":"IF(ISBLANK('胃がん検診受診者名簿（21～40）'!Z25),\"\",'胃がん検診受診者名簿（21～40）'!Z25)","v":""},{"$f":"IF(ISBLANK('胃がん検診受診者名簿（21～40）'!AA25),\"\",'胃がん検診受診者名簿（21～40）'!AA25)","v":""},{"$f":"IF(ISBLANK('胃がん検診受診者名簿（21～40）'!AB25),\"\",'胃がん検診受診者名簿（21～40）'!AB25)","v":""},null,null,null,null,null,{"$f":"IF(ISBLANK('胃がん検診受診者名簿（21～40）'!AH25),\"\",'胃がん検診受診者名簿（21～40）'!AH25)","v":""},null,null,{"$f":"IF(ISBLANK('胃がん検診受診者名簿（21～40）'!AK25),\"\",'胃がん検診受診者名簿（21～40）'!AK25)","v":""},null,{"$f":"IF(ISBLANK('胃がん検診受診者名簿（21～40）'!AM25),\"\",'胃がん検診受診者名簿（21～40）'!AM25)","v":""},null,null,36,{"$f":"IF(ISBLANK('胃がん検診受診者名簿（21～40）'!AQ25),\"\",'胃がん検診受診者名簿（21～40）'!AQ25)","v":""},{"$f":"IF(ISBLANK('胃がん検診受診者名簿（21～40）'!AR25),\"\",'胃がん検診受診者名簿（21～40）'!AR25)","v":""},{"$f":"IF(ISBLANK('胃がん検診受診者名簿（21～40）'!AS25),\"\",'胃がん検診受診者名簿（21～40）'!AS25)","v":""},{"$f":"IF(ISBLANK('胃がん検診受診者名簿（21～40）'!AT25),\"\",'胃がん検診受診者名簿（21～40）'!AT25)","v":""},{"$f":"IF(ISBLANK('胃がん検診受診者名簿（21～40）'!AU25),\"\",'胃がん検診受診者名簿（21～40）'!AU25)","v":""},{"$f":"IF(ISBLANK('胃がん検診受診者名簿（21～40）'!AV25),\"\",'胃がん検診受診者名簿（21～40）'!AV25)","v":""},null,null,null,null,null,{"$f":"IF(ISBLANK('胃がん検診受診者名簿（21～40）'!BB25),\"\",'胃がん検診受診者名簿（21～40）'!BB25)","v":""},null,null,{"$f":"IF(ISBLANK('胃がん検診受診者名簿（21～40）'!BE25),\"\",'胃がん検診受診者名簿（21～40）'!BE25)","v":""},null,{"$f":"IF(ISBLANK('胃がん検診受診者名簿（21～40）'!BG25),\"\",'胃がん検診受診者名簿（21～40）'!BG25)","v":""}]
[37,null,null,null,null,null,null,false,false,false,null,null,"",null,null,"",null,null,null,null,null,37,{"$f":"IF(ISBLANK('胃がん検診受診者名簿（21～40）'!B26),\"\",'胃がん検診受診者名簿（21～40）'!B26)","v":""},{"$f":"IF(ISBLANK('胃がん検診受診者名簿（21～40）'!C26),\"\",'胃がん検診受診者名簿（21～40）'!C26)","v":""},null,{"$f":"IF(ISBLANK('胃がん検診受診者名簿（21～40）'!E26),\"\",'胃がん検診受診者名簿（21～40）'!E26)","v":""},{"$f":"IF(ISBLANK('胃がん検診受診者名簿（21～40）'!F26),\"\",'胃がん検診受診者名簿（21～40）'!F26)","v":""},null,null,null,null,null,null,{"$f":"IF(ISBLANK('胃がん検診受診者名簿（21～40）'!M26),\"\",'胃がん検診受診者名簿（21～40）'!M26)","v":""},null,null,{"$f":"IF(ISBLANK('胃がん検診受診者名簿（21～40）'!P26),\"\",'胃がん検診受診者名簿（21～40）'!P26)","v":""},null,{"$f":"IF(ISBLANK('胃がん検診受診者名簿（21～40）'!R26),\"\",'胃がん検診受診者名簿（21～40）'!R26)","v":""},null,null,37,{"$f":"IF(ISBLANK('胃がん検診受診者名簿（21～40）'!W26),\"\",'胃がん検診受診者名簿（21～40）'!W26)","v":""},{"$f":"IF(ISBLANK('胃がん検診受診者名簿（21～40）'!X26),\"\",'胃がん検診受診者名簿（21～40）'!X26)","v":""},{"$f":"IF(ISBLANK('胃がん検診受診者名簿（21～40）'!Y26),\"\",'胃がん検診受診者名簿（21～40）'!Y26)","v":""},{"$f":"IF(ISBLANK('胃がん検診受診者名簿（21～40）'!Z26),\"\",'胃がん検診受診者名簿（21～40）'!Z26)","v":""},{"$f":"IF(ISBLANK('胃がん検診受診者名簿（21～40）'!AA26),\"\",'胃がん検診受診者名簿（21～40）'!AA26)","v":""},{"$f":"IF(ISBLANK('胃がん検診受診者名簿（21～40）'!AB26),\"\",'胃がん検診受診者名簿（21～40）'!AB26)","v":""},null,null,null,null,null,{"$f":"IF(ISBLANK('胃がん検診受診者名簿（21～40）'!AH26),\"\",'胃がん検診受診者名簿（21～40）'!AH26)","v":""},null,null,{"$f":"IF(ISBLANK('胃がん検診受診者名簿（21～40）'!AK26),\"\",'胃がん検診受診者名簿（21～40）'!AK26)","v":""},null,{"$f":"IF(ISBLANK('胃がん検診受診者名簿（21～40）'!AM26),\"\",'胃がん検診受診者名簿（21～40）'!AM26)","v":""},null,null,37,{"$f":"IF(ISBLANK('胃がん検診受診者名簿（21～40）'!AQ26),\"\",'胃がん検診受診者名簿（21～40）'!AQ26)","v":""},{"$f":"IF(ISBLANK('胃がん検診受診者名簿（21～40）'!AR26),\"\",'胃がん検診受診者名簿（21～40）'!AR26)","v":""},{"$f":"IF(ISBLANK('胃がん検診受診者名簿（21～40）'!AS26),\"\",'胃がん検診受診者名簿（21～40）'!AS26)","v":""},{"$f":"IF(ISBLANK('胃がん検診受診者名簿（21～40）'!AT26),\"\",'胃がん検診受診者名簿（21～40）'!AT26)","v":""},{"$f":"IF(ISBLANK('胃がん検診受診者名簿（21～40）'!AU26),\"\",'胃がん検診受診者名簿（21～40）'!AU26)","v":""},{"$f":"IF(ISBLANK('胃がん検診受診者名簿（21～40）'!AV26),\"\",'胃がん検診受診者名簿（21～40）'!AV26)","v":""},null,null,null,null,null,{"$f":"IF(ISBLANK('胃がん検診受診者名簿（21～40）'!BB26),\"\",'胃がん検診受診者名簿（21～40）'!BB26)","v":""},null,null,{"$f":"IF(ISBLANK('胃がん検診受診者名簿（21～40）'!BE26),\"\",'胃がん検診受診者名簿（21～40）'!BE26)","v":""},null,{"$f":"IF(ISBLANK('胃がん検診受診者名簿（21～40）'!BG26),\"\",'胃がん検診受診者名簿（21～40）'!BG26)","v":""}]
[38,null,null,null,null,null,null,false,false,false,null,null,"",null,null,"",null,null,null,null,null,38,{"$f":"IF(ISBLANK('胃がん検診受診者名簿（21～40）'!B27),\"\",'胃がん検診受診者名簿（21～40）'!B27)","v":""},{"$f":"IF(ISBLANK('胃がん検診受診者名簿（21～40）'!C27),\"\",'胃がん検診受診者名簿（21～40）'!C27)","v":""},null,{"$f":"IF(ISBLANK('胃がん検診受診者名簿（21～40）'!E27),\"\",'胃がん検診受診者名簿（21～40）'!E27)","v":""},{"$f":"IF(ISBLANK('胃がん検診受診者名簿（21～40）'!F27),\"\",'胃がん検診受診者名簿（21～40）'!F27)","v":""},null,null,null,null,null,null,{"$f":"IF(ISBLANK('胃がん検診受診者名簿（21～40）'!M27),\"\",'胃がん検診受診者名簿（21～40）'!M27)","v":""},null,null,{"$f":"IF(ISBLANK('胃がん検診受診者名簿（21～40）'!P27),\"\",'胃がん検診受診者名簿（21～40）'!P27)","v":""},null,{"$f":"IF(ISBLANK('胃がん検診受診者名簿（21～40）'!R27),\"\",'胃がん検診受診者名簿（21～40）'!R27)","v":""},null,null,38,{"$f":"IF(ISBLANK('胃がん検診受診者名簿（21～40）'!W27),\"\",'胃がん検診受診者名簿（21～40）'!W27)","v":""},{"$f":"IF(ISBLANK('胃がん検診受診者名簿（21～40）'!X27),\"\",'胃がん検診受診者名簿（21～40）'!X27)","v":""},{"$f":"IF(ISBLANK('胃がん検診受診者名簿（21～40）'!Y27),\"\",'胃がん検診受診者名簿（21～40）'!Y27)","v":""},{"$f":"IF(ISBLANK('胃がん検診受診者名簿（21～40）'!Z27),\"\",'胃がん検診受診者名簿（21～40）'!Z27)","v":""},{"$f":"IF(ISBLANK('胃がん検診受診者名簿（21～40）'!AA27),\"\",'胃がん検診受診者名簿（21～40）'!AA27)","v":""},{"$f":"IF(ISBLANK('胃がん検診受診者名簿（21～40）'!AB27),\"\",'胃がん検診受診者名簿（21～40）'!AB27)","v":""},null,null,null,null,null,{"$f":"IF(ISBLANK('胃がん検診受診者名簿（21～40）'!AH27),\"\",'胃がん検診受診者名簿（21～40）'!AH27)","v":""},null,null,{"$f":"IF(ISBLANK('胃がん検診受診者名簿（21～40）'!AK27),\"\",'胃がん検診受診者名簿（21～40）'!AK27)","v":""},null,{"$f":"IF(ISBLANK('胃がん検診受診者名簿（21～40）'!AM27),\"\",'胃がん検診受診者名簿（21～40）'!AM27)","v":""},null,null,38,{"$f":"IF(ISBLANK('胃がん検診受診者名簿（21～40）'!AQ27),\"\",'胃がん検診受診者名簿（21～40）'!AQ27)","v":""},{"$f":"IF(ISBLANK('胃がん検診受診者名簿（21～40）'!AR27),\"\",'胃がん検診受診者名簿（21～40）'!AR27)","v":""},{"$f":"IF(ISBLANK('胃がん検診受診者名簿（21～40）'!AS27),\"\",'胃がん検診受診者名簿（21～40）'!AS27)","v":""},{"$f":"IF(ISBLANK('胃がん検診受診者名簿（21～40）'!AT27),\"\",'胃がん検診受診者名簿（21～40）'!AT27)","v":""},{"$f":"IF(ISBLANK('胃がん検診受診者名簿（21～40）'!AU27),\"\",'胃がん検診受診者名簿（21～40）'!AU27)","v":""},{"$f":"IF(ISBLANK('胃がん検診受診者名簿（21～40）'!AV27),\"\",'胃がん検診受診者名簿（21～40）'!AV27)","v":""},null,null,null,null,null,{"$f":"IF(ISBLANK('胃がん検診受診者名簿（21～40）'!BB27),\"\",'胃がん検診受診者名簿（21～40）'!BB27)","v":""},null,null,{"$f":"IF(ISBLANK('胃がん検診受診者名簿（21～40）'!BE27),\"\",'胃がん検診受診者名簿（21～40）'!BE27)","v":""},null,{"$f":"IF(ISBLANK('胃がん検診受診者名簿（21～40）'!BG27),\"\",'胃がん検診受診者名簿（21～40）'!BG27)","v":""}]
[39,null,null,null,null,null,null,false,false,false,null,null,"",null,null,"",null,null,null,null,null,39,{"$f":"IF(ISBLANK('胃がん検診受診者名簿（21～40）'!B28),\"\",'胃がん検診受診者名簿（21～40）'!B28)","v":""},{"$f":"IF(ISBLANK('胃がん検診受診者名簿（21～40）'!C28),\"\",'胃がん検診受診者名簿（21～40）'!C28)","v":""},null,{"$f":"IF(ISBLANK('胃がん検診受診者名簿（21～40）'!E28),\"\",'胃がん検診受診者名簿（21～40）'!E28)","v":""},{"$f":"IF(ISBLANK('胃がん検診受診者名簿（21～40）'!F28),\"\",'胃がん検診受診者名簿（21～40）'!F28)","v":""},null,null,null,null,null,null,{"$f":"IF(ISBLANK('胃がん検診受診者名簿（21～40）'!M28),\"\",'胃がん検診受診者名簿（21～40）'!M28)","v":""},null,null,{"$f":"IF(ISBLANK('胃がん検診受診者名簿（21～40）'!P28),\"\",'胃がん検診受診者名簿（21～40）'!P28)","v":""},null,{"$f":"IF(ISBLANK('胃がん検診受診者名簿（21～40）'!R28),\"\",'胃がん検診受診者名簿（21～40）'!R28)","v":""},null,null,39,{"$f":"IF(ISBLANK('胃がん検診受診者名簿（21～40）'!W28),\"\",'胃がん検診受診者名簿（21～40）'!W28)","v":""},{"$f":"IF(ISBLANK('胃がん検診受診者名簿（21～40）'!X28),\"\",'胃がん検診受診者名簿（21～40）'!X28)","v":""},{"$f":"IF(ISBLANK('胃がん検診受診者名簿（21～40）'!Y28),\"\",'胃がん検診受診者名簿（21～40）'!Y28)","v":""},{"$f":"IF(ISBLANK('胃がん検診受診者名簿（21～40）'!Z28),\"\",'胃がん検診受診者名簿（21～40）'!Z28)","v":""},{"$f":"IF(ISBLANK('胃がん検診受診者名簿（21～40）'!AA28),\"\",'胃がん検診受診者名簿（21～40）'!AA28)","v":""},{"$f":"IF(ISBLANK('胃がん検診受診者名簿（21～40）'!AB28),\"\",'胃がん検診受診者名簿（21～40）'!AB28)","v":""},null,null,null,null,null,{"$f":"IF(ISBLANK('胃がん検診受診者名簿（21～40）'!AH28),\"\",'胃がん検診受診者名簿（21～40）'!AH28)","v":""},null,null,{"$f":"IF(ISBLANK('胃がん検診受診者名簿（21～40）'!AK28),\"\",'胃がん検診受診者名簿（21～40）'!AK28)","v":""},null,{"$f":"IF(ISBLANK('胃がん検診受診者名簿（21～40）'!AM28),\"\",'胃がん検診受診者名簿（21～40）'!AM28)","v":""},null,null,39,{"$f":"IF(ISBLANK('胃がん検診受診者名簿（21～40）'!AQ28),\"\",'胃がん検診受診者名簿（21～40）'!AQ28)","v":""},{"$f":"IF(ISBLANK('胃がん検診受診者名簿（21～40）'!AR28),\"\",'胃がん検診受診者名簿（21～40）'!AR28)","v":""},{"$f":"IF(ISBLANK('胃がん検診受診者名簿（21～40）'!AS28),\"\",'胃がん検診受診者名簿（21～40）'!AS28)","v":""},{"$f":"IF(ISBLANK('胃がん検診受診者名簿（21～40）'!AT28),\"\",'胃がん検診受診者名簿（21～40）'!AT28)","v":""},{"$f":"IF(ISBLANK('胃がん検診受診者名簿（21～40）'!AU28),\"\",'胃がん検診受診者名簿（21～40）'!AU28)","v":""},{"$f":"IF(ISBLANK('胃がん検診受診者名簿（21～40）'!AV28),\"\",'胃がん検診受診者名簿（21～40）'!AV28)","v":""},null,null,null,null,null,{"$f":"IF(ISBLANK('胃がん検診受診者名簿（21～40）'!BB28),\"\",'胃がん検診受診者名簿（21～40）'!BB28)","v":""},null,null,{"$f":"IF(ISBLANK('胃がん検診受診者名簿（21～40）'!BE28),\"\",'胃がん検診受診者名簿（21～40）'!BE28)","v":""},null,{"$f":"IF(ISBLANK('胃がん検診受診者名簿（21～40）'!BG28),\"\",'胃がん検診受診者名簿（21～40）'!BG28)","v":""}]
[40,null,null,null,null,null,null,false,false,false,null,null,"",null,null,"",null,null,null,null,null,40,{"$f":"IF(ISBLANK('胃がん検診受診者名簿（21～40）'!B29),\"\",'胃がん検診受診者名簿（21～40）'!B29)","v":""},{"$f":"IF(ISBLANK('胃がん検診受診者名簿（21～40）'!C29),\"\",'胃がん検診受診者名簿（21～40）'!C29)","v":""},null,{"$f":"IF(ISBLANK('胃がん検診受診者名簿（21～40）'!E29),\"\",'胃がん検診受診者名簿（21～40）'!E29)","v":""},{"$f":"IF(ISBLANK('胃がん検診受診者名簿（21～40）'!F29),\"\",'胃がん検診受診者名簿（21～40）'!F29)","v":""},null,null,null,null,null,null,{"$f":"IF(ISBLANK('胃がん検診受診者名簿（21～40）'!M29),\"\",'胃がん検診受診者名簿（21～40）'!M29)","v":""},null,null,{"$f":"IF(ISBLANK('胃がん検診受診者名簿（21～40）'!P29),\"\",'胃がん検診受診者名簿（21～40）'!P29)","v":""},null,{"$f":"IF(ISBLANK('胃がん検診受診者名簿（21～40）'!R29),\"\",'胃がん検診受診者名簿（21～40）'!R29)","v":""},null,null,40,{"$f":"IF(ISBLANK('胃がん検診受診者名簿（21～40）'!W29),\"\",'胃がん検診受診者名簿（21～40）'!W29)","v":""},{"$f":"IF(ISBLANK('胃がん検診受診者名簿（21～40）'!X29),\"\",'胃がん検診受診者名簿（21～40）'!X29)","v":""},{"$f":"IF(ISBLANK('胃がん検診受診者名簿（21～40）'!Y29),\"\",'胃がん検診受診者名簿（21～40）'!Y29)","v":""},{"$f":"IF(ISBLANK('胃がん検診受診者名簿（21～40）'!Z29),\"\",'胃がん検診受診者名簿（21～40）'!Z29)","v":""},{"$f":"IF(ISBLANK('胃がん検診受診者名簿（21～40）'!AA29),\"\",'胃がん検診受診者名簿（21～40）'!AA29)","v":""},{"$f":"IF(ISBLANK('胃がん検診受診者名簿（21～40）'!AB29),\"\",'胃がん検診受診者名簿（21～40）'!AB29)","v":""},null,null,null,null,null,{"$f":"IF(ISBLANK('胃がん検診受診者名簿（21～40）'!AH29),\"\",'胃がん検診受診者名簿（21～40）'!AH29)","v":""},null,null,{"$f":"IF(ISBLANK('胃がん検診受診者名簿（21～40）'!AK29),\"\",'胃がん検診受診者名簿（21～40）'!AK29)","v":""},null,{"$f":"IF(ISBLANK('胃がん検診受診者名簿（21～40）'!AM29),\"\",'胃がん検診受診者名簿（21～40）'!AM29)","v":""},null,null,40,{"$f":"IF(ISBLANK('胃がん検診受診者名簿（21～40）'!AQ29),\"\",'胃がん検診受診者名簿（21～40）'!AQ29)","v":""},{"$f":"IF(ISBLANK('胃がん検診受診者名簿（21～40）'!AR29),\"\",'胃がん検診受診者名簿（21～40）'!AR29)","v":""},{"$f":"IF(ISBLANK('胃がん検診受診者名簿（21～40）'!AS29),\"\",'胃がん検診受診者名簿（21～40）'!AS29)","v":""},{"$f":"IF(ISBLANK('胃がん検診受診者名簿（21～40）'!AT29),\"\",'胃がん検診受診者名簿（21～40）'!AT29)","v":""},{"$f":"IF(ISBLANK('胃がん検診受診者名簿（21～40）'!AU29),\"\",'胃がん検診受診者名簿（21～40）'!AU29)","v":""},{"$f":"IF(ISBLANK('胃がん検診受診者名簿（21～40）'!AV29),\"\",'胃がん検診受診者名簿（21～40）'!AV29)","v":""},null,null,null,null,null,{"$f":"IF(ISBLANK('胃がん検診受診者名簿（21～40）'!BB29),\"\",'胃がん検診受診者名簿（21～40）'!BB29)","v":""},null,null,{"$f":"IF(ISBLANK('胃がん検診受診者名簿（21～40）'!BE29),\"\",'胃がん検診受診者名簿（21～40）'!BE29)","v":""},null,{"$f":"IF(ISBLANK('胃がん検診受診者名簿（21～40）'!BG29),\"\",'胃がん検診受診者名簿（21～40）'!BG29)","v":""}]
[]
["区　分",null,"総　計","頁　計",null,null,"区　分",null,"総　計",null,"頁　計",null,null,null,"区　分",null,"総　計",null,"頁　計",null,null,"区　分",null,"総　計","頁　計",null,null,"区　分",null,"総　計",null,"頁　計",null,null,null,"区　分",null,"総　計",null,"頁　計",null,"区　分",null,"総　計","頁　計",null,null,"区　分",null,"総　計",null,"頁　計",null,null,null,"区　分",null,"総　計",null,"頁　計",null,"区　分",null,"総　計","頁　計",null,null,"区　分",null,"総　計",null,"頁　計",null,null,null,"区　分",null,"総　計",null,"頁　計"]
["受診者数",null,null,{"$f":"COUNTIF(L10:L29,1)+COUNTIF(L10:L29,2)+COUNTIF(L10:L29,3)+COUNTIF(L10:L29,4)","v":0},null,null,"生検実施数",null,null,null,{"$f":"COUNTIF(H10:H29,TRUE)","v":0},null,null,null,"胃がんなし",null,null,null,{"$f":"COUNTIF(L10:L29,1)","v":0},null,null,"受診者数",null,null,{"$f":"D32","v":0},null,null,"生検実施数",null,null,null,{"$f":"K32","v":0},null,null,null,"胃がんなし",null,null,null,{"$f":"S32","v":0},null,"受診者数",null,null,{"$f":"Y32","v":0},null,null,"生検実施数",null,null,null,{"$f":"AF32","v":0},null,null,null,"胃がんなし",null,null,null,{"$f":"AN32","v":0},null,"受診者数",null,null,{"$f":"AS32","v":0},null,null,"生検実施数",null,null,null,{"$f":"AZ32","v":0},null,null,null,"胃がんなし",null,null,null,{"$f":"BH32","v":0}]
["自己負担額\n納入者",null,null,{"$f":"D32-D34","v":0},null,null,"偶発症\n発生総数",null,null,null,{"$f":"COUNTIF(I10:K29,TRUE)","v":0},null,null,null,"胃がん疑い",null,null,null,{"$f":"+COUNTIF(L10:L29,2)","v":0},null,null,"自己負担額\n納入者",null,null,{"$f":"D33","v":0},null,null,"偶発症\n発生総数",null,null,null,{"$f":"K33","v":0},null,null,null,"胃がん疑い",null,null,null,{"$f":"S33","v":0},null,"自己負担額\n納入者",null,null,{"$f":"Y33","v":0},null,null,"偶発症\n発生総数",null,null,null,{"$f":"AF33","v":0},null,null,null,"胃がん疑い",null,null,null,{"$f":"AN33","v":0},null,"自己負担額\n納入者",null,null,{"$f":"AS33","v":0},null,null,"偶発症\n発生総数",null,null,null,{"$f":"AZ33","v":0},null,null,null,"胃がん疑い",null,null,null,{"$f":"BH33","v":0}]
["自己負担額\n免除者",null,null,{"$f":"COUNTIF(O10:O29,1)+COUNTIF(O10:O29,2)+COUNTIF(O10:O29,3)+COUNTIF(O10:O29,4)","v":0},null,null,null,null,null,null,null,null,null,null,"胃がんあり",null,null,null,{"$f":"+COUNTIF(L10:L29,3)","v":0},null,null,"自己負担額\n免除者",null,null,0,null,null,null,null,null,null,null,null,null,null,"胃がんあり",null,null,null,0,null,"自己負担額\n免除者",null,null,0,null,null,null,null,null,null,null,null,null,null,"胃がんあり",null,null,null,0,null,"自己負担額\n免除者",null,null,0,null,null,null,null,null,null,null,null,null,null,"胃がんあり",null,null,null,0]
[null,null,null,null,null,null,null,null,null,null,null,null,null,null,"胃がん以外の悪性病変",null,null,null,{"$f":"+COUNTIF(L10:L29,4)","v":0},null,null,null,null,null,null,null,null,null,null,null,null,null,null,null,null,"胃がん以外の悪性病変",null,null,null,0,null,null,null,null,null,null,null,null,null,null,null,null,null,null,null,"胃がん以外の悪性病変",null,null,null,0,null,null,null,null,null,null,null,null,null,null,null,null,null,null,null,"胃がん以外の悪性病変",null,null,null,0]
[null,null,null,null,null,null,null,null,null,null,null,null,null,null,null,null,null,null,null,null,null,null,null,null,null,null,null,null,null,null,null,null,null,null,null,null,null,null,null,0,null,null,null,null,null,null,null,null,null,null,null,null,null,null,null,null,null,null,null,0,null,null,null,null,null,null,null,null,null,null,null,null,null,null,null,null,null,null,null,0]
["【結果判定】　1.胃がんなし　2.胃がん疑い　3.胃がんあり　4.胃がん以外の悪性病変",null,null,null,null,null,null,null,null,null,null,null,null,null,null,null,null,null,null,null,null,"【結果判定】　1.胃がんなし　2.胃がん疑い　3.胃がんあり　4.胃がん以外の悪性病変",null,null,null,null,null,null,null,null,null,null,null,null,null,null,null,null,null,null,null,"【結果判定】　1.胃がんなし　2.胃がん疑い　3.胃がんあり　4.胃がん以外の悪性病変",null,null,null,null,null,null,null,null,null,null,null,null,null,null,null,null,null,null,null,"【結果判定】　1.胃がんなし　2.胃がん疑い　3.胃がんあり　4.胃がん以外の悪性病変"]
["【自己負担免除者区分】　1.70歳以上　2.後期高齢者医療制度　3.生活保護世帯　4.市民税非課税世帯　",null,null,null,null,null,null,null,null,null,null,null,null,null,null,null,null,null,null,"R5.10",null,"【自己負担免除者区分】　1.70歳以上　2.後期高齢者医療制度　3.生活保護世帯　4.市民税非課税世帯　",null,null,null,null,null,null,null,null,null,null,null,null,null,null,null,null,null,null,"R5.10","【自己負担免除者区分】　1.70歳以上　2.後期高齢者医療制度　3.生活保護世帯　4.市民税非課税世帯　",null,null,null,null,null,null,null,null,null,null,null,null,null,null,null,null,null,null,"R5.10","【自己負担免除者区分】　1.70歳以上　2.後期高齢者医療制度　3.生活保護世帯　4.市民税非課税世帯　",null,null,null,null,null,null,null,null,null,null,null,null,null,null,null,null,null,null,"R5.10"]

{"sheet":"胃がん検診受診者名簿（41～60）","index":2,"n_rows":38,"n_cols":81,"rows_kept":38,"cut":false,"hidden":false,"merged":[[1,13,1,19],[1,34,1,40],[1,54,1,60],[1,74,1,80],[2,13,4,19],[2,34,4,40],[2,54,4,60],[2,74,4,80],[5,24,6,24],[5,25,6,25],[5,26,6,26],[5,27,6,28],[5,76,5,80],[5,66,6,66],[5,67,6,68],[5,74,5,75],[5,63,6,63],[5,64,6,64],[5,65,6,65],[5,15,5,19],[5,23,6,23],[5,56,5,60],[5,47,6,48],[5,54,5,55],[5,34,5,35],[5,36,5,40],[5,43,6,43],[5,44,6,44],[5,45,6,45],[5,46,6,46],[5,2,6,2],[5,3,6,3],[5,4,6,4],[5,5,6,5],[5,6,6,7],[5,13,5,14],[7,11,8,13],[7,14,8,16],[7,17,8,19],[7,21,8,21],[7,22,8,22],[7,69,7,71],[7,72,8,74],[7,0,8,0],[7,1,8,1],[7,2,8,3],[7,4,8,4],[7,5,8,6],[7,7,8,7],[7,43,8,44],[7,45,8,45],[7,23,8,24],[7,25,8,25],[7,26,8,27],[7,28,8,28],[7,29,7,31],[7,75,8,77],[7,78,8,80],[8,9,8,10],[8,30,8,31],[8,50,8,51],[8,70,8,71],[7,61,8,61],[7,62,8,62],[7,63,8,64],[7,65,8,65],[7,66,8,67],[7,68,8,68],[7,46,8,47],[7,48,8,48],[7,49,7,51],[7,52,8,54],[7,55,8,57],[7,58,8,60],[7,35,8,37],[7,38,8,40],[7,41,8,41],[7,42,8,42],[7,32,8,34],[7,8,7,10],[9,23,9,24],[9,26,9,27],[9,30,9,31],[9,33,9,34],[9,36,9,37],[9,38,9,40],[9,2,9,3],[9,5,9,6],[9,9,9,10],[9,12,9,13],[9,15,9,16],[9,17,9,19],[9,63,9,64],[9,66,9,67],[9,70,9,71],[9,73,9,74],[9,76,9,77],[9,78,9,80],[9,43,9,44],[9,46,9,47],[9,50,9,51],[9,53,9,54],[9,56,9,57],[9,58,9,60],[10,23,10,24],[10,26,10,27],[10,30,10,31],[10,33,10,34],[10,36,10,37],[10,38,10,40],[10,2,10,3],[10,5,10,6],[10,9,10,10],[10,12,10,13],[10,15,10,16],[10,17,10,19],[10,63,10,64],[10,66,10,67],[10,70,10,71],[10,73,10,74],[10,76,10,77],[10,78,10,80],[10,43,10,44],[10,46,10,47],[10,50,10,51],[10,53,10,54],[10,56,10,57],[10,58,10,60],[11,23,11,24],[11,26,11,27],[11,30,11,31],[11,33,11,34],[11,36,11,37],[11,38,11,40],[11,2,11,3],[11,5,11,6],[11,9,11,10],[11,12,11,13],[11,15,11,16],[11,17,11,19],[11,63,11,64],[11,66,11,67],[11,70,11,71],[11,73,11,74],[11,76,11,77],[11,78,11,80],[11,43,11,44],[11,46,11,47],[11,50,11,51],[11,53,11,54],[11,56,11,57],[11,58,11,60],[12,23,12,24],[12,26,12,27],[12,30,12,31],[12,33,12,34],[12,36,12,37],[12,38,12,40],[12,2,12,3],[12,5,12,6],[12,9,12,10],[12,12,12,13],[12,15,12,16],[12,17,12,19],[12,63,12,64],[12,66,12,67],[12,70,12,71],[12,73,12,74],[12,76,12,77],[12,78,12,80],[12,43,12,44],[12,46,12,47],[12,50,12,51],[12,53,12,54],[12,56,12,57],[12,58,12,60],[13,23,13,24],[13,26,13,27],[13,30,13,31],[13,33,13,34],[13,36,13,37],[13,38,13,40],[13,2,13,3],[13,5,13,6],[13,9,13,10],[13,12,13,13],[13,15,13,16],[13,17,13,19],[13,63,13,64],[13,66,13,67],[13,70,13,71],[13,73,13,74],[13,76,13,77],[13,78,13,80],[13,43,13,44],[13,46,13,47],[13,50,13,51],[13,53,13,54],[13,56,13,57],[13,58,13,60],[14,23,14,24],[14,26,14,27],[14,30,14,31],[14,33,14,34],[14,36,14,37],[14,38,14,40],[14,2,14,3],[14,5,14,6],[14,9,14,10],[14,12,14,13],[14,15,14,16],[14,17,14,19],[14,63,14,64],[14,66,14,67],[14,70,14,71],[14,73,14,74],[14,76,14,77],[14,78,14,80],[14,43,14,44],[14,46,14,47],[14,50,14,51],[14,53,14,54],[14,56,14,57],[14,58,14,60],[15,23,15,24],[15,26,15,27],[15,30,15,31],[15,33,15,34],[15,36,15,37],[15,38,15,40],[15,2,15,3],[15,5,15,6],[15,9,15,10],[15,12,15,13],[15,15,15,16],[15,17,15,19],[15,63,15,64],[15,66,15,67],[15,70,15,71],[15,73,15,74],[15,76,15,77],[15,78,15,80],[15,43,15,44],[15,46,15,47],[15,50,15,51],[15,53,15,54],[15,56,15,57],[15,58,15,60],[16,23,16,24],[16,26,16,27],[16,30,16,31],[16,33,16,34],[16,36,16,37],[16,38,16,40],[16,2,16,3],[16,5,16,6],[16,9,16,10],[16,12,16,13],[16,15,16,16],[16,17,16,19],[16,63,16,64],[16,66,16,67],[16,70,16,71],[16,73,16,74],[16,76,16,77],[16,78,16,80],[16,43,16,44],[16,46,16,47],[16,50,16,51],[16,53,16,54],[16,56,16,57],[16,58,16,60],[17,23,17,24],[17,26,17,27],[17,30,17,31],[17,33,17,34],[17,36,17,37],[17,38,17,40],[17,2,17,3],[17,5,17,6],[17,9,17,10],[17,12,17,13],[17,15,17,16],[17,17,17,19],[17,63,17,64],[17,66,17,67],[17,70,17,71],[17,73,17,74],[17,76,17,77],[17,78,17,80],[17,43,17,44],[17,46,17,47],[17,50,17,51],[17,53,17,54],[17,56,17,57],[17,58,17,60],[18,23,18,24],[18,26,18,27],[18,30,18,31],[18,33,18,34],[18,36,18,37],[18,38,18,40],[18,2,18,3],[18,5,18,6],[18,9,18,10],[18,12,18,13],[18,15,18,16],[18,17,18,19],[18,63,18,64],[18,66,18,67],[18,70,18,71],[18,73,18,74],[18,76,18,77],[18,78,18,80],[18,43,18,44],[18,46,18,47],[18,50,18,51],[18,53,18,54],[18,56,18,57],[18,58,18,60],[19,23,19,24],[19,26,19,27],[19,30,19,31],[19,33,19,34],[19,36,19,37],[19,38,19,40],[19,2,19,3],[19,5,19,6],[19,9,19,10],[19,12,19,13],[19,15,19,16],[19,17,19,19],[19,63,19,64],[19,66,19,67],[19,70,19,71],[19,73,19,74],[19,76,19,77],[19,78,19,80],[19,43,19,44],[19,46,19,47],[19,50,19,51],[19,53,19,54],[19,56,19,57],[19,58,19,60],[20,23,20,24],[20,26,20,27],[20,30,20,31],[20,33,20,34],[20,36,20,37],[20,38,20,40],[20,2,20,3],[20,5,20,6],[20,9,20,10],[20,12,20,13],[20,15,20,16],[20,17,20,19],[20,63,20,64],[20,66,20,67],[20,70,20,71],[20,73,20,74],[20,76,20,77],[20,78,20,80],[20,43,20,44],[20,46,20,47],[20,50,20,51],[20,53,20,54],[20,56,20,57],[20,58,20,60],[21,23,21,24],[21,26,21,27],[21,30,21,31],[21,33,21,34],[21,36,21,37],[21,38,21,40],[21,2,21,3],[21,5,21,6],[21,9,21,10],[21,12,21,13],[21,15,21,16],[21,17,21,19],[21,63,21,64],[21,66,21,67],[21,70,21,71],[21,73,21,74],[21,76,21,77],[21,78,21,80],[21,43,21,44],[21,46,21,47],[21,50,21,51],[21,53,21,54],[21,56,21,57],[21,58,21,60],[22,23,22,24],[22,26,22,27],[22,30,22,31],[22,33,22,34],[22,36,22,37],[22,38,22,40],[22,2,22,3],[22,5,22,6],[22,9,22,10],[22,12,22,13],[22,15,22,16],[22,17,22,19],[22,63,22,64],[22,66,22,67],[22,70,22,71],[22,73,22,74],[22,76,22,77],[22,78,22,80],[22,43,22,44],[22,46,22,47],[22,50,22,51],[22,53,22,54],[22,56,22,57],[22,58,22,60],[23,23,23,24],[23,26,23,27],[23,30,23,31],[23,33,23,34],[23,36,23,37],[23,38,23,40],[23,2,23,3],[23,5,23,6],[23,9,23,10],[23,12,23,13],[23,15,23,16],[23,17,23,19],[23,63,23,64],[23,66,23,67],[23,70,23,71],[23,73,23,74],[23,76,23,77],[23,78,23,80],[23,43,23,44],[23,46,23,47],[23,50,23,51],[23,53,23,54],[23,56,23,57],[23,58,23,60],[24,23,24,24],[24,26,24,27],[24,30,24,31],[24,33,24,34],[24,36,24,37],[24,38,24,40],[24,2,24,3],[24,5,24,6],[24,9,24,10],[24,12,24,13],[24,15,24,16],[24,17,24,19],[24,63,24,64],[24,66,24,67],[24,70,24,71],[24,73,24,74],[24,76,24,77],[24,78,24,80],[24,43,24,44],[24,46,24,47],[24,50,24,51],[24,53,24,54],[24,56,24,57],[24,58,24,60],[25,23,25,24],[25,26,25,27],[25,30,25,31],[25,33,25,34],[25,36,25,37],[25,38,25,40],[25,2,25,3],[25,5,25,6],[25,9,25,10],[25,12,25,13],[25,15,25,16],[25,17,25,19],[25,63,25,64],[25,66,25,67],[25,70,25,71],[25,73,25,74],[25,76,25,77],[25,78,25,80],[25,43,25,44],[25,46,25,47],[25,50,25,51],[25,53,25,54],[25,56,25,57],[25,58,25,60],[26,23,26,24],[26,26,26,27],[26,30,26,31],[26,33,26,34],[26,36,26,37],[26,38,26,40],[26,2,26,3],[26,5,26,6],[26,9,26,10],[26,12,26,13],[26,15,26,16],[26,17,26,19],[26,63,26,64],[26,66,26,67],[26,70,26,71],[26,73,26,74],[26,76,26,77],[26,78,26,80],[26,43,26,44],[26,46,26,47],[26,50,26,51],[26,53,26,54],[26,56,26,57],[26,58,26,60],[27,23,27,24],[27,26,27,27],[27,30,27,31],[27,33,27,34],[27,36,27,37],[27,38,27,40],[27,2,27,3],[27,5,27,6],[27,9,27,10],[27,12,27,13],[27,15,27,16],[27,17,27,19],[27,63,27,64],[27,66,27,67],[27,70,27,71],[27,73,27,74],[27,76,27,77],[27,78,27,80],[27,43,27,44],[27,46,27,47],[27,50,27,51],[27,53,27,54],[27,56,27,57],[27,58,27,60],[28,23,28,24],[28,26,28,27],[28,30,28,31],[28,33,28,34],[28,36,28,37],[28,38,28,40],[28,2,28,3],[28,5,28,6],[28,9,28,10],[28,12,28,13],[28,15,28,16],[28,17,28,19],[28,63,28,64],[28,66,28,67],[28,70,28,71],[28,73,28,74],[28,76,28,77],[28,78,28,80],[28,43,28,44],[28,46,28,47],[28,50,28,51],[28,53,28,54],[28,56,28,57],[28,58,28,60],[30,24,30,25],[30,27,30,28],[30,29,30,30],[30,31,30,33],[30,0,30,1],[30,3,30,4],[30,6,30,7],[30,8,30,9],[30,10,30,12],[30,14,30,15],[30,69,30,70],[30,71,30,73],[30,75,30,76],[30,77,30,78],[31,0,31,1],[31,3,31,4],[31,6,31,7],[31,8,31,9],[31,10,31,12],[31,14,31,15],[30,51,30,53],[30,55,30,56],[30,57,30,58],[30,61,30,62],[30,64,30,65],[30,67,30,68],[30,35,30,36],[30,37,30,38],[30,41,30,42],[30,44,30,45],[30,47,30,48],[30,49,30,50],[30,16,30,17],[30,21,30,22],[31,75,31,76],[31,77,31,78],[32,0,32,1],[32,3,32,4],[32,6,32,7],[32,8,32,9],[32,10,32,12],[32,14,32,15],[31,51,31,53],[31,55,31,56],[31,57,31,58],[31,61,31,62],[31,64,31,65],[31,67,31,68],[31,35,31,36],[31,37,31,38],[31,41,31,42],[31,44,31,45],[31,47,31,48],[31,49,31,50],[31,16,31,17],[31,21,31,22],[31,24,31,25],[31,27,31,28],[32,49,32,50],[32,16,32,17],[32,21,32,22],[32,24,32,25],[32,27,32,28],[32,29,32,30],[32,31,32,33],[31,69,31,70],[31,71,31,73],[31,29,31,30],[31,31,31,33],[33,44,33,45],[33,55,33,56],[33,57,33,58],[32,69,32,70],[32,71,32,73],[32,75,32,76],[32,77,32,78],[33,0,33,1],[33,3,33,4],[33,14,33,15],[33,16,33,17],[33,21,33,22],[33,24,33,25],[32,51,32,53],[32,55,32,56],[32,57,32,58],[32,61,32,62],[32,64,32,65],[32,67,32,68],[32,35,32,36],[32,37,32,38],[32,41,32,42],[32,44,32,45],[32,47,32,48],[34,14,35,15],[34,16,35,17],[34,18,35,18],[34,35,35,36],[34,37,35,38],[34,39,35,39],[33,35,33,36],[33,37,33,38],[33,41,33,42],[34,55,35,56],[34,57,35,58],[34,59,35,59],[34,75,35,76],[34,77,35,78],[34,79,35,79],[33,61,33,62],[33,64,33,65],[33,75,33,76],[33,77,33,78]]}
["様式第21",null,null,null,null,null,null,null,null,null,null,null,null,null,null,null,null,null,null,"（入力用）",null,"様式第21",null,null,null,null,null,null,null,null,null,null,null,null,null,null,null,null,null,null,"（保健所提出用）","様式第21",null,null,null,null,null,null,null,null,null,null,null,null,null,null,null,null,null,null,"（医師会提出用）","様式第21",null,null,null,null,null,null,null,null,null,null,null,null,null,null,null,null,null,null,"（医療機関控え）"]
[null,null,null,null,null,null,null,null,null,null,null,null,null,"検　診　医　療　機　関　名",null,null,null,null,null,null,null,null,null,null,null,null,null,null,null,null,null,null,null,null,"検　診　医　療　機　関　名",null,null,null,null,null,null,null,null,null,null,null,null,null,null,null,null,null,null,null,"検　診　医　療　機　関　名",null,null,null,null,null,null,null,null,null,null,null,null,null,null,null,null,null,null,null,"検　診　医　療　機　関　名"]
["胃がん検診（胃内視鏡検査）受診者名簿",null,null,null,null,null,null,null,null,null,null,null,null,{"$f":"IF(ISBLANK('胃がん検診受診者名簿（1～20）'!N3:T5),\"\",'胃がん検診受診者名簿（1～20）'!N3:T5)","v":""},null,null,null,null,null,null,null,"胃がん検診（胃内視鏡検査）受診者名簿",null,null,null,null,null,null,null,null,null,null,null,null,{"$f":"IF(ISBLANK('胃がん検診受診者名簿（1～20）'!N3),\"\",'胃がん検診受診者名簿（1～20）'!N3)","v":""},null,null,null,null,null,null,"胃がん検診（胃内視鏡検査）受診者名簿",null,null,null,null,null,null,null,null,null,null,null,null,{"$f":"IF(ISBLANK('胃がん検診受診者名簿（1～20）'!AI3),\"\",'胃がん検診受診者名簿（1～20）'!AI3)","v":""},null,null,null,null,null,null,"胃がん検診（胃内視鏡検査）受診者名簿",null,null,null,null,null,null,null,null,null,null,null,null,{"$f":"IF(ISBLANK('胃がん検診受診者名簿（1～20）'!BC3),\"\",'胃がん検診受診者名簿（1～20）'!BC3)","v":""}]
[]
[]
[null,null,"（令和",{"$f":"IF(ISBLANK('胃がん検診受診者名簿（1～20）'!D6:D7),\"\",'胃がん検診受診者名簿（1～20）'!D6:D7)","v":""},"年",{"$f":"IF(ISBLANK('胃がん検診受診者名簿（1～20）'!F6),\"\",'胃がん検診受診者名簿（1～20）'!F6)","v":""},"月分）",null,null,null,null,null,null,"電話番号",null,{"$f":"IF(ISBLANK('胃がん検診受診者名簿（1～20）'!P6:T63),\"\",'胃がん検診受診者名簿（1～20）'!P6:T6)","v":""},null,null,null,null,null,null,null,"（令和",{"$f":"IF(ISBLANK('胃がん検診受診者名簿（1～20）'!D6),\"\",'胃がん検診受診者名簿（1～20）'!D6)","v":""},"年",{"$f":"IF(ISBLANK('胃がん検診受診者名簿（1～20）'!F6),\"\",'胃がん検診受診者名簿（1～20）'!F6)","v":""},"月分）",null,null,null,null,null,null,"電話番号",null,{"$f":"IF(ISBLANK('胃がん検診受診者名簿（1～20）'!P6),\"\",'胃がん検診受診者名簿（1～20）'!P6)","v":""},{"$f":"IF(ISBLANK('胃がん検診受診者名簿（1～20）'!Q6),\"\",'胃がん検診受診者名簿（1～20）'!Q6)","v":""},{"$f":"IF(ISBLANK('胃がん検診受診者名簿（1～20）'!R6),\"\",'胃がん検診受診者名簿（1～20）'!R6)","v":""},{"$f":"IF(ISBLANK('胃がん検診受診者名簿（1～20）'!S6),\"\",'胃がん検診受診者名簿（1～20）'!S6)","v":""},{"$f":"IF(ISBLANK('胃がん検診受診者名簿（1～20）'!T6),\"\",'胃がん検診受診者名簿（1～20）'!T6)","v":""},null,null,"（令和",{"$f":"IF(ISBLANK('胃がん検診受診者名簿（1～20）'!Y6),\"\",'胃がん検診受診者名簿（1～20）'!Y6)","v":""},"年",{"$f":"IF(ISBLANK('胃がん検診受診者名簿（1～20）'!AA6),\"\",'胃がん検診受診者名簿（1～20）'!AA6)","v":""},"月分）",null,null,null,null,null,null,"電話番号",null,{"$f":"IF(ISBLANK('胃がん検診受診者名簿（1～20）'!AK6),\"\",'胃がん検診受診者名簿（1～20）'!AK6)","v":""},{"$f":"IF(ISBLANK('胃がん検診受診者名簿（1～20）'!AL6),\"\",'胃がん検診受診者名簿（1～20）'!AL6)","v":""},{"$f":"IF(ISBLANK('胃がん検診受診者名簿（1～20）'!AM6),\"\",'胃がん検診受診者名簿（1～20）'!AM6)","v":""},{"$f":"IF(ISBLANK('胃がん検診受診者名簿（1～20）'!AN6),\"\",'胃がん検診受診者名簿（1～20）'!AN6)","v":""},{"$f":"IF(ISBLANK('胃がん検診受診者名簿（1～20）'!AO6),\"\",'胃がん検診受診者名簿（1～20）'!AO6)","v":""},null,null,"（令和",{"$f":"IF(ISBLANK('胃がん検診受診者名簿（1～20）'!AS6),\"\",'胃がん検診受診者名簿（1～20）'!AS6)","v":""},"年",{"$f":"IF(ISBLANK('胃がん検診受診者名簿（1～20）'!AU6),\"\",'胃がん検診受診者名簿（1～20）'!AU6)","v":""},"月分）",null,null,null,null,null,null,"電話番号",null,{"$f":"IF(ISBLANK('胃がん検診受診者名簿（1～20）'!BE6),\"\",'胃がん検診受診者名簿（1～20）'!BE6)","v":""},{"$f":"IF(ISBLANK('胃がん検診受診者名簿（1～20）'!BF6),\"\",'胃がん検診受診者名簿（1～20）'!BF6)","v":""},{"$f":"IF(ISBLANK('胃がん検診受診者名簿（1～20）'!BG6),\"\",'胃がん検診受診者名簿（1～20）'!BG6)","v":""},{"$f":"IF(ISBLANK('胃がん検診受診者名簿（1～20）'!BH6),\"\",'胃がん検診受診者名簿（1～20）'!BH6)","v":""},{"$f":"IF(ISBLANK('胃がん検診受診者名簿（1～20）'!BI6),\"\",'胃がん検診受診者名簿（1～20）'!BI6)","v":""}]
[]
["受付\n番号","受診日","氏　　名",null,"年齢","電話番号",null,"生検\n実施","偶発症\n発生",null,null,"結 果 判 定",null,null,"自己負担\n免除者区分",null,null,"備　　考\n（精検紹介先医療機関等）",null,null,null,"受付\n番号","受診日","氏　　名",null,"年齢","電話番号",null,"生検\n実施","偶発症\n発生",null,null,"結 果 判 定",null,null,"自己負担\n免除者区分",null,null,"備　　考\n（精検紹介先医療機関等）",null,null,"受付\n番号","受診日","氏　　名",null,"年齢","電話番号",null,"生検\n実施","偶発症\n発生",null,null,"結 果 判 定",null,null,"自己負担\n免除者区分",null,null,"備　　考\n（精検紹介先医療機関等）",null,null,"受付\n番号","受診日","氏　　名",null,"年齢","電話番号",null,"生検\n実施","偶発症\n発生",null,null,"結 果 判 定",null,null,"自己負担\n免除者区分",null,null,"備　　考\n（精検紹介先医療機関等）"]
[null,null,null,null,null,null,null,null,"検診時","生検時",null,null,null,null,null,null,null,null,null,null,null,null,null,null,null,null,null,null,null,"検診時","生検時",null,null,null,null,null,null,null,null,null,null,null,null,null,null,null,null,null,null,"検診時","生検時",null,null,null,null,null,null,null,null,null,null,null,null,null,null,null,null,null,null,"検診時","生検時"]
[41,null,null,null,null,null,null,false,false,false,null,null,{"$f":"IF(L10=1,\"胃がんなし\",IF(L10=2,\"胃がん疑い\",IF(L10=3,\"胃がんあり\",IF(L10=4,\"胃がん以外の悪性病変\",\"\"))))","v":""},null,null,{"$f":"IF(O10=1,\"70歳以上\",IF(O10=2,\"後期高齢者医療制度\",IF(O10=3,\"生活保護　世帯\",IF(O10=4,\"非課税世帯\",\"\"))))","v":""},null,null,null,null,null,41,{"$f":"IF(ISBLANK('胃がん検診受診者名簿（41～60）'!B10),\"\",'胃がん検診受診者名簿（41～60）'!B10)","v":""},{"$f":"IF(ISBLANK('胃がん検診受診者名簿（41～60）'!C10),\"\",'胃がん検診受診者名簿（41～60）'!C10)","v":""},null,{"$f":"IF(ISBLANK('胃がん検診受診者名簿（41～60）'!E10),\"\",'胃がん検診受診者名簿（41～60）'!E10)","v":""},{"$f":"IF(ISBLANK('胃がん検診受診者名簿（41～60）'!F10),\"\",'胃がん検診受診者名簿（41～60）'!F10)","v":""},null,null,null,null,null,null,{"$f":"IF(ISBLANK('胃がん検診受診者名簿（41～60）'!M10),\"\",'胃がん検診受診者名簿（41～60）'!M10)","v":""},null,null,{"$f":"IF(ISBLANK('胃がん検診受診者名簿（41～60）'!P10),\"\",'胃がん検診受診者名簿（41～60）'!P10)","v":""},null,{"$f":"IF(ISBLANK('胃がん検診受診者名簿（41～60）'!R10),\"\",'胃がん検診受診者名簿（41～60）'!R10)","v":""},null,null,41,{"$f":"IF(ISBLANK('胃がん検診受診者名簿（41～60）'!W10),\"\",'胃がん検診受診者名簿（41～60）'!W10)","v":""},{"$f":"IF(ISBLANK('胃がん検診受診者名簿（41～60）'!X10),\"\",'胃がん検診受診者名簿（41～60）'!X10)","v":""},null,{"$f":"IF(ISBLANK('胃がん検診受診者名簿（41～60）'!Z10),\"\",'胃がん検診受診者名簿（41～60）'!Z10)","v":""},{"$f":"IF(ISBLANK('胃がん検診受診者名簿（41～60）'!AA10),\"\",'胃がん検診受診者名簿（41～60）'!AA10)","v":""},null,null,null,null,null,null,{"$f":"IF(ISBLANK('胃がん検診受診者名簿（41～60）'!AH10),\"\",'胃がん検診受診者名簿（41～60）'!AH10)","v":""},null,null,{"$f":"IF(ISBLANK('胃がん検診受診者名簿（41～60）'!AK10),\"\",'胃がん検診受診者名簿（41～60）'!AK10)","v":""},null,{"$f":"IF(ISBLANK('胃がん検診受診者名簿（41～60）'!AM10),\"\",'胃がん検診受診者名簿（41～60）'!AM10)","v":""},null,null,41,{"$f":"IF(ISBLANK('胃がん検診受診者名簿（41～60）'!AR10),\"\",'胃がん検診受診者名簿（41～60）'!AQ10)","v":""},{"$f":"IF(ISBLANK('胃がん検診受診者名簿（41～60）'!AR10),\"\",'胃がん検診受診者名簿（41～60）'!AR10)","v":""},null,{"$f":"IF(ISBLANK('胃がん検診受診者名簿（41～60）'!AT10),\"\",'胃がん検診受診者名簿（41～60）'!AT10)","v":""},{"$f":"IF(ISBLANK('胃がん検診受診者名簿（41～60）'!AU10),\"\",'胃がん検診受診者名簿（41～60）'!AU10)","v":""},null,null,null,null,null,null,{"$f":"IF(ISBLANK('胃がん検診受診者名簿（41～60）'!BB10),\"\",'胃がん検診受診者名簿（41～60）'!BB10)","v":""},null,null,{"$f":"IF(ISBLANK('胃がん検診受診者名簿（41～60）'!BE10),\"\",'胃がん検診受診者名簿（41～60）'!BE10)","v":""},null,{"$f":"IF(ISBLANK('胃がん検診受診者名簿（41～60）'!BG10),\"\",'胃がん検診受診者名簿（41～60）'!BG10)","v":""}]
[42,null,null,null,null,null,null,false,null,false,null,null,{"$f":"IF(L11=1,\"胃がんなし\",IF(L11=2,\"胃がん疑い\",IF(L11=3,\"胃がんあり\",IF(L11=4,\"胃がん以外の悪性病変\",\"\"))))","v":""},null,null,{"$f":"IF(O11=1,\"70歳以上\",IF(O11=2,\"後期高齢者医療制度\",IF(O11=3,\"生活保護　世帯\",IF(O11=4,\"非課税世帯\",\"\"))))","v":""},null,null,null,null,null,42,{"$f":"IF(ISBLANK('胃がん検診受診者名簿（41～60）'!B11),\"\",'胃がん検診受診者名簿（41～60）'!B11)","v":""},{"$f":"IF(ISBLANK('胃がん検診受診者名簿（41～60）'!C11),\"\",'胃がん検診受診者名簿（41～60）'!C11)","v":""},null,{"$f":"IF(ISBLANK('胃がん検診受診者名簿（41～60）'!E11),\"\",'胃がん検診受診者名簿（41～60）'!E11)","v":""},{"$f":"IF(ISBLANK('胃がん検診受診者名簿（41～60）'!F11),\"\",'胃がん検診受診者名簿（41～60）'!F11)","v":""},null,null,null,null,null,null,{"$f":"IF(ISBLANK('胃がん検診受診者名簿（41～60）'!M11),\"\",'胃がん検診受診者名簿（41～60）'!M11)","v":""},null,null,{"$f":"IF(ISBLANK('胃がん検診受診者名簿（41～60）'!P11),\"\",'胃がん検診受診者名簿（41～60）'!P11)","v":""},null,{"$f":"IF(ISBLANK('胃がん検診受診者名簿（41～60）'!R11),\"\",'胃がん検診受診者名簿（41～60）'!R11)","v":""},null,null,42,{"$f":"IF(ISBLANK('胃がん検診受診者名簿（41～60）'!W11),\"\",'胃がん検診受診者名簿（41～60）'!W11)","v":""},{"$f":"IF(ISBLANK('胃がん検診受診者名簿（41～60）'!X11),\"\",'胃がん検診受診者名簿（41～60）'!X11)","v":""},null,{"$f":"IF(ISBLANK('胃がん検診受診者名簿（41～60）'!Z11),\"\",'胃がん検診受診者名簿（41～60）'!Z11)","v":""},{"$f":"IF(ISBLANK('胃がん検診受診者名簿（41～60）'!AA11),\"\",'胃がん検診受診者名簿（41～60）'!AA11)","v":""},null,null,null,null,null,null,{"$f":"IF(ISBLANK('胃がん検診受診者名簿（41～60）'!AH11),\"\",'胃がん検診受診者名簿（41～60）'!AH11)","v":""},null,null,{"$f":"IF(ISBLANK('胃がん検診受診者名簿（41～60）'!AK11),\"\",'胃がん検診受診者名簿（41～60）'!AK11)","v":""},null,{"$f":"IF(ISBLANK('胃がん検診受診者名簿（41～60）'!AM11),\"\",'胃がん検診受診者名簿（41～60）'!AM11)","v":""},null,null,42,{"$f":"IF(ISBLANK('胃がん検診受診者名簿（41～60）'!AR11),\"\",'胃がん検診受診者名簿（41～60）'!AQ11)","v":""},{"$f":"IF(ISBLANK('胃がん検診受診者名簿（41～60）'!AR11),\"\",'胃がん検診受診者名簿（41～60）'!AR11)","v":""},null,{"$f":"IF(ISBLANK('胃がん検診受診者名簿（41～60）'!AT11),\"\",'胃がん検診受診者名簿（41～60）'!AT11)","v":""},{"$f":"IF(ISBLANK('胃がん検診受診者名簿（41～60）'!AU11),\"\",'胃がん検診受診者名簿（41～60）'!AU11)","v":""},null,null,null,null,null,null,{"$f":"IF(ISBLANK('胃がん検診受診者名簿（41～60）'!BB11),\"\",'胃がん検診受診者名簿（41～60）'!BB11)","v":""},null,null,{"$f":"IF(ISBLANK('胃がん検診受診者名簿（41～60）'!BE11),\"\",'胃がん検診受診者名簿（41～60）'!BE11)","v":""},null,{"$f":"IF(ISBLANK('胃がん検診受診者名簿（41～60）'!BG11),\"\",'胃がん検診受診者名簿（41～60）'!BG11)","v":""}]
[43,null,null,null,null,null,null,false,null,false,null,null,{"$f":"IF(L12=1,\"胃がんなし\",IF(L12=2,\"胃がん疑い\",IF(L12=3,\"胃がんあり\",IF(L12=4,\"胃がん以外の悪性病変\",\"\"))))","v":""},null,null,"",null,null,null,null,null,43,{"$f":"IF(ISBLANK('胃がん検診受診者名簿（41～60）'!B12),\"\",'胃がん検診受診者名簿（41～60）'!B12)","v":""},{"$f":"IF(ISBLANK('胃がん検診受診者名簿（41～60）'!C12),\"\",'胃がん検診受診者名簿（41～60）'!C12)","v":""},null,{"$f":"IF(ISBLANK('胃がん検診受診者名簿（41～60）'!E12),\"\",'胃がん検診受診者名簿（41～60）'!E12)","v":""},{"$f":"IF(ISBLANK('胃がん検診受診者名簿（41～60）'!F12),\"\",'胃がん検診受診者名簿（41～60）'!F12)","v":""},null,null,null,null,null,null,{"$f":"IF(ISBLANK('胃がん検診受診者名簿（41～60）'!M12),\"\",'胃がん検診受診者名簿（41～60）'!M12)","v":""},null,null,{"$f":"IF(ISBLANK('胃がん検診受診者名簿（41～60）'!P12),\"\",'胃がん検診受診者名簿（41～60）'!P12)","v":""},null,{"$f":"IF(ISBLANK('胃がん検診受診者名簿（41～60）'!R12),\"\",'胃がん検診受診者名簿（41～60）'!R12)","v":""},null,null,43,{"$f":"IF(ISBLANK('胃がん検診受診者名簿（41～60）'!W12),\"\",'胃がん検診受診者名簿（41～60）'!W12)","v":""},{"$f":"IF(ISBLANK('胃がん検診受診者名簿（41～60）'!X12),\"\",'胃がん検診受診者名簿（41～60）'!X12)","v":""},null,{"$f":"IF(ISBLANK('胃がん検診受診者名簿（41～60）'!Z12),\"\",'胃がん検診受診者名簿（41～60）'!Z12)","v":""},{"$f":"IF(ISBLANK('胃がん検診受診者名簿（41～60）'!AA12),\"\",'胃がん検診受診者名簿（41～60）'!AA12)","v":""},null,null,null,null,null,null,{"$f":"IF(ISBLANK('胃がん検診受診者名簿（41～60）'!AH12),\"\",'胃がん検診受診者名簿（41～60）'!AH12)","v":""},null,null,{"$f":"IF(ISBLANK('胃がん検診受診者名簿（41～60）'!AK12),\"\",'胃がん検診受診者名簿（41～60）'!AK12)","v":""},null,{"$f":"IF(ISBLANK('胃がん検診受診者名簿（41～60）'!AM12),\"\",'胃がん検診受診者名簿（41～60）'!AM12)","v":""},null,null,43,{"$f":"IF(ISBLANK('胃がん検診受診者名簿（41～60）'!AR12),\"\",'胃がん検診受診者名簿（41～60）'!AQ12)","v":""},{"$f":"IF(ISBLANK('胃がん検診受診者名簿（41～60）'!AR12),\"\",'胃がん検診受診者名簿（41～60）'!AR12)","v":""},null,{"$f":"IF(ISBLANK('胃がん検診受診者名簿（41～60）'!AT12),\"\",'胃がん検診受診者名簿（41～60）'!AT12)","v":""},{"$f":"IF(ISBLANK('胃がん検診受診者名簿（41～60）'!AU12),\"\",'胃がん検診受診者名簿（41～60）'!AU12)","v":""},null,null,null,null,null,null,{"$f":"IF(ISBLANK('胃がん検診受診者名簿（41～60）'!BB12),\"\",'胃がん検診受診者名簿（41～60）'!BB12)","v":""},null,null,{"$f":"IF(ISBLANK('胃がん検診受診者名簿（41～60）'!BE12),\"\",'胃がん検診受診者名簿（41～60）'!BE12)","v":""},null,{"$f":"IF(ISBLANK('胃がん検診受診者名簿（41～60）'!BG12),\"\",'胃がん検診受診者名簿（41～60）'!BG12)","v":""}]
[44,null,null,null,null,null,null,false,false,false,null,null,"",null,null,"",null,null,null,null,null,44,{"$f":"IF(ISBLANK('胃がん検診受診者名簿（41～60）'!B13),\"\",'胃がん検診受診者名簿（41～60）'!B13)","v":""},{"$f":"IF(ISBLANK('胃がん検診受診者名簿（41～60）'!C13),\"\",'胃がん検診受診者名簿（41～60）'!C13)","v":""},null,{"$f":"IF(ISBLANK('胃がん検診受診者名簿（41～60）'!E13),\"\",'胃がん検診受診者名簿（41～60）'!E13)","v":""},{"$f":"IF(ISBLANK('胃がん検診受診者名簿（41～60）'!F13),\"\",'胃がん検診受診者名簿（41～60）'!F13)","v":""},null,null,null,null,null,null,{"$f":"IF(ISBLANK('胃がん検診受診者名簿（41～60）'!M13),\"\",'胃がん検診受診者名簿（41～60）'!M13)","v":""},null,null,{"$f":"IF(ISBLANK('胃がん検診受診者名簿（41～60）'!P13),\"\",'胃がん検診受診者名簿（41～60）'!P13)","v":""},null,{"$f":"IF(ISBLANK('胃がん検診受診者名簿（41～60）'!R13),\"\",'胃がん検診受診者名簿（41～60）'!R13)","v":""},null,null,44,{"$f":"IF(ISBLANK('胃がん検診受診者名簿（41～60）'!W13),\"\",'胃がん検診受診者名簿（41～60）'!W13)","v":""},{"$f":"IF(ISBLANK('胃がん検診受診者名簿（41～60）'!X13),\"\",'胃がん検診受診者名簿（41～60）'!X13)","v":""},null,{"$f":"IF(ISBLANK('胃がん検診受診者名簿（41～60）'!Z13),\"\",'胃がん検診受診者名簿（41～60）'!Z13)","v":""},{"$f":"IF(ISBLANK('胃がん検診受診者名簿（41～60）'!AA13),\"\",'胃がん検診受診者名簿（41～60）'!AA13)","v":""},null,null,null,null,null,null,{"$f":"IF(ISBLANK('胃がん検診受診者名簿（41～60）'!AH13),\"\",'胃がん検診受診者名簿（41～60）'!AH13)","v":""},null,null,{"$f":"IF(ISBLANK('胃がん検診受診者名簿（41～60）'!AK13),\"\",'胃がん検診受診者名簿（41～60）'!AK13)","v":""},null,{"$f":"IF(ISBLANK('胃がん検診受診者名簿（41～60）'!AM13),\"\",'胃がん検診受診者名簿（41～60）'!AM13)","v":""},null,null,44,{"$f":"IF(ISBLANK('胃がん検診受診者名簿（41～60）'!AR13),\"\",'胃がん検診受診者名簿（41～60）'!AQ13)","v":""},{"$f":"IF(ISBLANK('胃がん検診受診者名簿（41～60）'!AR13),\"\",'胃がん検診受診者名簿（41～60）'!AR13)","v":""},null,{"$f":"IF(ISBLANK('胃がん検診受診者名簿（41～60）'!AT13),\"\",'胃がん検診受診者名簿（41～60）'!AT13)","v":""},{"$f":"IF(ISBLANK('胃がん検診受診者名簿（41～60）'!AU13),\"\",'胃がん検診受診者名簿（41～60）'!AU13)","v":""},null,null,null,null,null,null,{"$f":"IF(ISBLANK('胃がん検診受診者名簿（41～60）'!BB13),\"\",'胃がん検診受診者名簿（41～60）'!BB13)","v":""},null,null,{"$f":"IF(ISBLANK('胃がん検診受診者名簿（41～60）'!BE13),\"\",'胃がん検診受診者名簿（41～60）'!BE13)","v":""},null,{"$f":"IF(ISBLANK('胃がん検診受診者名簿（41～60）'!BG13),\"\",'胃がん検診受診者名簿（41～60）'!BG13)","v":""}]
[45,null,null,null,null,null,null,false,null,null,null,null,"",null,null,"",null,null,null,null,null,45,{"$f":"IF(ISBLANK('胃がん検診受診者名簿（41～60）'!B14),\"\",'胃がん検診受診者名簿（41～60）'!B14)","v":""},{"$f":"IF(ISBLANK('胃がん検診受診者名簿（41～60）'!C14),\"\",'胃がん検診受診者名簿（41～60）'!C14)","v":""},null,{"$f":"IF(ISBLANK('胃がん検診受診者名簿（41～60）'!E14),\"\",'胃がん検診受診者名簿（41～60）'!E14)","v":""},{"$f":"IF(ISBLANK('胃がん検診受診者名簿（41～60）'!F14),\"\",'胃がん検診受診者名簿（41～60）'!F14)","v":""},null,null,null,null,null,null,{"$f":"IF(ISBLANK('胃がん検診受診者名簿（41～60）'!M14),\"\",'胃がん検診受診者名簿（41～60）'!M14)","v":""},null,null,{"$f":"IF(ISBLANK('胃がん検診受診者名簿（41～60）'!P14),\"\",'胃がん検診受診者名簿（41～60）'!P14)","v":""},null,{"$f":"IF(ISBLANK('胃がん検診受診者名簿（41～60）'!R14),\"\",'胃がん検診受診者名簿（41～60）'!R14)","v":""},null,null,45,{"$f":"IF(ISBLANK('胃がん検診受診者名簿（41～60）'!W14),\"\",'胃がん検診受診者名簿（41～60）'!W14)","v":""},{"$f":"IF(ISBLANK('胃がん検診受診者名簿（41～60）'!X14),\"\",'胃がん検診受診者名簿（41～60）'!X14)","v":""},null,{"$f":"IF(ISBLANK('胃がん検診受診者名簿（41～60）'!Z14),\"\",'胃がん検診受診者名簿（41～60）'!Z14)","v":""},{"$f":"IF(ISBLANK('胃がん検診受診者名簿（41～60）'!AA14),\"\",'胃がん検診受診者名簿（41～60）'!AA14)","v":""},null,null,null,null,null,null,{"$f":"IF(ISBLANK('胃がん検診受診者名簿（41～60）'!AH14),\"\",'胃がん検診受診者名簿（41～60）'!AH14)","v":""},null,null,{"$f":"IF(ISBLANK('胃がん検診受診者名簿（41～60）'!AK14),\"\",'胃がん検診受診者名簿（41～60）'!AK14)","v":""},null,{"$f":"IF(ISBLANK('胃がん検診受診者名簿（41～60）'!AM14),\"\",'胃がん検診受診者名簿（41～60）'!AM14)","v":""},null,null,45,{"$f":"IF(ISBLANK('胃がん検診受診者名簿（41～60）'!AR14),\"\",'胃がん検診受診者名簿（41～60）'!AQ14)","v":""},{"$f":"IF(ISBLANK('胃がん検診受診者名簿（41～60）'!AR14),\"\",'胃がん検診受診者名簿（41～60）'!AR14)","v":""},null,{"$f":"IF(ISBLANK('胃がん検診受診者名簿（41～60）'!AT14),\"\",'胃がん検診受診者名簿（41～60）'!AT14)","v":""},{"$f":"IF(ISBLANK('胃がん検診受診者名簿（41～60）'!AU14),\"\",'胃がん検診受診者名簿（41～60）'!AU14)","v":""},null,null,null,null,null,null,{"$f":"IF(ISBLANK('胃がん検診受診者名簿（41～60）'!BB14),\"\",'胃がん検診受診者名簿（41～60）'!BB14)","v":""},null,null,{"$f":"IF(ISBLANK('胃がん検診受診者名簿（41～60）'!BE14),\"\",'胃がん検診受診者名簿（41～60）'!BE14)","v":""},null,{"$f":"IF(ISBLANK('胃がん検診受診者名簿（41～60）'!BG14),\"\",'胃がん検診受診者名簿（41～60）'!BG14)","v":""}]
[46,null,null,null,null,null,null,false,null,null,null,null,"",null,null,"",null,null,null,null,null,46,{"$f":"IF(ISBLANK('胃がん検診受診者名簿（41～60）'!B15),\"\",'胃がん検診受診者名簿（41～60）'!B15)","v":""},{"$f":"IF(ISBLANK('胃がん検診受診者名簿（41～60）'!C15),\"\",'胃がん検診受診者名簿（41～60）'!C15)","v":""},null,{"$f":"IF(ISBLANK('胃がん検診受診者名簿（41～60）'!E15),\"\",'胃がん検診受診者名簿（41～60）'!E15)","v":""},{"$f":"IF(ISBLANK('胃がん検診受診者名簿（41～60）'!F15),\"\",'胃がん検診受診者名簿（41～60）'!F15)","v":""},null,null,null,null,null,null,{"$f":"IF(ISBLANK('胃がん検診受診者名簿（41～60）'!M15),\"\",'胃がん検診受診者名簿（41～60）'!M15)","v":""},null,null,{"$f":"IF(ISBLANK('胃がん検診受診者名簿（41～60）'!P15),\"\",'胃がん検診受診者名簿（41～60）'!P15)","v":""},null,{"$f":"IF(ISBLANK('胃がん検診受診者名簿（41～60）'!R15),\"\",'胃がん検診受診者名簿（41～60）'!R15)","v":""},null,null,46,{"$f":"IF(ISBLANK('胃がん検診受診者名簿（41～60）'!W15),\"\",'胃がん検診受診者名簿（41～60）'!W15)","v":""},{"$f":"IF(ISBLANK('胃がん検診受診者名簿（41～60）'!X15),\"\",'胃がん検診受診者名簿（41～60）'!X15)","v":""},null,{"$f":"IF(ISBLANK('胃がん検診受診者名簿（41～60）'!Z15),\"\",'胃がん検診受診者名簿（41～60）'!Z15)","v":""},{"$f":"IF(ISBLANK('胃がん検診受診者名簿（41～60）'!AA15),\"\",'胃がん検診受診者名簿（41～60）'!AA15)","v":""},null,null,null,null,null,null,{"$f":"IF(ISBLANK('胃がん検診受診者名簿（41～60）'!AH15),\"\",'胃がん検診受診者名簿（41～60）'!AH15)","v":""},null,null,{"$f":"IF(ISBLANK('胃がん検診受診者名簿（41～60）'!AK15),\"\",'胃がん検診受診者名簿（41～60）'!AK15)","v":""},null,{"$f":"IF(ISBLANK('胃がん検診受診者名簿（41～60）'!AM15),\"\",'胃がん検診受診者名簿（41～60）'!AM15)","v":""},null,null,46,{"$f":"IF(ISBLANK('胃がん検診受診者名簿（41～60）'!AR15),\"\",'胃がん検診受診者名簿（41～60）'!AQ15)","v":""},{"$f":"IF(ISBLANK('胃がん検診受診者名簿（41～60）'!AR15),\"\",'胃がん検診受診者名簿（41～60）'!AR15)","v":""},null,{"$f":"IF(ISBLANK('胃がん検診受診者名簿（41～60）'!AT15),\"\",'胃がん検診受診者名簿（41～60）'!AT15)","v":""},{"$f":"IF(ISBLANK('胃がん検診受診者名簿（41～60）'!AU15),\"\",'胃がん検診受診者名簿（41～60）'!AU15)","v":""},null,null,null,null,null,null,{"$f":"IF(ISBLANK('胃がん検診受診者名簿（41～60）'!BB15),\"\",'胃がん検診受診者名簿（41～60）'!BB15)","v":""},null,null,{"$f":"IF(ISBLANK('胃がん検診受診者名簿（41～60）'!BE15),\"\",'胃がん検診受診者名簿（41～60）'!BE15)","v":""},null,{"$f":"IF(ISBLANK('胃がん検診受診者名簿（41～60）'!BG15),\"\",'胃がん検診受診者名簿（41～60）'!BG15)","v":""}]
[47,null,null,null,null,null,null,null,null,null,null,null,"",null,null,"",null,null,null,null,null,47,{"$f":"IF(ISBLANK('胃がん検診受診者名簿（41～60）'!B16),\"\",'胃がん検診受診者名簿（41～60）'!B16)","v":""},{"$f":"IF(ISBLANK('胃がん検診受診者名簿（41～60）'!C16),\"\",'胃がん検診受診者名簿（41～60）'!C16)","v":""},null,{"$f":"IF(ISBLANK('胃がん検診受診者名簿（41～60）'!E16),\"\",'胃がん検診受診者名簿（41～60）'!E16)","v":""},{"$f":"IF(ISBLANK('胃がん検診受診者名簿（41～60）'!F16),\"\",'胃がん検診受診者名簿（41～60）'!F16)","v":""},null,null,null,null,null,null,{"$f":"IF(ISBLANK('胃がん検診受診者名簿（41～60）'!M16),\"\",'胃がん検診受診者名簿（41～60）'!M16)","v":""},null,null,{"$f":"IF(ISBLANK('胃がん検診受診者名簿（41～60）'!P16),\"\",'胃がん検診受診者名簿（41～60）'!P16)","v":""},null,{"$f":"IF(ISBLANK('胃がん検診受診者名簿（41～60）'!R16),\"\",'胃がん検診受診者名簿（41～60）'!R16)","v":""},null,null,47,{"$f":"IF(ISBLANK('胃がん検診受診者名簿（41～60）'!W16),\"\",'胃がん検診受診者名簿（41～60）'!W16)","v":""},{"$f":"IF(ISBLANK('胃がん検診受診者名簿（41～60）'!X16),\"\",'胃がん検診受診者名簿（41～60）'!X16)","v":""},null,{"$f":"IF(ISBLANK('胃がん検診受診者名簿（41～60）'!Z16),\"\",'胃がん検診受診者名簿（41～60）'!Z16)","v":""},{"$f":"IF(ISBLANK('胃がん検診受診者名簿（41～60）'!AA16),\"\",'胃がん検診受診者名簿（41～60）'!AA16)","v":""},null,null,null,null,null,null,{"$f":"IF(ISBLANK('胃がん検診受診者名簿（41～60）'!AH16),\"\",'胃がん検診受診者名簿（41～60）'!AH16)","v":""},null,null,{"$f":"IF(ISBLANK('胃がん検診受診者名簿（41～60）'!AK16),\"\",'胃がん検診受診者名簿（41～60）'!AK16)","v":""},null,{"$f":"IF(ISBLANK('胃がん検診受診者名簿（41～60）'!AM16),\"\",'胃がん検診受診者名簿（41～60）'!AM16)","v":""},null,null,47,{"$f":"IF(ISBLANK('胃がん検診受診者名簿（41～60）'!AR16),\"\",'胃がん検診受診者名簿（41～60）'!AQ16)","v":""},{"$f":"IF(ISBLANK('胃がん検診受診者名簿（41～60）'!AR16),\"\",'胃がん検診受診者名簿（41～60）'!AR16)","v":""},null,{"$f":"IF(ISBLANK('胃がん検診受診者名簿（41～60）'!AT16),\"\",'胃がん検診受診者名簿（41～60）'!AT16)","v":""},{"$f":"IF(ISBLANK('胃がん検診受診者名簿（41～60）'!AU16),\"\",'胃がん検診受診者名簿（41～60）'!AU16)","v":""},null,null,null,null,null,null,{"$f":"IF(ISBLANK('胃がん検診受診者名簿（41～60）'!BB16),\"\",'胃がん検診受診者名簿（41～60）'!BB16)","v":""},null,null,{"$f":"IF(ISBLANK('胃がん検診受診者名簿（41～60）'!BE16),\"\",'胃がん検診受診者名簿（41～60）'!BE16)","v":""},null,{"$f":"IF(ISBLANK('胃がん検診受診者名簿（41～60）'!BG16),\"\",'胃がん検診受診者名簿（41～60）'!BG16)","v":""}]
[48,null,null,null,null,null,null,false,false,false,null,null,"",null,null,"",null,null,null,null,null,48,{"$f":"IF(ISBLANK('胃がん検診受診者名簿（41～60）'!B17),\"\",'胃がん検診受診者名簿（41～60）'!B17)","v":""},{"$f":"IF(ISBLANK('胃がん検診受診者名簿（41～60）'!C17),\"\",'胃がん検診受診者名簿（41～60）'!C17)","v":""},null,{"$f":"IF(ISBLANK('胃がん検診受診者名簿（41～60）'!E17),\"\",'胃がん検診受診者名簿（41～60）'!E17)","v":""},{"$f":"IF(ISBLANK('胃がん検診受診者名簿（41～60）'!F17),\"\",'胃がん検診受診者名簿（41～60）'!F17)","v":""},null,null,null,null,null,null,{"$f":"IF(ISBLANK('胃がん検診受診者名簿（41～60）'!M17),\"\",'胃がん検診受診者名簿（41～60）'!M17)","v":""},null,null,{"$f":"IF(ISBLANK('胃がん検診受診者名簿（41～60）'!P17),\"\",'胃がん検診受診者名簿（41～60）'!P17)","v":""},null,{"$f":"IF(ISBLANK('胃がん検診受診者名簿（41～60）'!R17),\"\",'胃がん検診受診者名簿（41～60）'!R17)","v":""},null,null,48,{"$f":"IF(ISBLANK('胃がん検診受診者名簿（41～60）'!W17),\"\",'胃がん検診受診者名簿（41～60）'!W17)","v":""},{"$f":"IF(ISBLANK('胃がん検診受診者名簿（41～60）'!X17),\"\",'胃がん検診受診者名簿（41～60）'!X17)","v":""},null,{"$f":"IF(ISBLANK('胃がん検診受診者名簿（41～60）'!Z17),\"\",'胃がん検診受診者名簿（41～60）'!Z17)","v":""},{"$f":"IF(ISBLANK('胃がん検診受診者名簿（41～60）'!AA17),\"\",'胃がん検診受診者名簿（41～60）'!AA17)","v":""},null,null,null,null,null,null,{"$f":"IF(ISBLANK('胃がん検診受診者名簿（41～60）'!AH17),\"\",'胃がん検診受診者名簿（41～60）'!AH17)","v":""},null,null,{"$f":"IF(ISBLANK('胃がん検診受診者名簿（41～60）'!AK17),\"\",'胃がん検診受診者名簿（41～60）'!AK17)","v":""},null,{"$f":"IF(ISBLANK('胃がん検診受診者名簿（41～60）'!AM17),\"\",'胃がん検診受診者名簿（41～60）'!AM17)","v":""},null,null,48,{"$f":"IF(ISBLANK('胃がん検診受診者名簿（41～60）'!AR17),\"\",'胃がん検診受診者名簿（41～60）'!AQ17)","v":""},{"$f":"IF(ISBLANK('胃がん検診受診者名簿（41～60）'!AR17),\"\",'胃がん検診受診者名簿（41～60）'!AR17)","v":""},null,{"$f":"IF(ISBLANK('胃がん検診受診者名簿（41～60）'!AT17),\"\",'胃がん検診受診者名簿（41～60）'!AT17)","v":""},{"$f":"IF(ISBLANK('胃がん検診受診者名簿（41～60）'!AU17),\"\",'胃がん検診受診者名簿（41～60）'!AU17)","v":""},null,null,null,null,null,null,{"$f":"IF(ISBLANK('胃がん検診受診者名簿（41～60）'!BB17),\"\",'胃がん検診受診者名簿（41～60）'!BB17)","v":""},null,null,{"$f":"IF(ISBLANK('胃がん検診受診者名簿（41～60）'!BE17),\"\",'胃がん検診受診者名簿（41～60）'!BE17)","v":""},null,{"$f":"IF(ISBLANK('胃がん検診受診者名簿（41～60）'!BG17),\"\",'胃がん検診受診者名簿（41～60）'!BG17)","v":""}]
[49,null,null,null,null,null,null,false,false,false,null,null,"",null,null,"",null,null,null,null,null,49,{"$f":"IF(ISBLANK('胃がん検診受診者名簿（41～60）'!B18),\"\",'胃がん検診受診者名簿（41～60）'!B18)","v":""},{"$f":"IF(ISBLANK('胃がん検診受診者名簿（41～60）'!C18),\"\",'胃がん検診受診者名簿（41～60）'!C18)","v":""},null,{"$f":"IF(ISBLANK('胃がん検診受診者名簿（41～60）'!E18),\"\",'胃がん検診受診者名簿（41～60）'!E18)","v":""},{"$f":"IF(ISBLANK('胃がん検診受診者名簿（41～60）'!F18),\"\",'胃がん検診受診者名簿（41～60）'!F18)","v":""},null,null,null,null,null,null,{"$f":"IF(ISBLANK('胃がん検診受診者名簿（41～60）'!M18),\"\",'胃がん検診受診者名簿（41～60）'!M18)","v":""},null,null,{"$f":"IF(ISBLANK('胃がん検診受診者名簿（41～60）'!P18),\"\",'胃がん検診受診者名簿（41～60）'!P18)","v":""},null,{"$f":"IF(ISBLANK('胃がん検診受診者名簿（41～60）'!R18),\"\",'胃がん検診受診者名簿（41～60）'!R18)","v":""},null,null,49,{"$f":"IF(ISBLANK('胃がん検診受診者名簿（41～60）'!W18),\"\",'胃がん検診受診者名簿（41～60）'!W18)","v":""},{"$f":"IF(ISBLANK('胃がん検診受診者名簿（41～60）'!X18),\"\",'胃がん検診受診者名簿（41～60）'!X18)","v":""},null,{"$f":"IF(ISBLANK('胃がん検診受診者名簿（41～60）'!Z18),\"\",'胃がん検診受診者名簿（41～60）'!Z18)","v":""},{"$f":"IF(ISBLANK('胃がん検診受診者名簿（41～60）'!AA18),\"\",'胃がん検診受診者名簿（41～60）'!AA18)","v":""},null,null,null,null,null,null,{"$f":"IF(ISBLANK('胃がん検診受診者名簿（41～60）'!AH18),\"\",'胃がん検診受診者名簿（41～60）'!AH18)","v":""},null,null,{"$f":"IF(ISBLANK('胃がん検診受診者名簿（41～60）'!AK18),\"\",'胃がん検診受診者名簿（41～60）'!AK18)","v":""},null,{"$f":"IF(ISBLANK('胃がん検診受診者名簿（41～60）'!AM18),\"\",'胃がん検診受診者名簿（41～60）'!AM18)","v":""},null,null,49,{"$f":"IF(ISBLANK('胃がん検診受診者名簿（41～60）'!AR18),\"\",'胃がん検診受診者名簿（41～60）'!AQ18)","v":""},{"$f":"IF(ISBLANK('胃がん検診受診者名簿（41～60）'!AR18),\"\",'胃がん検診受診者名簿（41～60）'!AR18)","v":""},null,{"$f":"IF(ISBLANK('胃がん検診受診者名簿（41～60）'!AT18),\"\",'胃がん検診受診者名簿（41～60）'!AT18)","v":""},{"$f":"IF(ISBLANK('胃がん検診受診者名簿（41～60）'!AU18),\"\",'胃がん検診受診者名簿（41～60）'!AU18)","v":""},null,null,null,null,null,null,{"$f":"IF(ISBLANK('胃がん検診受診者名簿（41～60）'!BB18),\"\",'胃がん検診受診者名簿（41～60）'!BB18)","v":""},null,null,{"$f":"IF(ISBLANK('胃がん検診受診者名簿（41～60）'!BE18),\"\",'胃がん検診受診者名簿（41～60）'!BE18)","v":""},null,{"$f":"IF(ISBLANK('胃がん検診受診者名簿（41～60）'!BG18),\"\",'胃がん検診受診者名簿（41～60）'!BG18)","v":""}]
[50,null,null,null,null,null,null,false,false,false,null,null,"",null,null,"",null,null,null,null,null,50,{"$f":"IF(ISBLANK('胃がん検診受診者名簿（41～60）'!B19),\"\",'胃がん検診受診者名簿（41～60）'!B19)","v":""},{"$f":"IF(ISBLANK('胃がん検診受診者名簿（41～60）'!C19),\"\",'胃がん検診受診者名簿（41～60）'!C19)","v":""},null,{"$f":"IF(ISBLANK('胃がん検診受診者名簿（41～60）'!E19),\"\",'胃がん検診受診者名簿（41～60）'!E19)","v":""},{"$f":"IF(ISBLANK('胃がん検診受診者名簿（41～60）'!F19),\"\",'胃がん検診受診者名簿（41～60）'!F19)","v":""},null,null,null,null,null,null,{"$f":"IF(ISBLANK('胃がん検診受診者名簿（41～60）'!M19),\"\",'胃がん検診受診者名簿（41～60）'!M19)","v":""},null,null,{"$f":"IF(ISBLANK('胃がん検診受診者名簿（41～60）'!P19),\"\",'胃がん検診受診者名簿（41～60）'!P19)","v":""},null,{"$f":"IF(ISBLANK('胃がん検診受診者名簿（41～60）'!R19),\"\",'胃がん検診受診者名簿（41～60）'!R19)","v":""},null,null,50,{"$f":"IF(ISBLANK('胃がん検診受診者名簿（41～60）'!W19),\"\",'胃がん検診受診者名簿（41～60）'!W19)","v":""},{"$f":"IF(ISBLANK('胃がん検診受診者名簿（41～60）'!X19),\"\",'胃がん検診受診者名簿（41～60）'!X19)","v":""},null,{"$f":"IF(ISBLANK('胃がん検診受診者名簿（41～60）'!Z19),\"\",'胃がん検診受診者名簿（41～60）'!Z19)","v":""},{"$f":"IF(ISBLANK('胃がん検診受診者名簿（41～60）'!AA19),\"\",'胃がん検診受診者名簿（41～60）'!AA19)","v":""},null,null,null,null,null,null,{"$f":"IF(ISBLANK('胃がん検診受診者名簿（41～60）'!AH19),\"\",'胃がん検診受診者名簿（41～60）'!AH19)","v":""},null,null,{"$f":"IF(ISBLANK('胃がん検診受診者名簿（41～60）'!AK19),\"\",'胃がん検診受診者名簿（41～60）'!AK19)","v":""},null,{"$f":"IF(ISBLANK('胃がん検診受診者名簿（41～60）'!AM19),\"\",'胃がん検診受診者名簿（41～60）'!AM19)","v":""},null,null,50,{"$f":"IF(ISBLANK('胃がん検診受診者名簿（41～60）'!AR19),\"\",'胃がん検診受診者名簿（41～60）'!AQ19)","v":""},{"$f":"IF(ISBLANK('胃がん検診受診者名簿（41～60）'!AR19),\"\",'胃がん検診受診者名簿（41～60）'!AR19)","v":""},null,{"$f":"IF(ISBLANK('胃がん検診受診者名簿（41～60）'!AT19),\"\",'胃がん検診受診者名簿（41～60）'!AT19)","v":""},{"$f":"IF(ISBLANK('胃がん検診受診者名簿（41～60）'!AU19),\"\",'胃がん検診受診者名簿（41～60）'!AU19)","v":""},null,null,null,null,null,null,{"$f":"IF(ISBLANK('胃がん検診受診者名簿（41～60）'!BB19),\"\",'胃がん検診受診者名簿（41～60）'!BB19)","v":""},null,null,{"$f":"IF(ISBLANK('胃がん検診受診者名簿（41～60）'!BE19),\"\",'胃がん検診受診者名簿（41～60）'!BE19)","v":""},null,{"$f":"IF(ISBLANK('胃がん検診受診者名簿（41～60）'!BG19),\"\",'胃がん検診受診者名簿（41～60）'!BG19)","v":""}]
[51,null,null,null,null,null,null,false,false,false,null,null,"",null,null,"",null,null,null,null,null,51,{"$f":"IF(ISBLANK('胃がん検診受診者名簿（41～60）'!B20),\"\",'胃がん検診受診者名簿（41～60）'!B20)","v":""},{"$f":"IF(ISBLANK('胃がん検診受診者名簿（41～60）'!C20),\"\",'胃がん検診受診者名簿（41～60）'!C20)","v":""},null,{"$f":"IF(ISBLANK('胃がん検診受診者名簿（41～60）'!E20),\"\",'胃がん検診受診者名簿（41～60）'!E20)","v":""},{"$f":"IF(ISBLANK('胃がん検診受診者名簿（41～60）'!F20),\"\",'胃がん検診受診者名簿（41～60）'!F20)","v":""},null,null,null,null,null,null,{"$f":"IF(ISBLANK('胃がん検診受診者名簿（41～60）'!M20),\"\",'胃がん検診受診者名簿（41～60）'!M20)","v":""},null,null,{"$f":"IF(ISBLANK('胃がん検診受診者名簿（41～60）'!P20),\"\",'胃がん検診受診者名簿（41～60）'!P20)","v":""},null,{"$f":"IF(ISBLANK('胃がん検診受診者名簿（41～60）'!R20),\"\",'胃がん検診受診者名簿（41～60）'!R20)","v":""},null,null,51,{"$f":"IF(ISBLANK('胃がん検診受診者名簿（41～60）'!W20),\"\",'胃がん検診受診者名簿（41～60）'!W20)","v":""},{"$f":"IF(ISBLANK('胃がん検診受診者名簿（41～60）'!X20),\"\",'胃がん検診受診者名簿（41～60）'!X20)","v":""},null,{"$f":"IF(ISBLANK('胃がん検診受診者名簿（41～60）'!Z20),\"\",'胃がん検診受診者名簿（41～60）'!Z20)","v":""},{"$f":"IF(ISBLANK('胃がん検診受診者名簿（41～60）'!AA20),\"\",'胃がん検診受診者名簿（41～60）'!AA20)","v":""},null,null,null,null,null,null,{"$f":"IF(ISBLANK('胃がん検診受診者名簿（41～60）'!AH20),\"\",'胃がん検診受診者名簿（41～60）'!AH20)","v":""},null,null,{"$f":"IF(ISBLANK('胃がん検診受診者名簿（41～60）'!AK20),\"\",'胃がん検診受診者名簿（41～60）'!AK20)","v":""},null,{"$f":"IF(ISBLANK('胃がん検診受診者名簿（41～60）'!AM20),\"\",'胃がん検診受診者名簿（41～60）'!AM20)","v":""},null,null,51,{"$f":"IF(ISBLANK('胃がん検診受診者名簿（41～60）'!AR20),\"\",'胃がん検診受診者名簿（41～60）'!AQ20)","v":""},{"$f":"IF(ISBLANK('胃がん検診受診者名簿（41～60）'!AR20),\"\",'胃がん検診受診者名簿（41～60）'!AR20)","v":""},null,{"$f":"IF(ISBLANK('胃がん検診受診者名簿（41～60）'!AT20),\"\",'胃がん検診受診者名簿（41～60）'!AT20)","v":""},{"$f":"IF(ISBLANK('胃がん検診受診者名簿（41～60）'!AU20),\"\",'胃がん検診受診者名簿（41～60）'!AU20)","v":""},null,null,null,null,null,null,{"$f":"IF(ISBLANK('胃がん検診受診者名簿（41～60）'!BB20),\"\",'胃がん検診受診者名簿（41～60）'!BB20)","v":""},null,null,{"$f":"IF(ISBLANK('胃がん検診受診者名簿（41～60）'!BE20),\"\",'胃がん検診受診者名簿（41～60）'!BE20)","v":""},null,{"$f":"IF(ISBLANK('胃がん検診受診者名簿（41～60）'!BG20),\"\",'胃がん検診受診者名簿（41～60）'!BG20)","v":""}]
[52,null,null,null,null,null,null,false,false,false,null,null,"",null,null,"",null,null,null,null,null,52,{"$f":"IF(ISBLANK('胃がん検診受診者名簿（41～60）'!B21),\"\",'胃がん検診受診者名簿（41～60）'!B21)","v":""},{"$f":"IF(ISBLANK('胃がん検診受診者名簿（41～60）'!C21),\"\",'胃がん検診受診者名簿（41～60）'!C21)","v":""},null,{"$f":"IF(ISBLANK('胃がん検診受診者名簿（41～60）'!E21),\"\",'胃がん検診受診者名簿（41～60）'!E21)","v":""},{"$f":"IF(ISBLANK('胃がん検診受診者名簿（41～60）'!F21),\"\",'胃がん検診受診者名簿（41～60）'!F21)","v":""},null,null,null,null,null,null,{"$f":"IF(ISBLANK('胃がん検診受診者名簿（41～60）'!M21),\"\",'胃がん検診受診者名簿（41～60）'!M21)","v":""},null,null,{"$f":"IF(ISBLANK('胃がん検診受診者名簿（41～60）'!P21),\"\",'胃がん検診受診者名簿（41～60）'!P21)","v":""},null,{"$f":"IF(ISBLANK('胃がん検診受診者名簿（41～60）'!R21),\"\",'胃がん検診受診者名簿（41～60）'!R21)","v":""},null,null,52,{"$f":"IF(ISBLANK('胃がん検診受診者名簿（41～60）'!W21),\"\",'胃がん検診受診者名簿（41～60）'!W21)","v":""},{"$f":"IF(ISBLANK('胃がん検診受診者名簿（41～60）'!X21),\"\",'胃がん検診受診者名簿（41～60）'!X21)","v":""},null,{"$f":"IF(ISBLANK('胃がん検診受診者名簿（41～60）'!Z21),\"\",'胃がん検診受診者名簿（41～60）'!Z21)","v":""},{"$f":"IF(ISBLANK('胃がん検診受診者名簿（41～60）'!AA21),\"\",'胃がん検診受診者名簿（41～60）'!AA21)","v":""},null,null,null,null,null,null,{"$f":"IF(ISBLANK('胃がん検診受診者名簿（41～60）'!AH21),\"\",'胃がん検診受診者名簿（41～60）'!AH21)","v":""},null,null,{"$f":"IF(ISBLANK('胃がん検診受診者名簿（41～60）'!AK21),\"\",'胃がん検診受診者名簿（41～60）'!AK21)","v":""},null,{"$f":"IF(ISBLANK('胃がん検診受診者名簿（41～60）'!AM21),\"\",'胃がん検診受診者名簿（41～60）'!AM21)","v":""},null,null,52,{"$f":"IF(ISBLANK('胃がん検診受診者名簿（41～60）'!AR21),\"\",'胃がん検診受診者名簿（41～60）'!AQ21)","v":""},{"$f":"IF(ISBLANK('胃がん検診受診者名簿（41～60）'!AR21),\"\",'胃がん検診受診者名簿（41～60）'!AR21)","v":""},null,{"$f":"IF(ISBLANK('胃がん検診受診者名簿（41～60）'!AT21),\"\",'胃がん検診受診者名簿（41～60）'!AT21)","v":""},{"$f":"IF(ISBLANK('胃がん検診受診者名簿（41～60）'!AU21),\"\",'胃がん検診受診者名簿（41～60）'!AU21)","v":""},null,null,null,null,null,null,{"$f":"IF(ISBLANK('胃がん検診受診者名簿（41～60）'!BB21),\"\",'胃がん検診受診者名簿（41～60）'!BB21)","v":""},null,null,{"$f":"IF(ISBLANK('胃がん検診受診者名簿（41～60）'!BE21),\"\",'胃がん検診受診者名簿（41～60）'!BE21)","v":""},null,{"$f":"IF(ISBLANK('胃がん検診受診者名簿（41～60）'!BG21),\"\",'胃がん検診受診者名簿（41～60）'!BG21)","v":""}]
[53,null,null,null,null,null,null,false,false,false,null,null,"",null,null,"",null,null,null,null,null,53,{"$f":"IF(ISBLANK('胃がん検診受診者名簿（41～60）'!B22),\"\",'胃がん検診受診者名簿（41～60）'!B22)","v":""},{"$f":"IF(ISBLANK('胃がん検診受診者名簿（41～60）'!C22),\"\",'胃がん検診受診者名簿（41～60）'!C22)","v":""},null,{"$f":"IF(ISBLANK('胃がん検診受診者名簿（41～60）'!E22),\"\",'胃がん検診受診者名簿（41～60）'!E22)","v":""},{"$f":"IF(ISBLANK('胃がん検診受診者名簿（41～60）'!F22),\"\",'胃がん検診受診者名簿（41～60）'!F22)","v":""},null,null,null,null,null,null,{"$f":"IF(ISBLANK('胃がん検診受診者名簿（41～60）'!M22),\"\",'胃がん検診受診者名簿（41～60）'!M22)","v":""},null,null,{"$f":"IF(ISBLANK('胃がん検診受診者名簿（41～60）'!P22),\"\",'胃がん検診受診者名簿（41～60）'!P22)","v":""},null,{"$f":"IF(ISBLANK('胃がん検診受診者名簿（41～60）'!R22),\"\",'胃がん検診受診者名簿（41～60）'!R22)","v":""},null,null,53,{"$f":"IF(ISBLANK('胃がん検診受診者名簿（41～60）'!W22),\"\",'胃がん検診受診者名簿（41～60）'!W22)","v":""},{"$f":"IF(ISBLANK('胃がん検診受診者名簿（41～60）'!X22),\"\",'胃がん検診受診者名簿（41～60）'!X22)","v":""},null,{"$f":"IF(ISBLANK('胃がん検診受診者名簿（41～60）'!Z22),\"\",'胃がん検診受診者名簿（41～60）'!Z22)","v":""},{"$f":"IF(ISBLANK('胃がん検診受診者名簿（41～60）'!AA22),\"\",'胃がん検診受診者名簿（41～60）'!AA22)","v":""},null,null,null,null,null,null,{"$f":"IF(ISBLANK('胃がん検診受診者名簿（41～60）'!AH22),\"\",'胃がん検診受診者名簿（41～60）'!AH22)","v":""},null,null,{"$f":"IF(ISBLANK('胃がん検診受診者名簿（41～60）'!AK22),\"\",'胃がん検診受診者名簿（41～60）'!AK22)","v":""},null,{"$f":"IF(ISBLANK('胃がん検診受診者名簿（41～60）'!AM22),\"\",'胃がん検診受診者名簿（41～60）'!AM22)","v":""},null,null,53,{"$f":"IF(ISBLANK('胃がん検診受診者名簿（41～60）'!AR22),\"\",'胃がん検診受診者名簿（41～60）'!AQ22)","v":""},{"$f":"IF(ISBLANK('胃がん検診受診者名簿（41～60）'!AR22),\"\",'胃がん検診受診者名簿（41～60）'!AR22)","v":""},null,{"$f":"IF(ISBLANK('胃がん検診受診者名簿（41～60）'!AT22),\"\",'胃がん検診受診者名簿（41～60）'!AT22)","v":""},{"$f":"IF(ISBLANK('胃がん検診受診者名簿（41～60）'!AU22),\"\",'胃がん検診受診者名簿（41～60）'!AU22)","v":""},null,null,null,null,null,null,{"$f":"IF(ISBLANK('胃がん検診受診者名簿（41～60）'!BB22),\"\",'胃がん検診受診者名簿（41～60）'!BB22)","v":""},null,null,{"$f":"IF(ISBLANK('胃がん検診受診者名簿（41～60）'!BE22),\"\",'胃がん検診受診者名簿（41～60）'!BE22)","v":""},null,{"$f":"IF(ISBLANK('胃がん検診受診者名簿（41～60）'!BG22),\"\",'胃がん検診受診者名簿（41～60）'!BG22)","v":""}]
[54,null,null,null,null,null,null,false,false,false,null,null,"",null,null,"",null,null,null,null,null,54,{"$f":"IF(ISBLANK('胃がん検診受診者名簿（41～60）'!B23),\"\",'胃がん検診受診者名簿（41～60）'!B23)","v":""},{"$f":"IF(ISBLANK('胃がん検診受診者名簿（41～60）'!C23),\"\",'胃がん検診受診者名簿（41～60）'!C23)","v":""},null,{"$f":"IF(ISBLANK('胃がん検診受診者名簿（41～60）'!E23),\"\",'胃がん検診受診者名簿（41～60）'!E23)","v":""},{"$f":"IF(ISBLANK('胃がん検診受診者名簿（41～60）'!F23),\"\",'胃がん検診受診者名簿（41～60）'!F23)","v":""},null,null,null,null,null,null,{"$f":"IF(ISBLANK('胃がん検診受診者名簿（41～60）'!M23),\"\",'胃がん検診受診者名簿（41～60）'!M23)","v":""},null,null,{"$f":"IF(ISBLANK('胃がん検診受診者名簿（41～60）'!P23),\"\",'胃がん検診受診者名簿（41～60）'!P23)","v":""},null,{"$f":"IF(ISBLANK('胃がん検診受診者名簿（41～60）'!R23),\"\",'胃がん検診受診者名簿（41～60）'!R23)","v":""},null,null,54,{"$f":"IF(ISBLANK('胃がん検診受診者名簿（41～60）'!W23),\"\",'胃がん検診受診者名簿（41～60）'!W23)","v":""},{"$f":"IF(ISBLANK('胃がん検診受診者名簿（41～60）'!X23),\"\",'胃がん検診受診者名簿（41～60）'!X23)","v":""},null,{"$f":"IF(ISBLANK('胃がん検診受診者名簿（41～60）'!Z23),\"\",'胃がん検診受診者名簿（41～60）'!Z23)","v":""},{"$f":"IF(ISBLANK('胃がん検診受診者名簿（41～60）'!AA23),\"\",'胃がん検診受診者名簿（41～60）'!AA23)","v":""},null,null,null,null,null,null,{"$f":"IF(ISBLANK('胃がん検診受診者名簿（41～60）'!AH23),\"\",'胃がん検診受診者名簿（41～60）'!AH23)","v":""},null,null,{"$f":"IF(ISBLANK('胃がん検診受診者名簿（41～60）'!AK23),\"\",'胃がん検診受診者名簿（41～60）'!AK23)","v":""},null,{"$f":"IF(ISBLANK('胃がん検診受診者名簿（41～60）'!AM23),\"\",'胃がん検診受診者名簿（41～60）'!AM23)","v":""},null,null,54,{"$f":"IF(ISBLANK('胃がん検診受診者名簿（41～60）'!AR23),\"\",'胃がん検診受診者名簿（41～60）'!AQ23)","v":""},{"$f":"IF(ISBLANK('胃がん検診受診者名簿（41～60）'!AR23),\"\",'胃がん検診受診者名簿（41～60）'!AR23)","v":""},null,{"$f":"IF(ISBLANK('胃がん検診受診者名簿（41～60）'!AT23),\"\",'胃がん検診受診者名簿（41～60）'!AT23)","v":""},{"$f":"IF(ISBLANK('胃がん検診受診者名簿（41～60）'!AU23),\"\",'胃がん検診受診者名簿（41～60）'!AU23)","v":""},null,null,null,null,null,null,{"$f":"IF(ISBLANK('胃がん検診受診者名簿（41～60）'!BB23),\"\",'胃がん検診受診者名簿（41～60）'!BB23)","v":""},null,null,{"$f":"IF(ISBLANK('胃がん検診受診者名簿（41～60）'!BE23),\"\",'胃がん検診受診者名簿（41～60）'!BE23)","v":""},null,{"$f":"IF(ISBLANK('胃がん検診受診者名簿（41～60）'!BG23),\"\",'胃がん検診受診者名簿（41～60）'!BG23)","v":""}]
[55,null,null,null,null,null,null,false,false,false,null,null,"",null,null,"",null,null,null,null,null,55,{"$f":"IF(ISBLANK('胃がん検診受診者名簿（41～60）'!B24),\"\",'胃がん検診受診者名簿（41～60）'!B24)","v":""},{"$f":"IF(ISBLANK('胃がん検診受診者名簿（41～60）'!C24),\"\",'胃がん検診受診者名簿（41～60）'!C24)","v":""},null,{"$f":"IF(ISBLANK('胃がん検診受診者名簿（41～60）'!E24),\"\",'胃がん検診受診者名簿（41～60）'!E24)","v":""},{"$f":"IF(ISBLANK('胃がん検診受診者名簿（41～60）'!F24),\"\",'胃がん検診受診者名簿（41～60）'!F24)","v":""},null,null,null,null,null,null,{"$f":"IF(ISBLANK('胃がん検診受診者名簿（41～60）'!M24),\"\",'胃がん検診受診者名簿（41～60）'!M24)","v":""},null,null,{"$f":"IF(ISBLANK('胃がん検診受診者名簿（41～60）'!P24),\"\",'胃がん検診受診者名簿（41～60）'!P24)","v":""},null,{"$f":"IF(ISBLANK('胃がん検診受診者名簿（41～60）'!R24),\"\",'胃がん検診受診者名簿（41～60）'!R24)","v":""},null,null,55,{"$f":"IF(ISBLANK('胃がん検診受診者名簿（41～60）'!W24),\"\",'胃がん検診受診者名簿（41～60）'!W24)","v":""},{"$f":"IF(ISBLANK('胃がん検診受診者名簿（41～60）'!X24),\"\",'胃がん検診受診者名簿（41～60）'!X24)","v":""},null,{"$f":"IF(ISBLANK('胃がん検診受診者名簿（41～60）'!Z24),\"\",'胃がん検診受診者名簿（41～60）'!Z24)","v":""},{"$f":"IF(ISBLANK('胃がん検診受診者名簿（41～60）'!AA24),\"\",'胃がん検診受診者名簿（41～60）'!AA24)","v":""},null,null,null,null,null,null,{"$f":"IF(ISBLANK('胃がん検診受診者名簿（41～60）'!AH24),\"\",'胃がん検診受診者名簿（41～60）'!AH24)","v":""},null,null,{"$f":"IF(ISBLANK('胃がん検診受診者名簿（41～60）'!AK24),\"\",'胃がん検診受診者名簿（41～60）'!AK24)","v":""},null,{"$f":"IF(ISBLANK('胃がん検診受診者名簿（41～60）'!AM24),\"\",'胃がん検診受診者名簿（41～60）'!AM24)","v":""},null,null,55,{"$f":"IF(ISBLANK('胃がん検診受診者名簿（41～60）'!AR24),\"\",'胃がん検診受診者名簿（41～60）'!AQ24)","v":""},{"$f":"IF(ISBLANK('胃がん検診受診者名簿（41～60）'!AR24),\"\",'胃がん検診受診者名簿（41～60）'!AR24)","v":""},null,{"$f":"IF(ISBLANK('胃がん検診受診者名簿（41～60）'!AT24),\"\",'胃がん検診受診者名簿（41～60）'!AT24)","v":""},{"$f":"IF(ISBLANK('胃がん検診受診者名簿（41～60）'!AU24),\"\",'胃がん検診受診者名簿（41～60）'!AU24)","v":""},null,null,null,null,null,null,{"$f":"IF(ISBLANK('胃がん検診受診者名簿（41～60）'!BB24),\"\",'胃がん検診受診者名簿（41～60）'!BB24)","v":""},null,null,{"$f":"IF(ISBLANK('胃がん検診受診者名簿（41～60）'!BE24),\"\",'胃がん検診受診者名簿（41～60）'!BE24)","v":""},null,{"$f":"IF(ISBLANK('胃がん検診受診者名簿（41～60）'!BG24),\"\",'胃がん検診受診者名簿（41～60）'!BG24)","v":""}]
[56,null,null,null,null,null,null,false,false,false,null,null,"",null,null,"",null,null,null,null,null,56,{"$f":"IF(ISBLANK('胃がん検診受診者名簿（41～60）'!B25),\"\",'胃がん検診受診者名簿（41～60）'!B25)","v":""},{"$f":"IF(ISBLANK('胃がん検診受診者名簿（41～60）'!C25),\"\",'胃がん検診受診者名簿（41～60）'!C25)","v":""},null,{"$f":"IF(ISBLANK('胃がん検診受診者名簿（41～60）'!E25),\"\",'胃がん検診受診者名簿（41～60）'!E25)","v":""},{"$f":"IF(ISBLANK('胃がん検診受診者名簿（41～60）'!F25),\"\",'胃がん検診受診者名簿（41～60）'!F25)","v":""},null,null,null,null,null,null,{"$f":"IF(ISBLANK('胃がん検診受診者名簿（41～60）'!M25),\"\",'胃がん検診受診者名簿（41～60）'!M25)","v":""},null,null,{"$f":"IF(ISBLANK('胃がん検診受診者名簿（41～60）'!P25),\"\",'胃がん検診受診者名簿（41～60）'!P25)","v":""},null,{"$f":"IF(ISBLANK('胃がん検診受診者名簿（41～60）'!R25),\"\",'胃がん検診受診者名簿（41～60）'!R25)","v":""},null,null,56,{"$f":"IF(ISBLANK('胃がん検診受診者名簿（41～60）'!W25),\"\",'胃がん検診受診者名簿（41～60）'!W25)","v":""},{"$f":"IF(ISBLANK('胃がん検診受診者名簿（41～60）'!X25),\"\",'胃がん検診受診者名簿（41～60）'!X25)","v":""},null,{"$f":"IF(ISBLANK('胃がん検診受診者名簿（41～60）'!Z25),\"\",'胃がん検診受診者名簿（41～60）'!Z25)","v":""},{"$f":"IF(ISBLANK('胃がん検診受診者名簿（41～60）'!AA25),\"\",'胃がん検診受診者名簿（41～60）'!AA25)","v":""},null,null,null,null,null,null,{"$f":"IF(ISBLANK('胃がん検診受診者名簿（41～60）'!AH25),\"\",'胃がん検診受診者名簿（41～60）'!AH25)","v":""},null,null,{"$f":"IF(ISBLANK('胃がん検診受診者名簿（41～60）'!AK25),\"\",'胃がん検診受診者名簿（41～60）'!AK25)","v":""},null,{"$f":"IF(ISBLANK('胃がん検診受診者名簿（41～60）'!AM25),\"\",'胃がん検診受診者名簿（41～60）'!AM25)","v":""},null,null,56,{"$f":"IF(ISBLANK('胃がん検診受診者名簿（41～60）'!AR25),\"\",'胃がん検診受診者名簿（41～60）'!AQ25)","v":""},{"$f":"IF(ISBLANK('胃がん検診受診者名簿（41～60）'!AR25),\"\",'胃がん検診受診者名簿（41～60）'!AR25)","v":""},null,{"$f":"IF(ISBLANK('胃がん検診受診者名簿（41～60）'!AT25),\"\",'胃がん検診受診者名簿（41～60）'!AT25)","v":""},{"$f":"IF(ISBLANK('胃がん検診受診者名簿（41～60）'!AU25),\"\",'胃がん検診受診者名簿（41～60）'!AU25)","v":""},null,null,null,null,null,null,{"$f":"IF(ISBLANK('胃がん検診受診者名簿（41～60）'!BB25),\"\",'胃がん検診受診者名簿（41～60）'!BB25)","v":""},null,null,{"$f":"IF(ISBLANK('胃がん検診受診者名簿（41～60）'!BE25),\"\",'胃がん検診受診者名簿（41～60）'!BE25)","v":""},null,{"$f":"IF(ISBLANK('胃がん検診受診者名簿（41～60）'!BG25),\"\",'胃がん検診受診者名簿（41～60）'!BG25)","v":""}]
[57,null,null,null,null,null,null,false,false,false,null,null,"",null,null,"",null,null,null,null,null,57,{"$f":"IF(ISBLANK('胃がん検診受診者名簿（41～60）'!B26),\"\",'胃がん検診受診者名簿（41～60）'!B26)","v":""},{"$f":"IF(ISBLANK('胃がん検診受診者名簿（41～60）'!C26),\"\",'胃がん検診受診者名簿（41～60）'!C26)","v":""},null,{"$f":"IF(ISBLANK('胃がん検診受診者名簿（41～60）'!E26),\"\",'胃がん検診受診者名簿（41～60）'!E26)","v":""},{"$f":"IF(ISBLANK('胃がん検診受診者名簿（41～60）'!F26),\"\",'胃がん検診受診者名簿（41～60）'!F26)","v":""},null,null,null,null,null,null,{"$f":"IF(ISBLANK('胃がん検診受診者名簿（41～60）'!M26),\"\",'胃がん検診受診者名簿（41～60）'!M26)","v":""},null,null,{"$f":"IF(ISBLANK('胃がん検診受診者名簿（41～60）'!P26),\"\",'胃がん検診受診者名簿（41～60）'!P26)","v":""},null,{"$f":"IF(ISBLANK('胃がん検診受診者名簿（41～60）'!R26),\"\",'胃がん検診受診者名簿（41～60）'!R26)","v":""},null,null,57,{"$f":"IF(ISBLANK('胃がん検診受診者名簿（41～60）'!W26),\"\",'胃がん検診受診者名簿（41～60）'!W26)","v":""},{"$f":"IF(ISBLANK('胃がん検診受診者名簿（41～60）'!X26),\"\",'胃がん検診受診者名簿（41～60）'!X26)","v":""},null,{"$f":"IF(ISBLANK('胃がん検診受診者名簿（41～60）'!Z26),\"\",'胃がん検診受診者名簿（41～60）'!Z26)","v":""},{"$f":"IF(ISBLANK('胃がん検診受診者名簿（41～60）'!AA26),\"\",'胃がん検診受診者名簿（41～60）'!AA26)","v":""},null,null,null,null,null,null,{"$f":"IF(ISBLANK('胃がん検診受診者名簿（41～60）'!AH26),\"\",'胃がん検診受診者名簿（41～60）'!AH26)","v":""},null,null,{"$f":"IF(ISBLANK('胃がん検診受診者名簿（41～60）'!AK26),\"\",'胃がん検診受診者名簿（41～60）'!AK26)","v":""},null,{"$f":"IF(ISBLANK('胃がん検診受診者名簿（41～60）'!AM26),\"\",'胃がん検診受診者名簿（41～60）'!AM26)","v":""},null,null,57,{"$f":"IF(ISBLANK('胃がん検診受診者名簿（41～60）'!AR26),\"\",'胃がん検診受診者名簿（41～60）'!AQ26)","v":""},{"$f":"IF(ISBLANK('胃がん検診受診者名簿（41～60）'!AR26),\"\",'胃がん検診受診者名簿（41～60）'!AR26)","v":""},null,{"$f":"IF(ISBLANK('胃がん検診受診者名簿（41～60）'!AT26),\"\",'胃がん検診受診者名簿（41～60）'!AT26)","v":""},{"$f":"IF(ISBLANK('胃がん検診受診者名簿（41～60）'!AU26),\"\",'胃がん検診受診者名簿（41～60）'!AU26)","v":""},null,null,null,null,null,null,{"$f":"IF(ISBLANK('胃がん検診受診者名簿（41～60）'!BB26),\"\",'胃がん検診受診者名簿（41～60）'!BB26)","v":""},null,null,{"$f":"IF(ISBLANK('胃がん検診受診者名簿（41～60）'!BE26),\"\",'胃がん検診受診者名簿（41～60）'!BE26)","v":""},null,{"$f":"IF(ISBLANK('胃がん検診受診者名簿（41～60）'!BG26),\"\",'胃がん検診受診者名簿（41～60）'!BG26)","v":""}]
[58,null,null,null,null,null,null,false,false,false,null,null,"",null,null,"",null,null,null,null,null,58,{"$f":"IF(ISBLANK('胃がん検診受診者名簿（41～60）'!B27),\"\",'胃がん検診受診者名簿（41～60）'!B27)","v":""},{"$f":"IF(ISBLANK('胃がん検診受診者名簿（41～60）'!C27),\"\",'胃がん検診受診者名簿（41～60）'!C27)","v":""},null,{"$f":"IF(ISBLANK('胃がん検診受診者名簿（41～60）'!E27),\"\",'胃がん検診受診者名簿（41～60）'!E27)","v":""},{"$f":"IF(ISBLANK('胃がん検診受診者名簿（41～60）'!F27),\"\",'胃がん検診受診者名簿（41～60）'!F27)","v":""},null,null,null,null,null,null,{"$f":"IF(ISBLANK('胃がん検診受診者名簿（41～60）'!M27),\"\",'胃がん検診受診者名簿（41～60）'!M27)","v":""},null,null,{"$f":"IF(ISBLANK('胃がん検診受診者名簿（41～60）'!P27),\"\",'胃がん検診受診者名簿（41～60）'!P27)","v":""},null,{"$f":"IF(ISBLANK('胃がん検診受診者名簿（41～60）'!R27),\"\",'胃がん検診受診者名簿（41～60）'!R27)","v":""},null,null,58,{"$f":"IF(ISBLANK('胃がん検診受診者名簿（41～60）'!W27),\"\",'胃がん検診受診者名簿（41～60）'!W27)","v":""},{"$f":"IF(ISBLANK('胃がん検診受診者名簿（41～60）'!X27),\"\",'胃がん検診受診者名簿（41～60）'!X27)","v":""},null,{"$f":"IF(ISBLANK('胃がん検診受診者名簿（41～60）'!Z27),\"\",'胃がん検診受診者名簿（41～60）'!Z27)","v":""},{"$f":"IF(ISBLANK('胃がん検診受診者名簿（41～60）'!AA27),\"\",'胃がん検診受診者名簿（41～60）'!AA27)","v":""},null,null,null,null,null,null,{"$f":"IF(ISBLANK('胃がん検診受診者名簿（41～60）'!AH27),\"\",'胃がん検診受診者名簿（41～60）'!AH27)","v":""},null,null,{"$f":"IF(ISBLANK('胃がん検診受診者名簿（41～60）'!AK27),\"\",'胃がん検診受診者名簿（41～60）'!AK27)","v":""},null,{"$f":"IF(ISBLANK('胃がん検診受診者名簿（41～60）'!AM27),\"\",'胃がん検診受診者名簿（41～60）'!AM27)","v":""},null,null,58,{"$f":"IF(ISBLANK('胃がん検診受診者名簿（41～60）'!AR27),\"\",'胃がん検診受診者名簿（41～60）'!AQ27)","v":""},{"$f":"IF(ISBLANK('胃がん検診受診者名簿（41～60）'!AR27),\"\",'胃がん検診受診者名簿（41～60）'!AR27)","v":""},null,{"$f":"IF(ISBLANK('胃がん検診受診者名簿（41～60）'!AT27),\"\",'胃がん検診受診者名簿（41～60）'!AT27)","v":""},{"$f":"IF(ISBLANK('胃がん検診受診者名簿（41～60）'!AU27),\"\",'胃がん検診受診者名簿（41～60）'!AU27)","v":""},null,null,null,null,null,null,{"$f":"IF(ISBLANK('胃がん検診受診者名簿（41～60）'!BB27),\"\",'胃がん検診受診者名簿（41～60）'!BB27)","v":""},null,null,{"$f":"IF(ISBLANK('胃がん検診受診者名簿（41～60）'!BE27),\"\",'胃がん検診受診者名簿（41～60）'!BE27)","v":""},null,{"$f":"IF(ISBLANK('胃がん検診受診者名簿（41～60）'!BG27),\"\",'胃がん検診受診者名簿（41～60）'!BG27)","v":""}]
[59,null,null,null,null,null,null,false,false,false,null,null,"",null,null,"",null,null,null,null,null,59,{"$f":"IF(ISBLANK('胃がん検診受診者名簿（41～60）'!B28),\"\",'胃がん検診受診者名簿（41～60）'!B28)","v":""},{"$f":"IF(ISBLANK('胃がん検診受診者名簿（41～60）'!C28),\"\",'胃がん検診受診者名簿（41～60）'!C28)","v":""},null,{"$f":"IF(ISBLANK('胃がん検診受診者名簿（41～60）'!E28),\"\",'胃がん検診受診者名簿（41～60）'!E28)","v":""},{"$f":"IF(ISBLANK('胃がん検診受診者名簿（41～60）'!F28),\"\",'胃がん検診受診者名簿（41～60）'!F28)","v":""},null,null,null,null,null,null,{"$f":"IF(ISBLANK('胃がん検診受診者名簿（41～60）'!M28),\"\",'胃がん検診受診者名簿（41～60）'!M28)","v":""},null,null,{"$f":"IF(ISBLANK('胃がん検診受診者名簿（41～60）'!P28),\"\",'胃がん検診受診者名簿（41～60）'!P28)","v":""},null,{"$f":"IF(ISBLANK('胃がん検診受診者名簿（41～60）'!R28),\"\",'胃がん検診受診者名簿（41～60）'!R28)","v":""},null,null,59,{"$f":"IF(ISBLANK('胃がん検診受診者名簿（41～60）'!W28),\"\",'胃がん検診受診者名簿（41～60）'!W28)","v":""},{"$f":"IF(ISBLANK('胃がん検診受診者名簿（41～60）'!X28),\"\",'胃がん検診受診者名簿（41～60）'!X28)","v":""},null,{"$f":"IF(ISBLANK('胃がん検診受診者名簿（41～60）'!Z28),\"\",'胃がん検診受診者名簿（41～60）'!Z28)","v":""},{"$f":"IF(ISBLANK('胃がん検診受診者名簿（41～60）'!AA28),\"\",'胃がん検診受診者名簿（41～60）'!AA28)","v":""},null,null,null,null,null,null,{"$f":"IF(ISBLANK('胃がん検診受診者名簿（41～60）'!AH28),\"\",'胃がん検診受診者名簿（41～60）'!AH28)","v":""},null,null,{"$f":"IF(ISBLANK('胃がん検診受診者名簿（41～60）'!AK28),\"\",'胃がん検診受診者名簿（41～60）'!AK28)","v":""},null,{"$f":"IF(ISBLANK('胃がん検診受診者名簿（41～60）'!AM28),\"\",'胃がん検診受診者名簿（41～60）'!AM28)","v":""},null,null,59,{"$f":"IF(ISBLANK('胃がん検診受診者名簿（41～60）'!AR28),\"\",'胃がん検診受診者名簿（41～60）'!AQ28)","v":""},{"$f":"IF(ISBLANK('胃がん検診受診者名簿（41～60）'!AR28),\"\",'胃がん検診受診者名簿（41～60）'!AR28)","v":""},null,{"$f":"IF(ISBLANK('胃がん検診受診者名簿（41～60）'!AT28),\"\",'胃がん検診受診者名簿（41～60）'!AT28)","v":""},{"$f":"IF(ISBLANK('胃がん検診受診者名簿（41～60）'!AU28),\"\",'胃がん検診受診者名簿（41～60）'!AU28)","v":""},null,null,null,null,null,null,{"$f":"IF(ISBLANK('胃がん検診受診者名簿（41～60）'!BB28),\"\",'胃がん検診受診者名簿（41～60）'!BB28)","v":""},null,null,{"$f":"IF(ISBLANK('胃がん検診受診者名簿（41～60）'!BE28),\"\",'胃がん検診受診者名簿（41～60）'!BE28)","v":""},null,{"$f":"IF(ISBLANK('胃がん検診受診者名簿（41～60）'!BG28),\"\",'胃がん検診受診者名簿（41～60）'!BG28)","v":""}]
[60,null,null,null,null,null,null,false,false,false,null,null,"",null,null,"",null,null,null,null,null,60,{"$f":"IF(ISBLANK('胃がん検診受診者名簿（41～60）'!B29),\"\",'胃がん検診受診者名簿（41～60）'!B29)","v":""},{"$f":"IF(ISBLANK('胃がん検診受診者名簿（41～60）'!C29),\"\",'胃がん検診受診者名簿（41～60）'!C29)","v":""},null,{"$f":"IF(ISBLANK('胃がん検診受診者名簿（41～60）'!E29),\"\",'胃がん検診受診者名簿（41～60）'!E29)","v":""},{"$f":"IF(ISBLANK('胃がん検診受診者名簿（41～60）'!F29),\"\",'胃がん検診受診者名簿（41～60）'!F29)","v":""},null,null,null,null,null,null,{"$f":"IF(ISBLANK('胃がん検診受診者名簿（41～60）'!M29),\"\",'胃がん検診受診者名簿（41～60）'!M29)","v":""},null,null,{"$f":"IF(ISBLANK('胃がん検診受診者名簿（41～60）'!P29),\"\",'胃がん検診受診者名簿（41～60）'!P29)","v":""},null,{"$f":"IF(ISBLANK('胃がん検診受診者名簿（41～60）'!R29),\"\",'胃がん検診受診者名簿（41～60）'!R29)","v":""},null,null,60,{"$f":"IF(ISBLANK('胃がん検診受診者名簿（41～60）'!W29),\"\",'胃がん検診受診者名簿（41～60）'!W29)","v":""},{"$f":"IF(ISBLANK('胃がん検診受診者名簿（41～60）'!X29),\"\",'胃がん検診受診者名簿（41～60）'!X29)","v":""},null,{"$f":"IF(ISBLANK('胃がん検診受診者名簿（41～60）'!Z29),\"\",'胃がん検診受診者名簿（41～60）'!Z29)","v":""},{"$f":"IF(ISBLANK('胃がん検診受診者名簿（41～60）'!AA29),\"\",'胃がん検診受診者名簿（41～60）'!AA29)","v":""},null,null,null,null,null,null,{"$f":"IF(ISBLANK('胃がん検診受診者名簿（41～60）'!AH29),\"\",'胃がん検診受診者名簿（41～60）'!AH29)","v":""},null,null,{"$f":"IF(ISBLANK('胃がん検診受診者名簿（41～60）'!AK29),\"\",'胃がん検診受診者名簿（41～60）'!AK29)","v":""},null,{"$f":"IF(ISBLANK('胃がん検診受診者名簿（41～60）'!AM29),\"\",'胃がん検診受診者名簿（41～60）'!AM29)","v":""},null,null,60,{"$f":"IF(ISBLANK('胃がん検診受診者名簿（41～60）'!AR29),\"\",'胃がん検診受診者名簿（41～60）'!AQ29)","v":""},{"$f":"IF(ISBLANK('胃がん検診受診者名簿（41～60）'!AR29),\"\",'胃がん検診受診者名簿（41～60）'!AR29)","v":""},null,{"$f":"IF(ISBLANK('胃がん検診受診者名簿（41～60）'!AT29),\"\",'胃がん検診受診者名簿（41～60）'!AT29)","v":""},{"$f":"IF(ISBLANK('胃がん検診受診者名簿（41～60）'!AU29),\"\",'胃がん検診受診者名簿（41～60）'!AU29)","v":""},null,null,null,null,null,null,{"$f":"IF(ISBLANK('胃がん検診受診者名簿（41～60）'!BB29),\"\",'胃がん検診受診者名簿（41～60）'!BB29)","v":""},null,null,{"$f":"IF(ISBLANK('胃がん検診受診者名簿（41～60）'!BE29),\"\",'胃がん検診受診者名簿（41～60）'!BE29)","v":""},null,{"$f":"IF(ISBLANK('胃がん検診受診者名簿（41～60）'!BG29),\"\",'胃がん検診受診者名簿（41～60）'!BG29)","v":""}]
[]
["区　分",null,"総　計","頁　計",null,null,"区　分",null,"総　計",null,"頁　計",null,null,null,"区　分",null,"総　計",null,"頁　計",null,null,"区　分",null,"総　計","頁　計",null,null,"区　分",null,"総　計",null,"頁　計",null,null,null,"区　分",null,"総　計",null,"頁　計",null,"区　分",null,"総　計","頁　計",null,null,"区　分",null,"総　計",null,"頁　計",null,null,null,"区　分",null,"総　計",null,"頁　計",null,"区　分",null,"総　計","頁　計",null,null,"区　分",null,"総　計",null,"頁　計",null,null,null,"区　分",null,"総　計",null,"頁　計"]
["受診者数",null,null,{"$f":"COUNTIF(L10:L29,1)+COUNTIF(L10:L29,2)+COUNTIF(L10:L29,3)+COUNTIF(L10:L29,4)","v":0},null,null,"生検実施数",null,null,null,{"$f":"COUNTIF(H10:H29,TRUE)","v":0},null,null,null,"胃がんなし",null,null,null,{"$f":"COUNTIF(L10:L29,1)","v":0},null,null,"受診者数",null,null,{"$f":"D32","v":0},null,null,"生検実施数",null,null,null,{"$f":"K32","v":0},null,null,null,"胃がんなし",null,null,null,{"$f":"S32","v":0},null,"受診者数",null,null,{"$f":"Y32","v":0},null,null,"生検実施数",null,null,null,{"$f":"AF32","v":0},null,null,null,"胃がんなし",null,null,null,{"$f":"AN32","v":0},null,"受診者数",null,null,{"$f":"AS32","v":0},null,null,"生検実施数",null,null,null,{"$f":"AZ32","v":0},null,null,null,"胃がんなし",null,null,null,{"$f":"BH32","v":0}]
["自己負担額\n納入者",null,null,{"$f":"D32-D34","v":0},null,null,"偶発症\n発生総数",null,null,null,{"$f":"COUNTIF(I10:K29,TRUE)","v":0},null,null,null,"胃がん疑い",null,null,null,{"$f":"+COUNTIF(L10:L29,2)","v":0},null,null,"自己負担額\n納入者",null,null,{"$f":"D33","v":0},null,null,"偶発症\n発生総数",null,null,null,{"$f":"K33","v":0},null,null,null,"胃がん疑い",null,null,null,{"$f":"S33","v":0},null,"自己負担額\n納入者",null,null,{"$f":"Y33","v":0},null,null,"偶発症\n発生総数",null,null,null,{"$f":"AF33","v":0},null,null,null,"胃がん疑い",null,null,null,{"$f":"AN33","v":0},null,"自己負担額\n納入者",null,null,{"$f":"AS33","v":0},null,null,"偶発症\n発生総数",null,null,null,{"$f":"AZ33","v":0},null,null,null,"胃がん疑い",null,null,null,{"$f":"BH33","v":0}]
["自己負担額\n免除者",null,null,{"$f":"COUNTIF(O10:O29,1)+COUNTIF(O10:O29,2)+COUNTIF(O10:O29,3)+COUNTIF(O10:O29,4)","v":0},null,null,null,null,null,null,null,null,null,null,"胃がんあり",null,null,null,{"$f":"+COUNTIF(L10:L29,3)","v":0},null,null,"自己負担額\n免除者",null,null,0,null,null,null,null,null,null,null,null,null,null,"胃がんあり",null,null,null,0,null,"自己負担額\n免除者",null,null,0,null,null,null,null,null,null,null,null,null,null,"胃がんあり",null,null,null,0,null,"自己負担額\n免除者",null,null,0,null,null,null,null,null,null,null,null,null,null,"胃がんあり",null,null,null,0]
[null,null,null,null,null,null,null,null,null,null,null,null,null,null,"胃がん以外の悪性病変",null,null,null,{"$f":"+COUNTIF(L10:L29,4)","v":0},null,null,null,null,null,null,null,null,null,null,null,null,null,null,null,null,"胃がん以外の悪性病変",null,null,null,0,null,null,null,null,null,null,null,null,null,null,null,null,null,null,null,"胃がん以外の悪性病変",null,null,null,0,null,null,null,null,null,null,null,null,null,null,null,null,null,null,null,"胃がん以外の悪性病変",null,null,null,0]
[null,null,null,null,null,null,null,null,null,null,null,null,null,null,null,null,null,null,null,null,null,null,null,null,null,null,null,null,null,null,null,null,null,null,null,null,null,null,null,0,null,null,null,null,null,null,null,null,null,null,null,null,null,null,null,null,null,null,null,0,null,null,null,null,null,null,null,null,null,null,null,null,null,null,null,null,null,null,null,0]
["【結果判定】　1.胃がんなし　2.胃がん疑い　3.胃がんあり　4.胃がん以外の悪性病変",null,null,null,null,null,null,null,null,null,null,null,null,null,null,null,null,null,null,null,null,"【結果判定】　1.胃がんなし　2.胃がん疑い　3.胃がんあり　4.胃がん以外の悪性病変",null,null,null,null,null,null,null,null,null,null,null,null,null,null,null,null,null,null,null,"【結果判定】　1.胃がんなし　2.胃がん疑い　3.胃がんあり　4.胃がん以外の悪性病変",null,null,null,null,null,null,null,null,null,null,null,null,null,null,null,null,null,null,null,"【結果判定】　1.胃がんなし　2.胃がん疑い　3.胃がんあり　4.胃がん以外の悪性病変"]
["【自己負担免除者区分】　1.70歳以上　2.後期高齢者医療制度　3.生活保護世帯　4.市民税非課税世帯　",null,null,null,null,null,null,null,null,null,null,null,null,null,null,null,null,null,null,"R5.10",null,"【自己負担免除者区分】　1.70歳以上　2.後期高齢者医療制度　3.生活保護世帯　4.市民税非課税世帯　",null,null,null,null,null,null,null,null,null,null,null,null,null,null,null,null,null,null,"R5.10","【自己負担免除者区分】　1.70歳以上　2.後期高齢者医療制度　3.生活保護世帯　4.市民税非課税世帯　",null,null,null,null,null,null,null,null,null,null,null,null,null,null,null,null,null,null,"R5.10","【自己負担免除者区分】　1.70歳以上　2.後期高齢者医療制度　3.生活保護世帯　4.市民税非課税世帯　",null,null,null,null,null,null,null,null,null,null,null,null,null,null,null,null,null,null,"R5.10"]

{"sheet":"胃がん検診受診者名簿（61～80） ","index":3,"n_rows":38,"n_cols":81,"rows_kept":38,"cut":false,"hidden":false,"merged":[[1,13,1,19],[1,34,1,40],[1,54,1,60],[1,74,1,80],[2,13,4,19],[2,34,4,40],[2,54,4,60],[2,74,4,80],[5,24,6,24],[5,25,6,25],[5,26,6,26],[5,27,6,28],[5,76,5,80],[5,66,6,66],[5,67,6,68],[5,74,5,75],[5,63,6,63],[5,64,6,64],[5,65,6,65],[5,15,5,19],[5,23,6,23],[5,56,5,60],[5,47,6,48],[5,54,5,55],[5,34,5,35],[5,36,5,40],[5,43,6,43],[5,44,6,44],[5,45,6,45],[5,46,6,46],[5,2,6,2],[5,3,6,3],[5,4,6,4],[5,5,6,5],[5,6,6,7],[5,13,5,14],[7,11,8,13],[7,14,8,16],[7,17,8,19],[7,21,8,21],[7,22,8,22],[7,69,7,71],[7,72,8,74],[7,0,8,0],[7,1,8,1],[7,2,8,3],[7,4,8,4],[7,5,8,6],[7,7,8,7],[7,43,8,44],[7,45,8,45],[7,23,8,24],[7,25,8,25],[7,26,8,27],[7,28,8,28],[7,29,7,31],[7,75,8,77],[7,78,8,80],[8,9,8,10],[8,30,8,31],[8,50,8,51],[8,70,8,71],[7,61,8,61],[7,62,8,62],[7,63,8,64],[7,65,8,65],[7,66,8,67],[7,68,8,68],[7,46,8,47],[7,48,8,48],[7,49,7,51],[7,52,8,54],[7,55,8,57],[7,58,8,60],[7,35,8,37],[7,38,8,40],[7,41,8,41],[7,42,8,42],[7,32,8,34],[7,8,7,10],[9,23,9,24],[9,26,9,27],[9,30,9,31],[9,33,9,34],[9,36,9,37],[9,38,9,40],[9,2,9,3],[9,5,9,6],[9,9,9,10],[9,12,9,13],[9,15,9,16],[9,17,9,19],[9,63,9,64],[9,66,9,67],[9,70,9,71],[9,73,9,74],[9,76,9,77],[9,78,9,80],[9,43,9,44],[9,46,9,47],[9,50,9,51],[9,53,9,54],[9,56,9,57],[9,58,9,60],[10,23,10,24],[10,26,10,27],[10,30,10,31],[10,33,10,34],[10,36,10,37],[10,38,10,40],[10,2,10,3],[10,5,10,6],[10,9,10,10],[10,12,10,13],[10,15,10,16],[10,17,10,19],[10,63,10,64],[10,66,10,67],[10,70,10,71],[10,73,10,74],[10,76,10,77],[10,78,10,80],[10,43,10,44],[10,46,10,47],[10,50,10,51],[10,53,10,54],[10,56,10,57],[10,58,10,60],[11,23,11,24],[11,26,11,27],[11,30,11,31],[11,33,11,34],[11,36,11,37],[11,38,11,40],[11,2,11,3],[11,5,11,6],[11,9,11,10],[11,12,11,13],[11,15,11,16],[11,17,11,19],[11,63,11,64],[11,66,11,67],[11,70,11,71],[11,73,11,74],[11,76,11,77],[11,78,11,80],[11,43,11,44],[11,46,11,47],[11,50,11,51],[11,53,11,54],[11,56,11,57],[11,58,11,60],[12,23,12,24],[12,26,12,27],[12,30,12,31],[12,33,12,34],[12,36,12,37],[12,38,12,40],[12,2,12,3],[12,5,12,6],[12,9,12,10],[12,12,12,13],[12,15,12,16],[12,17,12,19],[12,63,12,64],[12,66,12,67],[12,70,12,71],[12,73,12,74],[12,76,12,77],[12,78,12,80],[12,43,12,44],[12,46,12,47],[12,50,12,51],[12,53,12,54],[12,56,12,57],[12,58,12,60],[13,23,13,24],[13,26,13,27],[13,30,13,31],[13,33,13,34],[13,36,13,37],[13,38,13,40],[13,2,13,3],[13,5,13,6],[13,9,13,10],[13,12,13,13],[13,15,13,16],[13,17,13,19],[13,63,13,64],[13,66,13,67],[13,70,13,71],[13,73,13,74],[13,76,13,77],[13,78,13,80],[13,43,13,44],[13,46,13,47],[13,50,13,51],[13,53,13,54],[13,56,13,57],[13,58,13,60],[14,23,14,24],[14,26,14,27],[14,30,14,31],[14,33,14,34],[14,36,14,37],[14,38,14,40],[14,2,14,3],[14,5,14,6],[14,9,14,10],[14,12,14,13],[14,15,14,16],[14,17,14,19],[14,63,14,64],[14,66,14,67],[14,70,14,71],[14,73,14,74],[14,76,14,77],[14,78,14,80],[14,43,14,44],[14,46,14,47],[14,50,14,51],[14,53,14,54],[14,56,14,57],[14,58,14,60],[15,23,15,24],[15,26,15,27],[15,30,15,31],[15,33,15,34],[15,36,15,37],[15,38,15,40],[15,2,15,3],[15,5,15,6],[15,9,15,10],[15,12,15,13],[15,15,15,16],[15,17,15,19],[15,63,15,64],[15,66,15,67],[15,70,15,71],[15,73,15,74],[15,76,15,77],[15,78,15,80],[15,43,15,44],[15,46,15,47],[15,50,15,51],[15,53,15,54],[15,56,15,57],[15,58,15,60],[16,23,16,24],[16,26,16,27],[16,30,16,31],[16,33,16,34],[16,36,16,37],[16,38,16,40],[16,2,16,3],[16,5,16,6],[16,9,16,10],[16,12,16,13],[16,15,16,16],[16,17,16,19],[16,63,16,64],[16,66,16,67],[16,70,16,71],[16,73,16,74],[16,76,16,77],[16,78,16,80],[16,43,16,44],[16,46,16,47],[16,50,16,51],[16,53,16,54],[16,56,16,57],[16,58,16,60],[17,23,17,24],[17,26,17,27],[17,30,17,31],[17,33,17,34],[17,36,17,37],[17,38,17,40],[17,2,17,3],[17,5,17,6],[17,9,17,10],[17,12,17,13],[17,15,17,16],[17,17,17,19],[17,63,17,64],[17,66,17,67],[17,70,17,71],[17,73,17,74],[17,76,17,77],[17,78,17,80],[17,43,17,44],[17,46,17,47],[17,50,17,51],[17,53,17,54],[17,56,17,57],[17,58,17,60],[18,23,18,24],[18,26,18,27],[18,30,18,31],[18,33,18,34],[18,36,18,37],[18,38,18,40],[18,2,18,3],[18,5,18,6],[18,9,18,10],[18,12,18,13],[18,15,18,16],[18,17,18,19],[18,63,18,64],[18,66,18,67],[18,70,18,71],[18,73,18,74],[18,76,18,77],[18,78,18,80],[18,43,18,44],[18,46,18,47],[18,50,18,51],[18,53,18,54],[18,56,18,57],[18,58,18,60],[19,23,19,24],[19,26,19,27],[19,30,19,31],[19,33,19,34],[19,36,19,37],[19,38,19,40],[19,2,19,3],[19,5,19,6],[19,9,19,10],[19,12,19,13],[19,15,19,16],[19,17,19,19],[19,63,19,64],[19,66,19,67],[19,70,19,71],[19,73,19,74],[19,76,19,77],[19,78,19,80],[19,43,19,44],[19,46,19,47],[19,50,19,51],[19,53,19,54],[19,56,19,57],[19,58,19,60],[20,23,20,24],[20,26,20,27],[20,30,20,31],[20,33,20,34],[20,36,20,37],[20,38,20,40],[20,2,20,3],[20,5,20,6],[20,9,20,10],[20,12,20,13],[20,15,20,16],[20,17,20,19],[20,63,20,64],[20,66,20,67],[20,70,20,71],[20,73,20,74],[20,76,20,77],[20,78,20,80],[20,43,20,44],[20,46,20,47],[20,50,20,51],[20,53,20,54],[20,56,20,57],[20,58,20,60],[21,23,21,24],[21,26,21,27],[21,30,21,31],[21,33,21,34],[21,36,21,37],[21,38,21,40],[21,2,21,3],[21,5,21,6],[21,9,21,10],[21,12,21,13],[21,15,21,16],[21,17,21,19],[21,63,21,64],[21,66,21,67],[21,70,21,71],[21,73,21,74],[21,76,21,77],[21,78,21,80],[21,43,21,44],[21,46,21,47],[21,50,21,51],[21,53,21,54],[21,56,21,57],[21,58,21,60],[22,23,22,24],[22,26,22,27],[22,30,22,31],[22,33,22,34],[22,36,22,37],[22,38,22,40],[22,2,22,3],[22,5,22,6],[22,9,22,10],[22,12,22,13],[22,15,22,16],[22,17,22,19],[22,63,22,64],[22,66,22,67],[22,70,22,71],[22,73,22,74],[22,76,22,77],[22,78,22,80],[22,43,22,44],[22,46,22,47],[22,50,22,51],[22,53,22,54],[22,56,22,57],[22,58,22,60],[23,23,23,24],[23,26,23,27],[23,30,23,31],[23,33,23,34],[23,36,23,37],[23,38,23,40],[23,2,23,3],[23,5,23,6],[23,9,23,10],[23,12,23,13],[23,15,23,16],[23,17,23,19],[23,63,23,64],[23,66,23,67],[23,70,23,71],[23,73,23,74],[23,76,23,77],[23,78,23,80],[23,43,23,44],[23,46,23,47],[23,50,23,51],[23,53,23,54],[23,56,23,57],[23,58,23,60],[24,23,24,24],[24,26,24,27],[24,30,24,31],[24,33,24,34],[24,36,24,37],[24,38,24,40],[24,2,24,3],[24,5,24,6],[24,9,24,10],[24,12,24,13],[24,15,24,16],[24,17,24,19],[24,63,24,64],[24,66,24,67],[24,70,24,71],[24,73,24,74],[24,76,24,77],[24,78,24,80],[24,43,24,44],[24,46,24,47],[24,50,24,51],[24,53,24,54],[24,56,24,57],[24,58,24,60],[25,23,25,24],[25,26,25,27],[25,30,25,31],[25,33,25,34],[25,36,25,37],[25,38,25,40],[25,2,25,3],[25,5,25,6],[25,9,25,10],[25,12,25,13],[25,15,25,16],[25,17,25,19],[25,63,25,64],[25,66,25,67],[25,70,25,71],[25,73,25,74],[25,76,25,77],[25,78,25,80],[25,43,25,44],[25,46,25,47],[25,50,25,51],[25,53,25,54],[25,56,25,57],[25,58,25,60],[26,23,26,24],[26,26,26,27],[26,30,26,31],[26,33,26,34],[26,36,26,37],[26,38,26,40],[26,2,26,3],[26,5,26,6],[26,9,26,10],[26,12,26,13],[26,15,26,16],[26,17,26,19],[26,63,26,64],[26,66,26,67],[26,70,26,71],[26,73,26,74],[26,76,26,77],[26,78,26,80],[26,43,26,44],[26,46,26,47],[26,50,26,51],[26,53,26,54],[26,56,26,57],[26,58,26,60],[27,23,27,24],[27,26,27,27],[27,30,27,31],[27,33,27,34],[27,36,27,37],[27,38,27,40],[27,2,27,3],[27,5,27,6],[27,9,27,10],[27,12,27,13],[27,15,27,16],[27,17,27,19],[27,63,27,64],[27,66,27,67],[27,70,27,71],[27,73,27,74],[27,76,27,77],[27,78,27,80],[27,43,27,44],[27,46,27,47],[27,50,27,51],[27,53,27,54],[27,56,27,57],[27,58,27,60],[28,23,28,24],[28,26,28,27],[28,30,28,31],[28,33,28,34],[28,36,28,37],[28,38,28,40],[28,2,28,3],[28,5,28,6],[28,9,28,10],[28,12,28,13],[28,15,28,16],[28,17,28,19],[28,63,28,64],[28,66,28,67],[28,70,28,71],[28,73,28,74],[28,76,28,77],[28,78,28,80],[28,43,28,44],[28,46,28,47],[28,50,28,51],[28,53,28,54],[28,56,28,57],[28,58,28,60],[30,24,30,25],[30,27,30,28],[30,29,30,30],[30,31,30,33],[30,0,30,1],[30,3,30,4],[30,6,30,7],[30,8,30,9],[30,10,30,12],[30,14,30,15],[30,69,30,70],[30,71,30,73],[30,75,30,76],[30,77,30,78],[31,0,31,1],[31,3,31,4],[31,6,31,7],[31,8,31,9],[31,10,31,12],[31,14,31,15],[30,51,30,53],[30,55,30,56],[30,57,30,58],[30,61,30,62],[30,64,30,65],[30,67,30,68],[30,35,30,36],[30,37,30,38],[30,41,30,42],[30,44,30,45],[30,47,30,48],[30,49,30,50],[30,16,30,17],[30,21,30,22],[31,75,31,76],[31,77,31,78],[32,0,32,1],[32,3,32,4],[32,6,32,7],[32,8,32,9],[32,10,32,12],[32,14,32,15],[31,51,31,53],[31,55,31,56],[31,57,31,58],[31,61,31,62],[31,64,31,65],[31,67,31,68],[31,35,31,36],[31,37,31,38],[31,41,31,42],[31,44,31,45],[31,47,31,48],[31,49,31,50],[31,16,31,17],[31,21,31,22],[31,24,31,25],[31,27,31,28],[32,49,32,50],[32,16,32,17],[32,21,32,22],[32,24,32,25],[32,27,32,28],[32,29,32,30],[32,31,32,33],[31,69,31,70],[31,71,31,73],[31,29,31,30],[31,31,31,33],[33,44,33,45],[33,55,33,56],[33,57,33,58],[32,69,32,70],[32,71,32,73],[32,75,32,76],[32,77,32,78],[33,0,33,1],[33,3,33,4],[33,14,33,15],[33,16,33,17],[33,21,33,22],[33,24,33,25],[32,51,32,53],[32,55,32,56],[32,57,32,58],[32,61,32,62],[32,64,32,65],[32,67,32,68],[32,35,32,36],[32,37,32,38],[32,41,32,42],[32,44,32,45],[32,47,32,48],[34,14,35,15],[34,16,35,17],[34,18,35,18],[34,35,35,36],[34,37,35,38],[34,39,35,39],[33,35,33,36],[33,37,33,38],[33,41,33,42],[34,55,35,56],[34,57,35,58],[34,59,35,59],[34,75,35,76],[34,77,35,78],[34,79,35,79],[33,61,33,62],[33,64,33,65],[33,75,33,76],[33,77,33,78]]}
["様式第21",null,null,null,null,null,null,null,null,null,null,null,null,null,null,null,null,null,null,"（入力用）",null,"様式第21",null,null,null,null,null,null,null,null,null,null,null,null,null,null,null,null,null,null,"（保健所提出用）","様式第21",null,null,null,null,null,null,null,null,null,null,null,null,null,null,null,null,null,null,"（医師会提出用）","様式第21",null,null,null,null,null,null,null,null,null,null,null,null,null,null,null,null,null,null,"（医療機関控え）"]
[null,null,null,null,null,null,null,null,null,null,null,null,null,"検　診　医　療　機　関　名",null,null,null,null,null,null,null,null,null,null,null,null,null,null,null,null,null,null,null,null,"検　診　医　療　機　関　名",null,null,null,null,null,null,null,null,null,null,null,null,null,null,null,null,null,null,null,"検　診　医　療　機　関　名",null,null,null,null,null,null,null,null,null,null,null,null,null,null,null,null,null,null,null,"検　診　医　療　機　関　名"]
["胃がん検診（胃内視鏡検査）受診者名簿",null,null,null,null,null,null,null,null,null,null,null,null,{"$f":"IF(ISBLANK('胃がん検診受診者名簿（1～20）'!N3:T5),\"\",'胃がん検診受診者名簿（1～20）'!N3:T5)","v":""},null,null,null,null,null,null,null,"胃がん検診（胃内視鏡検査）受診者名簿",null,null,null,null,null,null,null,null,null,null,null,null,{"$f":"IF(ISBLANK('胃がん検診受診者名簿（1～20）'!N3),\"\",'胃がん検診受診者名簿（1～20）'!N3)","v":""},null,null,null,null,null,null,"胃がん検診（胃内視鏡検査）受診者名簿",null,null,null,null,null,null,null,null,null,null,null,null,{"$f":"IF(ISBLANK('胃がん検診受診者名簿（1～20）'!AI3),\"\",'胃がん検診受診者名簿（1～20）'!AI3)","v":""},null,null,null,null,null,null,"胃がん検診（胃内視鏡検査）受診者名簿",null,null,null,null,null,null,null,null,null,null,null,null,{"$f":"IF(ISBLANK('胃がん検診受診者名簿（1～20）'!BC3),\"\",'胃がん検診受診者名簿（1～20）'!BC3)","v":""}]
[]
[]
[null,null,"（令和",{"$f":"IF(ISBLANK('胃がん検診受診者名簿（1～20）'!D6),\"\",'胃がん検診受診者名簿（1～20）'!D6)","v":""},"年",{"$f":"IF(ISBLANK('胃がん検診受診者名簿（1～20）'!F6),\"\",'胃がん検診受診者名簿（1～20）'!F6)","v":""},"月分）",null,null,null,null,null,null,"電話番号",null,{"$f":"IF(ISBLANK('胃がん検診受診者名簿（1～20）'!P6:T63),\"\",'胃がん検診受診者名簿（1～20）'!P6:T6)","v":""},null,null,null,null,null,null,null,"（令和",{"$f":"IF(ISBLANK('胃がん検診受診者名簿（1～20）'!D6),\"\",'胃がん検診受診者名簿（1～20）'!D6)","v":""},"年",{"$f":"IF(ISBLANK('胃がん検診受診者名簿（1～20）'!F6),\"\",'胃がん検診受診者名簿（1～20）'!F6)","v":""},"月分）",null,null,null,null,null,null,"電話番号",null,{"$f":"IF(ISBLANK('胃がん検診受診者名簿（1～20）'!P6),\"\",'胃がん検診受診者名簿（1～20）'!P6)","v":""},{"$f":"IF(ISBLANK('胃がん検診受診者名簿（1～20）'!Q6),\"\",'胃がん検診受診者名簿（1～20）'!Q6)","v":""},{"$f":"IF(ISBLANK('胃がん検診受診者名簿（1～20）'!R6),\"\",'胃がん検診受診者名簿（1～20）'!R6)","v":""},{"$f":"IF(ISBLANK('胃がん検診受診者名簿（1～20）'!S6),\"\",'胃がん検診受診者名簿（1～20）'!S6)","v":""},{"$f":"IF(ISBLANK('胃がん検診受診者名簿（1～20）'!T6),\"\",'胃がん検診受診者名簿（1～20）'!T6)","v":""},null,null,"（令和",{"$f":"IF(ISBLANK('胃がん検診受診者名簿（1～20）'!Y6),\"\",'胃がん検診受診者名簿（1～20）'!Y6)","v":""},"年",{"$f":"IF(ISBLANK('胃がん検診受診者名簿（1～20）'!AA6),\"\",'胃がん検診受診者名簿（1～20）'!AA6)","v":""},"月分）",null,null,null,null,null,null,"電話番号",null,{"$f":"IF(ISBLANK('胃がん検診受診者名簿（1～20）'!AK6),\"\",'胃がん検診受診者名簿（1～20）'!AK6)","v":""},{"$f":"IF(ISBLANK('胃がん検診受診者名簿（1～20）'!AL6),\"\",'胃がん検診受診者名簿（1～20）'!AL6)","v":""},{"$f":"IF(ISBLANK('胃がん検診受診者名簿（1～20）'!AM6),\"\",'胃がん検診受診者名簿（1～20）'!AM6)","v":""},{"$f":"IF(ISBLANK('胃がん検診受診者名簿（1～20）'!AN6),\"\",'胃がん検診受診者名簿（1～20）'!AN6)","v":""},{"$f":"IF(ISBLANK('胃がん検診受診者名簿（1～20）'!AO6),\"\",'胃がん検診受診者名簿（1～20）'!AO6)","v":""},null,null,"（令和",{"$f":"IF(ISBLANK('胃がん検診受診者名簿（1～20）'!AS6),\"\",'胃がん検診受診者名簿（1～20）'!AS6)","v":""},"年",{"$f":"IF(ISBLANK('胃がん検診受診者名簿（1～20）'!AU6),\"\",'胃がん検診受診者名簿（1～20）'!AU6)","v":""},"月分）",null,null,null,null,null,null,"電話番号",null,{"$f":"IF(ISBLANK('胃がん検診受診者名簿（1～20）'!BE6),\"\",'胃がん検診受診者名簿（1～20）'!BE6)","v":""},{"$f":"IF(ISBLANK('胃がん検診受診者名簿（1～20）'!BF6),\"\",'胃がん検診受診者名簿（1～20）'!BF6)","v":""},{"$f":"IF(ISBLANK('胃がん検診受診者名簿（1～20）'!BG6),\"\",'胃がん検診受診者名簿（1～20）'!BG6)","v":""},{"$f":"IF(ISBLANK('胃がん検診受診者名簿（1～20）'!BH6),\"\",'胃がん検診受診者名簿（1～20）'!BH6)","v":""},{"$f":"IF(ISBLANK('胃がん検診受診者名簿（1～20）'!BI6),\"\",'胃がん検診受診者名簿（1～20）'!BI6)","v":""}]
[]
["受付\n番号","受診日","氏　　名",null,"年齢","電話番号",null,"生検\n実施","偶発症\n発生",null,null,"結 果 判 定",null,null,"自己負担\n免除者区分",null,null,"備　　考\n（精検紹介先医療機関等）",null,null,null,"受付\n番号","受診日","氏　　名",null,"年齢","電話番号",null,"生検\n実施","偶発症\n発生",null,null,"結 果 判 定",null,null,"自己負担\n免除者区分",null,null,"備　　考\n（精検紹介先医療機関等）",null,null,"受付\n番号","受診日","氏　　名",null,"年齢","電話番号",null,"生検\n実施","偶発症\n発生",null,null,"結 果 判 定",null,null,"自己負担\n免除者区分",null,null,"備　　考\n（精検紹介先医療機関等）",null,null,"受付\n番号","受診日","氏　　名",null,"年齢","電話番号",null,"生検\n実施","偶発症\n発生",null,null,"結 果 判 定",null,null,"自己負担\n免除者区分",null,null,"備　　考\n（精検紹介先医療機関等）"]
[null,null,null,null,null,null,null,null,"検診時","生検時",null,null,null,null,null,null,null,null,null,null,null,null,null,null,null,null,null,null,null,"検診時","生検時",null,null,null,null,null,null,null,null,null,null,null,null,null,null,null,null,null,null,"検診時","生検時",null,null,null,null,null,null,null,null,null,null,null,null,null,null,null,null,null,null,"検診時","生検時"]
[61,null,null,null,null,null,null,false,false,false,null,null,{"$f":"IF(L10=1,\"胃がんなし\",IF(L10=2,\"胃がん疑い\",IF(L10=3,\"胃がんあり\",IF(L10=4,\"胃がん以外の悪性病変\",\"\"))))","v":""},null,null,{"$f":"IF(O10=1,\"70歳以上\",IF(O10=2,\"後期高齢者医療制度\",IF(O10=3,\"生活保護　世帯\",IF(O10=4,\"非課税世帯\",\"\"))))","v":""},null,null,null,null,null,61,{"$f":"IF(ISBLANK('胃がん検診受診者名簿（61～80） '!B10),\"\",'胃がん検診受診者名簿（61～80） '!B10)","v":""},{"$f":"IF(ISBLANK('胃がん検診受診者名簿（61～80） '!C10),\"\",'胃がん検診受診者名簿（61～80） '!C10)","v":""},null,{"$f":"IF(ISBLANK('胃がん検診受診者名簿（61～80） '!E10),\"\",'胃がん検診受診者名簿（61～80） '!E10)","v":""},{"$f":"IF(ISBLANK('胃がん検診受診者名簿（61～80） '!F10),\"\",'胃がん検診受診者名簿（61～80） '!F10)","v":""},null,null,null,null,null,null,{"$f":"IF(ISBLANK('胃がん検診受診者名簿（61～80） '!M10),\"\",'胃がん検診受診者名簿（61～80） '!M10)","v":""},null,null,{"$f":"IF(ISBLANK('胃がん検診受診者名簿（61～80） '!P10),\"\",'胃がん検診受診者名簿（61～80） '!P10)","v":""},null,{"$f":"IF(ISBLANK('胃がん検診受診者名簿（61～80） '!R10),\"\",'胃がん検診受診者名簿（61～80） '!R10)","v":""},null,null,61,{"$f":"IF(ISBLANK('胃がん検診受診者名簿（61～80） '!W10),\"\",'胃がん検診受診者名簿（61～80） '!W10)","v":""},{"$f":"IF(ISBLANK('胃がん検診受診者名簿（61～80） '!X10),\"\",'胃がん検診受診者名簿（61～80） '!X10)","v":""},{"$f":"IF(ISBLANK('胃がん検診受診者名簿（61～80） '!Y10),\"\",'胃がん検診受診者名簿（61～80） '!Y10)","v":""},{"$f":"IF(ISBLANK('胃がん検診受診者名簿（61～80） '!Z10),\"\",'胃がん検診受診者名簿（61～80） '!Z10)","v":""},{"$f":"IF(ISBLANK('胃がん検診受診者名簿（61～80） '!AA10),\"\",'胃がん検診受診者名簿（61～80） '!AA10)","v":""},{"$f":"IF(ISBLANK('胃がん検診受診者名簿（61～80） '!AB10),\"\",'胃がん検診受診者名簿（61～80） '!AB10)","v":""},null,null,null,null,null,{"$f":"IF(ISBLANK('胃がん検診受診者名簿（61～80） '!AH10),\"\",'胃がん検診受診者名簿（61～80） '!AH10)","v":""},{"$f":"IF(ISBLANK('胃がん検診受診者名簿（61～80） '!AI10),\"\",'胃がん検診受診者名簿（61～80） '!AI10)","v":""},null,{"$f":"IF(ISBLANK('胃がん検診受診者名簿（61～80） '!AK10),\"\",'胃がん検診受診者名簿（61～80） '!AK10)","v":""},{"$f":"IF(ISBLANK('胃がん検診受診者名簿（61～80） '!AL10),\"\",'胃がん検診受診者名簿（61～80） '!AL10)","v":""},{"$f":"IF(ISBLANK('胃がん検診受診者名簿（61～80） '!AM10),\"\",'胃がん検診受診者名簿（61～80） '!AM10)","v":""},null,null,61,{"$f":"IF(ISBLANK('胃がん検診受診者名簿（61～80） '!AQ10),\"\",'胃がん検診受診者名簿（61～80） '!AQ10)","v":""},{"$f":"IF(ISBLANK('胃がん検診受診者名簿（61～80） '!AR10),\"\",'胃がん検診受診者名簿（61～80） '!AR10)","v":""},{"$f":"IF(ISBLANK('胃がん検診受診者名簿（61～80） '!AS10),\"\",'胃がん検診受診者名簿（61～80） '!AS10)","v":""},{"$f":"IF(ISBLANK('胃がん検診受診者名簿（61～80） '!AT10),\"\",'胃がん検診受診者名簿（61～80） '!AT10)","v":""},{"$f":"IF(ISBLANK('胃がん検診受診者名簿（61～80） '!AU10),\"\",'胃がん検診受診者名簿（61～80） '!AU10)","v":""},{"$f":"IF(ISBLANK('胃がん検診受診者名簿（61～80） '!AV10),\"\",'胃がん検診受診者名簿（61～80） '!AV10)","v":""},null,null,null,null,null,{"$f":"IF(ISBLANK('胃がん検診受診者名簿（61～80） '!BB10),\"\",'胃がん検診受診者名簿（61～80） '!BB10)","v":""},{"$f":"IF(ISBLANK('胃がん検診受診者名簿（61～80） '!BC10),\"\",'胃がん検診受診者名簿（61～80） '!BC10)","v":""},null,{"$f":"IF(ISBLANK('胃がん検診受診者名簿（61～80） '!BE10),\"\",'胃がん検診受診者名簿（61～80） '!BE10)","v":""},{"$f":"IF(ISBLANK('胃がん検診受診者名簿（61～80） '!BF10),\"\",'胃がん検診受診者名簿（61～80） '!BF10)","v":""},{"$f":"IF(ISBLANK('胃がん検診受診者名簿（61～80） '!BG10),\"\",'胃がん検診受診者名簿（61～80） '!BG10)","v":""}]
[62,null,null,null,null,null,null,false,null,false,null,null,{"$f":"IF(L11=1,\"胃がんなし\",IF(L11=2,\"胃がん疑い\",IF(L11=3,\"胃がんあり\",IF(L11=4,\"胃がん以外の悪性病変\",\"\"))))","v":""},null,null,{"$f":"IF(O11=1,\"70歳以上\",IF(O11=2,\"後期高齢者医療制度\",IF(O11=3,\"生活保護　世帯\",IF(O11=4,\"非課税世帯\",\"\"))))","v":""},null,null,null,null,null,62,{"$f":"IF(ISBLANK('胃がん検診受診者名簿（61～80） '!B11),\"\",'胃がん検診受診者名簿（61～80） '!B11)","v":""},{"$f":"IF(ISBLANK('胃がん検診受診者名簿（61～80） '!C11),\"\",'胃がん検診受診者名簿（61～80） '!C11)","v":""},null,{"$f":"IF(ISBLANK('胃がん検診受診者名簿（61～80） '!E11),\"\",'胃がん検診受診者名簿（61～80） '!E11)","v":""},{"$f":"IF(ISBLANK('胃がん検診受診者名簿（61～80） '!F11),\"\",'胃がん検診受診者名簿（61～80） '!F11)","v":""},null,null,null,null,null,null,{"$f":"IF(ISBLANK('胃がん検診受診者名簿（61～80） '!M11),\"\",'胃がん検診受診者名簿（61～80） '!M11)","v":""},null,null,{"$f":"IF(ISBLANK('胃がん検診受診者名簿（61～80） '!P11),\"\",'胃がん検診受診者名簿（61～80） '!P11)","v":""},null,{"$f":"IF(ISBLANK('胃がん検診受診者名簿（61～80） '!R11),\"\",'胃がん検診受診者名簿（61～80） '!R11)","v":""},null,null,62,{"$f":"IF(ISBLANK('胃がん検診受診者名簿（61～80） '!W11),\"\",'胃がん検診受診者名簿（61～80） '!W11)","v":""},{"$f":"IF(ISBLANK('胃がん検診受診者名簿（61～80） '!X11),\"\",'胃がん検診受診者名簿（61～80） '!X11)","v":""},{"$f":"IF(ISBLANK('胃がん検診受診者名簿（61～80） '!Y11),\"\",'胃がん検診受診者名簿（61～80） '!Y11)","v":""},{"$f":"IF(ISBLANK('胃がん検診受診者名簿（61～80） '!Z11),\"\",'胃がん検診受診者名簿（61～80） '!Z11)","v":""},{"$f":"IF(ISBLANK('胃がん検診受診者名簿（61～80） '!AA11),\"\",'胃がん検診受診者名簿（61～80） '!AA11)","v":""},{"$f":"IF(ISBLANK('胃がん検診受診者名簿（61～80） '!AB11),\"\",'胃がん検診受診者名簿（61～80） '!AB11)","v":""},null,null,null,null,null,{"$f":"IF(ISBLANK('胃がん検診受診者名簿（61～80） '!AH11),\"\",'胃がん検診受診者名簿（61～80） '!AH11)","v":""},{"$f":"IF(ISBLANK('胃がん検診受診者名簿（61～80） '!AI11),\"\",'胃がん検診受診者名簿（61～80） '!AI11)","v":""},null,{"$f":"IF(ISBLANK('胃がん検診受診者名簿（61～80） '!AK11),\"\",'胃がん検診受診者名簿（61～80） '!AK11)","v":""},{"$f":"IF(ISBLANK('胃がん検診受診者名簿（61～80） '!AL11),\"\",'胃がん検診受診者名簿（61～80） '!AL11)","v":""},{"$f":"IF(ISBLANK('胃がん検診受診者名簿（61～80） '!AM11),\"\",'胃がん検診受診者名簿（61～80） '!AM11)","v":""},null,null,62,{"$f":"IF(ISBLANK('胃がん検診受診者名簿（61～80） '!AQ11),\"\",'胃がん検診受診者名簿（61～80） '!AQ11)","v":""},{"$f":"IF(ISBLANK('胃がん検診受診者名簿（61～80） '!AR11),\"\",'胃がん検診受診者名簿（61～80） '!AR11)","v":""},{"$f":"IF(ISBLANK('胃がん検診受診者名簿（61～80） '!AS11),\"\",'胃がん検診受診者名簿（61～80） '!AS11)","v":""},{"$f":"IF(ISBLANK('胃がん検診受診者名簿（61～80） '!AT11),\"\",'胃がん検診受診者名簿（61～80） '!AT11)","v":""},{"$f":"IF(ISBLANK('胃がん検診受診者名簿（61～80） '!AU11),\"\",'胃がん検診受診者名簿（61～80） '!AU11)","v":""},{"$f":"IF(ISBLANK('胃がん検診受診者名簿（61～80） '!AV11),\"\",'胃がん検診受診者名簿（61～80） '!AV11)","v":""},null,null,null,null,null,{"$f":"IF(ISBLANK('胃がん検診受診者名簿（61～80） '!BB11),\"\",'胃がん検診受診者名簿（61～80） '!BB11)","v":""},{"$f":"IF(ISBLANK('胃がん検診受診者名簿（61～80） '!BC11),\"\",'胃がん検診受診者名簿（61～80） '!BC11)","v":""},null,{"$f":"IF(ISBLANK('胃がん検診受診者名簿（61～80） '!BE11),\"\",'胃がん検診受診者名簿（61～80） '!BE11)","v":""},{"$f":"IF(ISBLANK('胃がん検診受診者名簿（61～80） '!BF11),\"\",'胃がん検診受診者名簿（61～80） '!BF11)","v":""},{"$f":"IF(ISBLANK('胃がん検診受診者名簿（61～80） '!BG11),\"\",'胃がん検診受診者名簿（61～80） '!BG11)","v":""}]
[63,null,null,null,null,null,null,null,false,false,null,null,{"$f":"IF(L12=1,\"胃がんなし\",IF(L12=2,\"胃がん疑い\",IF(L12=3,\"胃がんあり\",IF(L12=4,\"胃がん以外の悪性病変\",\"\"))))","v":""},null,null,"",null,null,null,null,null,63,{"$f":"IF(ISBLANK('胃がん検診受診者名簿（61～80） '!B12),\"\",'胃がん検診受診者名簿（61～80） '!B12)","v":""},{"$f":"IF(ISBLANK('胃がん検診受診者名簿（61～80） '!C12),\"\",'胃がん検診受診者名簿（61～80） '!C12)","v":""},null,{"$f":"IF(ISBLANK('胃がん検診受診者名簿（61～80） '!E12),\"\",'胃がん検診受診者名簿（61～80） '!E12)","v":""},{"$f":"IF(ISBLANK('胃がん検診受診者名簿（61～80） '!F12),\"\",'胃がん検診受診者名簿（61～80） '!F12)","v":""},null,null,null,null,null,null,{"$f":"IF(ISBLANK('胃がん検診受診者名簿（61～80） '!M12),\"\",'胃がん検診受診者名簿（61～80） '!M12)","v":""},null,null,{"$f":"IF(ISBLANK('胃がん検診受診者名簿（61～80） '!P12),\"\",'胃がん検診受診者名簿（61～80） '!P12)","v":""},null,{"$f":"IF(ISBLANK('胃がん検診受診者名簿（61～80） '!R12),\"\",'胃がん検診受診者名簿（61～80） '!R12)","v":""},null,null,63,{"$f":"IF(ISBLANK('胃がん検診受診者名簿（61～80） '!W12),\"\",'胃がん検診受診者名簿（61～80） '!W12)","v":""},{"$f":"IF(ISBLANK('胃がん検診受診者名簿（61～80） '!X12),\"\",'胃がん検診受診者名簿（61～80） '!X12)","v":""},{"$f":"IF(ISBLANK('胃がん検診受診者名簿（61～80） '!Y12),\"\",'胃がん検診受診者名簿（61～80） '!Y12)","v":""},{"$f":"IF(ISBLANK('胃がん検診受診者名簿（61～80） '!Z12),\"\",'胃がん検診受診者名簿（61～80） '!Z12)","v":""},{"$f":"IF(ISBLANK('胃がん検診受診者名簿（61～80） '!AA12),\"\",'胃がん検診受診者名簿（61～80） '!AA12)","v":""},{"$f":"IF(ISBLANK('胃がん検診受診者名簿（61～80） '!AB12),\"\",'胃がん検診受診者名簿（61～80） '!AB12)","v":""},null,null,null,null,null,{"$f":"IF(ISBLANK('胃がん検診受診者名簿（61～80） '!AH12),\"\",'胃がん検診受診者名簿（61～80） '!AH12)","v":""},{"$f":"IF(ISBLANK('胃がん検診受診者名簿（61～80） '!AI12),\"\",'胃がん検診受診者名簿（61～80） '!AI12)","v":""},null,{"$f":"IF(ISBLANK('胃がん検診受診者名簿（61～80） '!AK12),\"\",'胃がん検診受診者名簿（61～80） '!AK12)","v":""},{"$f":"IF(ISBLANK('胃がん検診受診者名簿（61～80） '!AL12),\"\",'胃がん検診受診者名簿（61～80） '!AL12)","v":""},{"$f":"IF(ISBLANK('胃がん検診受診者名簿（61～80） '!AM12),\"\",'胃がん検診受診者名簿（61～80） '!AM12)","v":""},null,null,63,{"$f":"IF(ISBLANK('胃がん検診受診者名簿（61～80） '!AQ12),\"\",'胃がん検診受診者名簿（61～80） '!AQ12)","v":""},{"$f":"IF(ISBLANK('胃がん検診受診者名簿（61～80） '!AR12),\"\",'胃がん検診受診者名簿（61～80） '!AR12)","v":""},{"$f":"IF(ISBLANK('胃がん検診受診者名簿（61～80） '!AS12),\"\",'胃がん検診受診者名簿（61～80） '!AS12)","v":""},{"$f":"IF(ISBLANK('胃がん検診受診者名簿（61～80） '!AT12),\"\",'胃がん検診受診者名簿（61～80） '!AT12)","v":""},{"$f":"IF(ISBLANK('胃がん検診受診者名簿（61～80） '!AU12),\"\",'胃がん検診受診者名簿（61～80） '!AU12)","v":""},{"$f":"IF(ISBLANK('胃がん検診受診者名簿（61～80） '!AV12),\"\",'胃がん検診受診者名簿（61～80） '!AV12)","v":""},null,null,null,null,null,{"$f":"IF(ISBLANK('胃がん検診受診者名簿（61～80） '!BB12),\"\",'胃がん検診受診者名簿（61～80） '!BB12)","v":""},{"$f":"IF(ISBLANK('胃がん検診受診者名簿（61～80） '!BC12),\"\",'胃がん検診受診者名簿（61～80） '!BC12)","v":""},null,{"$f":"IF(ISBLANK('胃がん検診受診者名簿（61～80） '!BE12),\"\",'胃がん検診受診者名簿（61～80） '!BE12)","v":""},{"$f":"IF(ISBLANK('胃がん検診受診者名簿（61～80） '!BF12),\"\",'胃がん検診受診者名簿（61～80） '!BF12)","v":""},{"$f":"IF(ISBLANK('胃がん検診受診者名簿（61～80） '!BG12),\"\",'胃がん検診受診者名簿（61～80） '!BG12)","v":""}]
[64,null,null,null,null,null,null,false,false,false,null,null,"",null,null,"",null,null,null,null,null,64,{"$f":"IF(ISBLANK('胃がん検診受診者名簿（61～80） '!B13),\"\",'胃がん検診受診者名簿（61～80） '!B13)","v":""},{"$f":"IF(ISBLANK('胃がん検診受診者名簿（61～80） '!C13),\"\",'胃がん検診受診者名簿（61～80） '!C13)","v":""},null,{"$f":"IF(ISBLANK('胃がん検診受診者名簿（61～80） '!E13),\"\",'胃がん検診受診者名簿（61～80） '!E13)","v":""},{"$f":"IF(ISBLANK('胃がん検診受診者名簿（61～80） '!F13),\"\",'胃がん検診受診者名簿（61～80） '!F13)","v":""},null,null,null,null,null,null,{"$f":"IF(ISBLANK('胃がん検診受診者名簿（61～80） '!M13),\"\",'胃がん検診受診者名簿（61～80） '!M13)","v":""},null,null,{"$f":"IF(ISBLANK('胃がん検診受診者名簿（61～80） '!P13),\"\",'胃がん検診受診者名簿（61～80） '!P13)","v":""},null,{"$f":"IF(ISBLANK('胃がん検診受診者名簿（61～80） '!R13),\"\",'胃がん検診受診者名簿（61～80） '!R13)","v":""},null,null,64,{"$f":"IF(ISBLANK('胃がん検診受診者名簿（61～80） '!W13),\"\",'胃がん検診受診者名簿（61～80） '!W13)","v":""},{"$f":"IF(ISBLANK('胃がん検診受診者名簿（61～80） '!X13),\"\",'胃がん検診受診者名簿（61～80） '!X13)","v":""},{"$f":"IF(ISBLANK('胃がん検診受診者名簿（61～80） '!Y13),\"\",'胃がん検診受診者名簿（61～80） '!Y13)","v":""},{"$f":"IF(ISBLANK('胃がん検診受診者名簿（61～80） '!Z13),\"\",'胃がん検診受診者名簿（61～80） '!Z13)","v":""},{"$f":"IF(ISBLANK('胃がん検診受診者名簿（61～80） '!AA13),\"\",'胃がん検診受診者名簿（61～80） '!AA13)","v":""},{"$f":"IF(ISBLANK('胃がん検診受診者名簿（61～80） '!AB13),\"\",'胃がん検診受診者名簿（61～80） '!AB13)","v":""},null,null,null,null,null,{"$f":"IF(ISBLANK('胃がん検診受診者名簿（61～80） '!AH13),\"\",'胃がん検診受診者名簿（61～80） '!AH13)","v":""},{"$f":"IF(ISBLANK('胃がん検診受診者名簿（61～80） '!AI13),\"\",'胃がん検診受診者名簿（61～80） '!AI13)","v":""},null,{"$f":"IF(ISBLANK('胃がん検診受診者名簿（61～80） '!AK13),\"\",'胃がん検診受診者名簿（61～80） '!AK13)","v":""},{"$f":"IF(ISBLANK('胃がん検診受診者名簿（61～80） '!AL13),\"\",'胃がん検診受診者名簿（61～80） '!AL13)","v":""},{"$f":"IF(ISBLANK('胃がん検診受診者名簿（61～80） '!AM13),\"\",'胃がん検診受診者名簿（61～80） '!AM13)","v":""},null,null,64,{"$f":"IF(ISBLANK('胃がん検診受診者名簿（61～80） '!AQ13),\"\",'胃がん検診受診者名簿（61～80） '!AQ13)","v":""},{"$f":"IF(ISBLANK('胃がん検診受診者名簿（61～80） '!AR13),\"\",'胃がん検診受診者名簿（61～80） '!AR13)","v":""},{"$f":"IF(ISBLANK('胃がん検診受診者名簿（61～80） '!AS13),\"\",'胃がん検診受診者名簿（61～80） '!AS13)","v":""},{"$f":"IF(ISBLANK('胃がん検診受診者名簿（61～80） '!AT13),\"\",'胃がん検診受診者名簿（61～80） '!AT13)","v":""},{"$f":"IF(ISBLANK('胃がん検診受診者名簿（61～80） '!AU13),\"\",'胃がん検診受診者名簿（61～80） '!AU13)","v":""},{"$f":"IF(ISBLANK('胃がん検診受診者名簿（61～80） '!AV13),\"\",'胃がん検診受診者名簿（61～80） '!AV13)","v":""},null,null,null,null,null,{"$f":"IF(ISBLANK('胃がん検診受診者名簿（61～80） '!BB13),\"\",'胃がん検診受診者名簿（61～80） '!BB13)","v":""},{"$f":"IF(ISBLANK('胃がん検診受診者名簿（61～80） '!BC13),\"\",'胃がん検診受診者名簿（61～80） '!BC13)","v":""},null,{"$f":"IF(ISBLANK('胃がん検診受診者名簿（61～80） '!BE13),\"\",'胃がん検診受診者名簿（61～80） '!BE13)","v":""},{"$f":"IF(ISBLANK('胃がん検診受診者名簿（61～80） '!BF13),\"\",'胃がん検診受診者名簿（61～80） '!BF13)","v":""},{"$f":"IF(ISBLANK('胃がん検診受診者名簿（61～80） '!BG13),\"\",'胃がん検診受診者名簿（61～80） '!BG13)","v":""}]
[65,null,null,null,null,null,null,null,false,null,null,null,"",null,null,"",null,null,null,null,null,65,{"$f":"IF(ISBLANK('胃がん検診受診者名簿（61～80） '!B14),\"\",'胃がん検診受診者名簿（61～80） '!B14)","v":""},{"$f":"IF(ISBLANK('胃がん検診受診者名簿（61～80） '!C14),\"\",'胃がん検診受診者名簿（61～80） '!C14)","v":""},null,{"$f":"IF(ISBLANK('胃がん検診受診者名簿（61～80） '!E14),\"\",'胃がん検診受診者名簿（61～80） '!E14)","v":""},{"$f":"IF(ISBLANK('胃がん検診受診者名簿（61～80） '!F14),\"\",'胃がん検診受診者名簿（61～80） '!F14)","v":""},null,null,null,null,null,null,{"$f":"IF(ISBLANK('胃がん検診受診者名簿（61～80） '!M14),\"\",'胃がん検診受診者名簿（61～80） '!M14)","v":""},null,null,{"$f":"IF(ISBLANK('胃がん検診受診者名簿（61～80） '!P14),\"\",'胃がん検診受診者名簿（61～80） '!P14)","v":""},null,{"$f":"IF(ISBLANK('胃がん検診受診者名簿（61～80） '!R14),\"\",'胃がん検診受診者名簿（61～80） '!R14)","v":""},null,null,65,{"$f":"IF(ISBLANK('胃がん検診受診者名簿（61～80） '!W14),\"\",'胃がん検診受診者名簿（61～80） '!W14)","v":""},{"$f":"IF(ISBLANK('胃がん検診受診者名簿（61～80） '!X14),\"\",'胃がん検診受診者名簿（61～80） '!X14)","v":""},{"$f":"IF(ISBLANK('胃がん検診受診者名簿（61～80） '!Y14),\"\",'胃がん検診受診者名簿（61～80） '!Y14)","v":""},{"$f":"IF(ISBLANK('胃がん検診受診者名簿（61～80） '!Z14),\"\",'胃がん検診受診者名簿（61～80） '!Z14)","v":""},{"$f":"IF(ISBLANK('胃がん検診受診者名簿（61～80） '!AA14),\"\",'胃がん検診受診者名簿（61～80） '!AA14)","v":""},{"$f":"IF(ISBLANK('胃がん検診受診者名簿（61～80） '!AB14),\"\",'胃がん検診受診者名簿（61～80） '!AB14)","v":""},null,null,null,null,null,{"$f":"IF(ISBLANK('胃がん検診受診者名簿（61～80） '!AH14),\"\",'胃がん検診受診者名簿（61～80） '!AH14)","v":""},{"$f":"IF(ISBLANK('胃がん検診受診者名簿（61～80） '!AI14),\"\",'胃がん検診受診者名簿（61～80） '!AI14)","v":""},null,{"$f":"IF(ISBLANK('胃がん検診受診者名簿（61～80） '!AK14),\"\",'胃がん検診受診者名簿（61～80） '!AK14)","v":""},{"$f":"IF(ISBLANK('胃がん検診受診者名簿（61～80） '!AL14),\"\",'胃がん検診受診者名簿（61～80） '!AL14)","v":""},{"$f":"IF(ISBLANK('胃がん検診受診者名簿（61～80） '!AM14),\"\",'胃がん検診受診者名簿（61～80） '!AM14)","v":""},null,null,65,{"$f":"IF(ISBLANK('胃がん検診受診者名簿（61～80） '!AQ14),\"\",'胃がん検診受診者名簿（61～80） '!AQ14)","v":""},{"$f":"IF(ISBLANK('胃がん検診受診者名簿（61～80） '!AR14),\"\",'胃がん検診受診者名簿（61～80） '!AR14)","v":""},{"$f":"IF(ISBLANK('胃がん検診受診者名簿（61～80） '!AS14),\"\",'胃がん検診受診者名簿（61～80） '!AS14)","v":""},{"$f":"IF(ISBLANK('胃がん検診受診者名簿（61～80） '!AT14),\"\",'胃がん検診受診者名簿（61～80） '!AT14)","v":""},{"$f":"IF(ISBLANK('胃がん検診受診者名簿（61～80） '!AU14),\"\",'胃がん検診受診者名簿（61～80） '!AU14)","v":""},{"$f":"IF(ISBLANK('胃がん検診受診者名簿（61～80） '!AV14),\"\",'胃がん検診受診者名簿（61～80） '!AV14)","v":""},null,null,null,null,null,{"$f":"IF(ISBLANK('胃がん検診受診者名簿（61～80） '!BB14),\"\",'胃がん検診受診者名簿（61～80） '!BB14)","v":""},{"$f":"IF(ISBLANK('胃がん検診受診者名簿（61～80） '!BC14),\"\",'胃がん検診受診者名簿（61～80） '!BC14)","v":""},null,{"$f":"IF(ISBLANK('胃がん検診受診者名簿（61～80） '!BE14),\"\",'胃がん検診受診者名簿（61～80） '!BE14)","v":""},{"$f":"IF(ISBLANK('胃がん検診受診者名簿（61～80） '!BF14),\"\",'胃がん検診受診者名簿（61～80） '!BF14)","v":""},{"$f":"IF(ISBLANK('胃がん検診受診者名簿（61～80） '!BG14),\"\",'胃がん検診受診者名簿（61～80） '!BG14)","v":""}]
[66,null,null,null,null,null,null,false,null,null,null,null,"",null,null,"",null,null,null,null,null,66,{"$f":"IF(ISBLANK('胃がん検診受診者名簿（61～80） '!B15),\"\",'胃がん検診受診者名簿（61～80） '!B15)","v":""},{"$f":"IF(ISBLANK('胃がん検診受診者名簿（61～80） '!C15),\"\",'胃がん検診受診者名簿（61～80） '!C15)","v":""},null,{"$f":"IF(ISBLANK('胃がん検診受診者名簿（61～80） '!E15),\"\",'胃がん検診受診者名簿（61～80） '!E15)","v":""},{"$f":"IF(ISBLANK('胃がん検診受診者名簿（61～80） '!F15),\"\",'胃がん検診受診者名簿（61～80） '!F15)","v":""},null,null,null,null,null,null,{"$f":"IF(ISBLANK('胃がん検診受診者名簿（61～80） '!M15),\"\",'胃がん検診受診者名簿（61～80） '!M15)","v":""},null,null,{"$f":"IF(ISBLANK('胃がん検診受診者名簿（61～80） '!P15),\"\",'胃がん検診受診者名簿（61～80） '!P15)","v":""},null,{"$f":"IF(ISBLANK('胃がん検診受診者名簿（61～80） '!R15),\"\",'胃がん検診受診者名簿（61～80） '!R15)","v":""},null,null,66,{"$f":"IF(ISBLANK('胃がん検診受診者名簿（61～80） '!W15),\"\",'胃がん検診受診者名簿（61～80） '!W15)","v":""},{"$f":"IF(ISBLANK('胃がん検診受診者名簿（61～80） '!X15),\"\",'胃がん検診受診者名簿（61～80） '!X15)","v":""},{"$f":"IF(ISBLANK('胃がん検診受診者名簿（61～80） '!Y15),\"\",'胃がん検診受診者名簿（61～80） '!Y15)","v":""},{"$f":"IF(ISBLANK('胃がん検診受診者名簿（61～80） '!Z15),\"\",'胃がん検診受診者名簿（61～80） '!Z15)","v":""},{"$f":"IF(ISBLANK('胃がん検診受診者名簿（61～80） '!AA15),\"\",'胃がん検診受診者名簿（61～80） '!AA15)","v":""},{"$f":"IF(ISBLANK('胃がん検診受診者名簿（61～80） '!AB15),\"\",'胃がん検診受診者名簿（61～80） '!AB15)","v":""},null,null,null,null,null,{"$f":"IF(ISBLANK('胃がん検診受診者名簿（61～80） '!AH15),\"\",'胃がん検診受診者名簿（61～80） '!AH15)","v":""},{"$f":"IF(ISBLANK('胃がん検診受診者名簿（61～80） '!AI15),\"\",'胃がん検診受診者名簿（61～80） '!AI15)","v":""},null,{"$f":"IF(ISBLANK('胃がん検診受診者名簿（61～80） '!AK15),\"\",'胃がん検診受診者名簿（61～80） '!AK15)","v":""},{"$f":"IF(ISBLANK('胃がん検診受診者名簿（61～80） '!AL15),\"\",'胃がん検診受診者名簿（61～80） '!AL15)","v":""},{"$f":"IF(ISBLANK('胃がん検診受診者名簿（61～80） '!AM15),\"\",'胃がん検診受診者名簿（61～80） '!AM15)","v":""},null,null,66,{"$f":"IF(ISBLANK('胃がん検診受診者名簿（61～80） '!AQ15),\"\",'胃がん検診受診者名簿（61～80） '!AQ15)","v":""},{"$f":"IF(ISBLANK('胃がん検診受診者名簿（61～80） '!AR15),\"\",'胃がん検診受診者名簿（61～80） '!AR15)","v":""},{"$f":"IF(ISBLANK('胃がん検診受診者名簿（61～80） '!AS15),\"\",'胃がん検診受診者名簿（61～80） '!AS15)","v":""},{"$f":"IF(ISBLANK('胃がん検診受診者名簿（61～80） '!AT15),\"\",'胃がん検診受診者名簿（61～80） '!AT15)","v":""},{"$f":"IF(ISBLANK('胃がん検診受診者名簿（61～80） '!AU15),\"\",'胃がん検診受診者名簿（61～80） '!AU15)","v":""},{"$f":"IF(ISBLANK('胃がん検診受診者名簿（61～80） '!AV15),\"\",'胃がん検診受診者名簿（61～80） '!AV15)","v":""},null,null,null,null,null,{"$f":"IF(ISBLANK('胃がん検診受診者名簿（61～80） '!BB15),\"\",'胃がん検診受診者名簿（61～80） '!BB15)","v":""},{"$f":"IF(ISBLANK('胃がん検診受診者名簿（61～80） '!BC15),\"\",'胃がん検診受診者名簿（61～80） '!BC15)","v":""},null,{"$f":"IF(ISBLANK('胃がん検診受診者名簿（61～80） '!BE15),\"\",'胃がん検診受診者名簿（61～80） '!BE15)","v":""},{"$f":"IF(ISBLANK('胃がん検診受診者名簿（61～80） '!BF15),\"\",'胃がん検診受診者名簿（61～80） '!BF15)","v":""},{"$f":"IF(ISBLANK('胃がん検診受診者名簿（61～80） '!BG15),\"\",'胃がん検診受診者名簿（61～80） '!BG15)","v":""}]
[67,null,null,null,null,null,null,null,null,null,null,null,"",null,null,"",null,null,null,null,null,67,{"$f":"IF(ISBLANK('胃がん検診受診者名簿（61～80） '!B16),\"\",'胃がん検診受診者名簿（61～80） '!B16)","v":""},{"$f":"IF(ISBLANK('胃がん検診受診者名簿（61～80） '!C16),\"\",'胃がん検診受診者名簿（61～80） '!C16)","v":""},null,{"$f":"IF(ISBLANK('胃がん検診受診者名簿（61～80） '!E16),\"\",'胃がん検診受診者名簿（61～80） '!E16)","v":""},{"$f":"IF(ISBLANK('胃がん検診受診者名簿（61～80） '!F16),\"\",'胃がん検診受診者名簿（61～80） '!F16)","v":""},null,null,null,null,null,null,{"$f":"IF(ISBLANK('胃がん検診受診者名簿（61～80） '!M16),\"\",'胃がん検診受診者名簿（61～80） '!M16)","v":""},null,null,{"$f":"IF(ISBLANK('胃がん検診受診者名簿（61～80） '!P16),\"\",'胃がん検診受診者名簿（61～80） '!P16)","v":""},null,{"$f":"IF(ISBLANK('胃がん検診受診者名簿（61～80） '!R16),\"\",'胃がん検診受診者名簿（61～80） '!R16)","v":""},null,null,67,{"$f":"IF(ISBLANK('胃がん検診受診者名簿（61～80） '!W16),\"\",'胃がん検診受診者名簿（61～80） '!W16)","v":""},{"$f":"IF(ISBLANK('胃がん検診受診者名簿（61～80） '!X16),\"\",'胃がん検診受診者名簿（61～80） '!X16)","v":""},{"$f":"IF(ISBLANK('胃がん検診受診者名簿（61～80） '!Y16),\"\",'胃がん検診受診者名簿（61～80） '!Y16)","v":""},{"$f":"IF(ISBLANK('胃がん検診受診者名簿（61～80） '!Z16),\"\",'胃がん検診受診者名簿（61～80） '!Z16)","v":""},{"$f":"IF(ISBLANK('胃がん検診受診者名簿（61～80） '!AA16),\"\",'胃がん検診受診者名簿（61～80） '!AA16)","v":""},{"$f":"IF(ISBLANK('胃がん検診受診者名簿（61～80） '!AB16),\"\",'胃がん検診受診者名簿（61～80） '!AB16)","v":""},null,null,null,null,null,{"$f":"IF(ISBLANK('胃がん検診受診者名簿（61～80） '!AH16),\"\",'胃がん検診受診者名簿（61～80） '!AH16)","v":""},{"$f":"IF(ISBLANK('胃がん検診受診者名簿（61～80） '!AI16),\"\",'胃がん検診受診者名簿（61～80） '!AI16)","v":""},null,{"$f":"IF(ISBLANK('胃がん検診受診者名簿（61～80） '!AK16),\"\",'胃がん検診受診者名簿（61～80） '!AK16)","v":""},{"$f":"IF(ISBLANK('胃がん検診受診者名簿（61～80） '!AL16),\"\",'胃がん検診受診者名簿（61～80） '!AL16)","v":""},{"$f":"IF(ISBLANK('胃がん検診受診者名簿（61～80） '!AM16),\"\",'胃がん検診受診者名簿（61～80） '!AM16)","v":""},null,null,67,{"$f":"IF(ISBLANK('胃がん検診受診者名簿（61～80） '!AQ16),\"\",'胃がん検診受診者名簿（61～80） '!AQ16)","v":""},{"$f":"IF(ISBLANK('胃がん検診受診者名簿（61～80） '!AR16),\"\",'胃がん検診受診者名簿（61～80） '!AR16)","v":""},{"$f":"IF(ISBLANK('胃がん検診受診者名簿（61～80） '!AS16),\"\",'胃がん検診受診者名簿（61～80） '!AS16)","v":""},{"$f":"IF(ISBLANK('胃がん検診受診者名簿（61～80） '!AT16),\"\",'胃がん検診受診者名簿（61～80） '!AT16)","v":""},{"$f":"IF(ISBLANK('胃がん検診受診者名簿（61～80） '!AU16),\"\",'胃がん検診受診者名簿（61～80） '!AU16)","v":""},{"$f":"IF(ISBLANK('胃がん検診受診者名簿（61～80） '!AV16),\"\",'胃がん検診受診者名簿（61～80） '!AV16)","v":""},null,null,null,null,null,{"$f":"IF(ISBLANK('胃がん検診受診者名簿（61～80） '!BB16),\"\",'胃がん検診受診者名簿（61～80） '!BB16)","v":""},{"$f":"IF(ISBLANK('胃がん検診受診者名簿（61～80） '!BC16),\"\",'胃がん検診受診者名簿（61～80） '!BC16)","v":""},null,{"$f":"IF(ISBLANK('胃がん検診受診者名簿（61～80） '!BE16),\"\",'胃がん検診受診者名簿（61～80） '!BE16)","v":""},{"$f":"IF(ISBLANK('胃がん検診受診者名簿（61～80） '!BF16),\"\",'胃がん検診受診者名簿（61～80） '!BF16)","v":""},{"$f":"IF(ISBLANK('胃がん検診受診者名簿（61～80） '!BG16),\"\",'胃がん検診受診者名簿（61～80） '!BG16)","v":""}]
[68,null,null,null,null,null,null,false,false,false,null,null,"",null,null,"",null,null,null,null,null,68,{"$f":"IF(ISBLANK('胃がん検診受診者名簿（61～80） '!B17),\"\",'胃がん検診受診者名簿（61～80） '!B17)","v":""},{"$f":"IF(ISBLANK('胃がん検診受診者名簿（61～80） '!C17),\"\",'胃がん検診受診者名簿（61～80） '!C17)","v":""},null,{"$f":"IF(ISBLANK('胃がん検診受診者名簿（61～80） '!E17),\"\",'胃がん検診受診者名簿（61～80） '!E17)","v":""},{"$f":"IF(ISBLANK('胃がん検診受診者名簿（61～80） '!F17),\"\",'胃がん検診受診者名簿（61～80） '!F17)","v":""},null,null,null,null,null,null,{"$f":"IF(ISBLANK('胃がん検診受診者名簿（61～80） '!M17),\"\",'胃がん検診受診者名簿（61～80） '!M17)","v":""},null,null,{"$f":"IF(ISBLANK('胃がん検診受診者名簿（61～80） '!P17),\"\",'胃がん検診受診者名簿（61～80） '!P17)","v":""},null,{"$f":"IF(ISBLANK('胃がん検診受診者名簿（61～80） '!R17),\"\",'胃がん検診受診者名簿（61～80） '!R17)","v":""},null,null,68,{"$f":"IF(ISBLANK('胃がん検診受診者名簿（61～80） '!W17),\"\",'胃がん検診受診者名簿（61～80） '!W17)","v":""},{"$f":"IF(ISBLANK('胃がん検診受診者名簿（61～80） '!X17),\"\",'胃がん検診受診者名簿（61～80） '!X17)","v":""},{"$f":"IF(ISBLANK('胃がん検診受診者名簿（61～80） '!Y17),\"\",'胃がん検診受診者名簿（61～80） '!Y17)","v":""},{"$f":"IF(ISBLANK('胃がん検診受診者名簿（61～80） '!Z17),\"\",'胃がん検診受診者名簿（61～80） '!Z17)","v":""},{"$f":"IF(ISBLANK('胃がん検診受診者名簿（61～80） '!AA17),\"\",'胃がん検診受診者名簿（61～80） '!AA17)","v":""},{"$f":"IF(ISBLANK('胃がん検診受診者名簿（61～80） '!AB17),\"\",'胃がん検診受診者名簿（61～80） '!AB17)","v":""},null,null,null,null,null,{"$f":"IF(ISBLANK('胃がん検診受診者名簿（61～80） '!AH17),\"\",'胃がん検診受診者名簿（61～80） '!AH17)","v":""},{"$f":"IF(ISBLANK('胃がん検診受診者名簿（61～80） '!AI17),\"\",'胃がん検診受診者名簿（61～80） '!AI17)","v":""},null,{"$f":"IF(ISBLANK('胃がん検診受診者名簿（61～80） '!AK17),\"\",'胃がん検診受診者名簿（61～80） '!AK17)","v":""},{"$f":"IF(ISBLANK('胃がん検診受診者名簿（61～80） '!AL17),\"\",'胃がん検診受診者名簿（61～80） '!AL17)","v":""},{"$f":"IF(ISBLANK('胃がん検診受診者名簿（61～80） '!AM17),\"\",'胃がん検診受診者名簿（61～80） '!AM17)","v":""},null,null,68,{"$f":"IF(ISBLANK('胃がん検診受診者名簿（61～80） '!AQ17),\"\",'胃がん検診受診者名簿（61～80） '!AQ17)","v":""},{"$f":"IF(ISBLANK('胃がん検診受診者名簿（61～80） '!AR17),\"\",'胃がん検診受診者名簿（61～80） '!AR17)","v":""},{"$f":"IF(ISBLANK('胃がん検診受診者名簿（61～80） '!AS17),\"\",'胃がん検診受診者名簿（61～80） '!AS17)","v":""},{"$f":"IF(ISBLANK('胃がん検診受診者名簿（61～80） '!AT17),\"\",'胃がん検診受診者名簿（61～80） '!AT17)","v":""},{"$f":"IF(ISBLANK('胃がん検診受診者名簿（61～80） '!AU17),\"\",'胃がん検診受診者名簿（61～80） '!AU17)","v":""},{"$f":"IF(ISBLANK('胃がん検診受診者名簿（61～80） '!AV17),\"\",'胃がん検診受診者名簿（61～80） '!AV17)","v":""},null,null,null,null,null,{"$f":"IF(ISBLANK('胃がん検診受診者名簿（61～80） '!BB17),\"\",'胃がん検診受診者名簿（61～80） '!BB17)","v":""},{"$f":"IF(ISBLANK('胃がん検診受診者名簿（61～80） '!BC17),\"\",'胃がん検診受診者名簿（61～80） '!BC17)","v":""},null,{"$f":"IF(ISBLANK('胃がん検診受診者名簿（61～80） '!BE17),\"\",'胃がん検診受診者名簿（61～80） '!BE17)","v":""},{"$f":"IF(ISBLANK('胃がん検診受診者名簿（61～80） '!BF17),\"\",'胃がん検診受診者名簿（61～80） '!BF17)","v":""},{"$f":"IF(ISBLANK('胃がん検診受診者名簿（61～80） '!BG17),\"\",'胃がん検診受診者名簿（61～80） '!BG17)","v":""}]
[69,null,null,null,null,null,null,false,false,false,null,null,"",null,null,"",null,null,null,null,null,69,{"$f":"IF(ISBLANK('胃がん検診受診者名簿（61～80） '!B18),\"\",'胃がん検診受診者名簿（61～80） '!B18)","v":""},{"$f":"IF(ISBLANK('胃がん検診受診者名簿（61～80） '!C18),\"\",'胃がん検診受診者名簿（61～80） '!C18)","v":""},null,{"$f":"IF(ISBLANK('胃がん検診受診者名簿（61～80） '!E18),\"\",'胃がん検診受診者名簿（61～80） '!E18)","v":""},{"$f":"IF(ISBLANK('胃がん検診受診者名簿（61～80） '!F18),\"\",'胃がん検診受診者名簿（61～80） '!F18)","v":""},null,null,null,null,null,null,{"$f":"IF(ISBLANK('胃がん検診受診者名簿（61～80） '!M18),\"\",'胃がん検診受診者名簿（61～80） '!M18)","v":""},null,null,{"$f":"IF(ISBLANK('胃がん検診受診者名簿（61～80） '!P18),\"\",'胃がん検診受診者名簿（61～80） '!P18)","v":""},null,{"$f":"IF(ISBLANK('胃がん検診受診者名簿（61～80） '!R18),\"\",'胃がん検診受診者名簿（61～80） '!R18)","v":""},null,null,69,{"$f":"IF(ISBLANK('胃がん検診受診者名簿（61～80） '!W18),\"\",'胃がん検診受診者名簿（61～80） '!W18)","v":""},{"$f":"IF(ISBLANK('胃がん検診受診者名簿（61～80） '!X18),\"\",'胃がん検診受診者名簿（61～80） '!X18)","v":""},{"$f":"IF(ISBLANK('胃がん検診受診者名簿（61～80） '!Y18),\"\",'胃がん検診受診者名簿（61～80） '!Y18)","v":""},{"$f":"IF(ISBLANK('胃がん検診受診者名簿（61～80） '!Z18),\"\",'胃がん検診受診者名簿（61～80） '!Z18)","v":""},{"$f":"IF(ISBLANK('胃がん検診受診者名簿（61～80） '!AA18),\"\",'胃がん検診受診者名簿（61～80） '!AA18)","v":""},{"$f":"IF(ISBLANK('胃がん検診受診者名簿（61～80） '!AB18),\"\",'胃がん検診受診者名簿（61～80） '!AB18)","v":""},null,null,null,null,null,{"$f":"IF(ISBLANK('胃がん検診受診者名簿（61～80） '!AH18),\"\",'胃がん検診受診者名簿（61～80） '!AH18)","v":""},{"$f":"IF(ISBLANK('胃がん検診受診者名簿（61～80） '!AI18),\"\",'胃がん検診受診者名簿（61～80） '!AI18)","v":""},null,{"$f":"IF(ISBLANK('胃がん検診受診者名簿（61～80） '!AK18),\"\",'胃がん検診受診者名簿（61～80） '!AK18)","v":""},{"$f":"IF(ISBLANK('胃がん検診受診者名簿（61～80） '!AL18),\"\",'胃がん検診受診者名簿（61～80） '!AL18)","v":""},{"$f":"IF(ISBLANK('胃がん検診受診者名簿（61～80） '!AM18),\"\",'胃がん検診受診者名簿（61～80） '!AM18)","v":""},null,null,69,{"$f":"IF(ISBLANK('胃がん検診受診者名簿（61～80） '!AQ18),\"\",'胃がん検診受診者名簿（61～80） '!AQ18)","v":""},{"$f":"IF(ISBLANK('胃がん検診受診者名簿（61～80） '!AR18),\"\",'胃がん検診受診者名簿（61～80） '!AR18)","v":""},{"$f":"IF(ISBLANK('胃がん検診受診者名簿（61～80） '!AS18),\"\",'胃がん検診受診者名簿（61～80） '!AS18)","v":""},{"$f":"IF(ISBLANK('胃がん検診受診者名簿（61～80） '!AT18),\"\",'胃がん検診受診者名簿（61～80） '!AT18)","v":""},{"$f":"IF(ISBLANK('胃がん検診受診者名簿（61～80） '!AU18),\"\",'胃がん検診受診者名簿（61～80） '!AU18)","v":""},{"$f":"IF(ISBLANK('胃がん検診受診者名簿（61～80） '!AV18),\"\",'胃がん検診受診者名簿（61～80） '!AV18)","v":""},null,null,null,null,null,{"$f":"IF(ISBLANK('胃がん検診受診者名簿（61～80） '!BB18),\"\",'胃がん検診受診者名簿（61～80） '!BB18)","v":""},{"$f":"IF(ISBLANK('胃がん検診受診者名簿（61～80） '!BC18),\"\",'胃がん検診受診者名簿（61～80） '!BC18)","v":""},null,{"$f":"IF(ISBLANK('胃がん検診受診者名簿（61～80） '!BE18),\"\",'胃がん検診受診者名簿（61～80） '!BE18)","v":""},{"$f":"IF(ISBLANK('胃がん検診受診者名簿（61～80） '!BF18),\"\",'胃がん検診受診者名簿（61～80） '!BF18)","v":""},{"$f":"IF(ISBLANK('胃がん検診受診者名簿（61～80） '!BG18),\"\",'胃がん検診受診者名簿（61～80） '!BG18)","v":""}]
[70,null,null,null,null,null,null,false,false,false,null,null,"",null,null,"",null,null,null,null,null,70,{"$f":"IF(ISBLANK('胃がん検診受診者名簿（61～80） '!B19),\"\",'胃がん検診受診者名簿（61～80） '!B19)","v":""},{"$f":"IF(ISBLANK('胃がん検診受診者名簿（61～80） '!C19),\"\",'胃がん検診受診者名簿（61～80） '!C19)","v":""},null,{"$f":"IF(ISBLANK('胃がん検診受診者名簿（61～80） '!E19),\"\",'胃がん検診受診者名簿（61～80） '!E19)","v":""},{"$f":"IF(ISBLANK('胃がん検診受診者名簿（61～80） '!F19),\"\",'胃がん検診受診者名簿（61～80） '!F19)","v":""},null,null,null,null,null,null,{"$f":"IF(ISBLANK('胃がん検診受診者名簿（61～80） '!M19),\"\",'胃がん検診受診者名簿（61～80） '!M19)","v":""},null,null,{"$f":"IF(ISBLANK('胃がん検診受診者名簿（61～80） '!P19),\"\",'胃がん検診受診者名簿（61～80） '!P19)","v":""},null,{"$f":"IF(ISBLANK('胃がん検診受診者名簿（61～80） '!R19),\"\",'胃がん検診受診者名簿（61～80） '!R19)","v":""},null,null,70,{"$f":"IF(ISBLANK('胃がん検診受診者名簿（61～80） '!W19),\"\",'胃がん検診受診者名簿（61～80） '!W19)","v":""},{"$f":"IF(ISBLANK('胃がん検診受診者名簿（61～80） '!X19),\"\",'胃がん検診受診者名簿（61～80） '!X19)","v":""},{"$f":"IF(ISBLANK('胃がん検診受診者名簿（61～80） '!Y19),\"\",'胃がん検診受診者名簿（61～80） '!Y19)","v":""},{"$f":"IF(ISBLANK('胃がん検診受診者名簿（61～80） '!Z19),\"\",'胃がん検診受診者名簿（61～80） '!Z19)","v":""},{"$f":"IF(ISBLANK('胃がん検診受診者名簿（61～80） '!AA19),\"\",'胃がん検診受診者名簿（61～80） '!AA19)","v":""},{"$f":"IF(ISBLANK('胃がん検診受診者名簿（61～80） '!AB19),\"\",'胃がん検診受診者名簿（61～80） '!AB19)","v":""},null,null,null,null,null,{"$f":"IF(ISBLANK('胃がん検診受診者名簿（61～80） '!AH19),\"\",'胃がん検診受診者名簿（61～80） '!AH19)","v":""},{"$f":"IF(ISBLANK('胃がん検診受診者名簿（61～80） '!AI19),\"\",'胃がん検診受診者名簿（61～80） '!AI19)","v":""},null,{"$f":"IF(ISBLANK('胃がん検診受診者名簿（61～80） '!AK19),\"\",'胃がん検診受診者名簿（61～80） '!AK19)","v":""},{"$f":"IF(ISBLANK('胃がん検診受診者名簿（61～80） '!AL19),\"\",'胃がん検診受診者名簿（61～80） '!AL19)","v":""},{"$f":"IF(ISBLANK('胃がん検診受診者名簿（61～80） '!AM19),\"\",'胃がん検診受診者名簿（61～80） '!AM19)","v":""},null,null,70,{"$f":"IF(ISBLANK('胃がん検診受診者名簿（61～80） '!AQ19),\"\",'胃がん検診受診者名簿（61～80） '!AQ19)","v":""},{"$f":"IF(ISBLANK('胃がん検診受診者名簿（61～80） '!AR19),\"\",'胃がん検診受診者名簿（61～80） '!AR19)","v":""},{"$f":"IF(ISBLANK('胃がん検診受診者名簿（61～80） '!AS19),\"\",'胃がん検診受診者名簿（61～80） '!AS19)","v":""},{"$f":"IF(ISBLANK('胃がん検診受診者名簿（61～80） '!AT19),\"\",'胃がん検診受診者名簿（61～80） '!AT19)","v":""},{"$f":"IF(ISBLANK('胃がん検診受診者名簿（61～80） '!AU19),\"\",'胃がん検診受診者名簿（61～80） '!AU19)","v":""},{"$f":"IF(ISBLANK('胃がん検診受診者名簿（61～80） '!AV19),\"\",'胃がん検診受診者名簿（61～80） '!AV19)","v":""},null,null,null,null,null,{"$f":"IF(ISBLANK('胃がん検診受診者名簿（61～80） '!BB19),\"\",'胃がん検診受診者名簿（61～80） '!BB19)","v":""},{"$f":"IF(ISBLANK('胃がん検診受診者名簿（61～80） '!BC19),\"\",'胃がん検診受診者名簿（61～80） '!BC19)","v":""},null,{"$f":"IF(ISBLANK('胃がん検診受診者名簿（61～80） '!BE19),\"\",'胃がん検診受診者名簿（61～80） '!BE19)","v":""},{"$f":"IF(ISBLANK('胃がん検診受診者名簿（61～80） '!BF19),\"\",'胃がん検診受診者名簿（61～80） '!BF19)","v":""},{"$f":"IF(ISBLANK('胃がん検診受診者名簿（61～80） '!BG19),\"\",'胃がん検診受診者名簿（61～80） '!BG19)","v":""}]
[71,null,null,null,null,null,null,false,false,false,null,null,"",null,null,"",null,null,null,null,null,71,{"$f":"IF(ISBLANK('胃がん検診受診者名簿（61～80） '!B20),\"\",'胃がん検診受診者名簿（61～80） '!B20)","v":""},{"$f":"IF(ISBLANK('胃がん検診受診者名簿（61～80） '!C20),\"\",'胃がん検診受診者名簿（61～80） '!C20)","v":""},null,{"$f":"IF(ISBLANK('胃がん検診受診者名簿（61～80） '!E20),\"\",'胃がん検診受診者名簿（61～80） '!E20)","v":""},{"$f":"IF(ISBLANK('胃がん検診受診者名簿（61～80） '!F20),\"\",'胃がん検診受診者名簿（61～80） '!F20)","v":""},null,null,null,null,null,null,{"$f":"IF(ISBLANK('胃がん検診受診者名簿（61～80） '!M20),\"\",'胃がん検診受診者名簿（61～80） '!M20)","v":""},null,null,{"$f":"IF(ISBLANK('胃がん検診受診者名簿（61～80） '!P20),\"\",'胃がん検診受診者名簿（61～80） '!P20)","v":""},null,{"$f":"IF(ISBLANK('胃がん検診受診者名簿（61～80） '!R20),\"\",'胃がん検診受診者名簿（61～80） '!R20)","v":""},null,null,71,{"$f":"IF(ISBLANK('胃がん検診受診者名簿（61～80） '!W20),\"\",'胃がん検診受診者名簿（61～80） '!W20)","v":""},{"$f":"IF(ISBLANK('胃がん検診受診者名簿（61～80） '!X20),\"\",'胃がん検診受診者名簿（61～80） '!X20)","v":""},{"$f":"IF(ISBLANK('胃がん検診受診者名簿（61～80） '!Y20),\"\",'胃がん検診受診者名簿（61～80） '!Y20)","v":""},{"$f":"IF(ISBLANK('胃がん検診受診者名簿（61～80） '!Z20),\"\",'胃がん検診受診者名簿（61～80） '!Z20)","v":""},{"$f":"IF(ISBLANK('胃がん検診受診者名簿（61～80） '!AA20),\"\",'胃がん検診受診者名簿（61～80） '!AA20)","v":""},{"$f":"IF(ISBLANK('胃がん検診受診者名簿（61～80） '!AB20),\"\",'胃がん検診受診者名簿（61～80） '!AB20)","v":""},null,null,null,null,null,{"$f":"IF(ISBLANK('胃がん検診受診者名簿（61～80） '!AH20),\"\",'胃がん検診受診者名簿（61～80） '!AH20)","v":""},{"$f":"IF(ISBLANK('胃がん検診受診者名簿（61～80） '!AI20),\"\",'胃がん検診受診者名簿（61～80） '!AI20)","v":""},null,{"$f":"IF(ISBLANK('胃がん検診受診者名簿（61～80） '!AK20),\"\",'胃がん検診受診者名簿（61～80） '!AK20)","v":""},{"$f":"IF(ISBLANK('胃がん検診受診者名簿（61～80） '!AL20),\"\",'胃がん検診受診者名簿（61～80） '!AL20)","v":""},{"$f":"IF(ISBLANK('胃がん検診受診者名簿（61～80） '!AM20),\"\",'胃がん検診受診者名簿（61～80） '!AM20)","v":""},null,null,71,{"$f":"IF(ISBLANK('胃がん検診受診者名簿（61～80） '!AQ20),\"\",'胃がん検診受診者名簿（61～80） '!AQ20)","v":""},{"$f":"IF(ISBLANK('胃がん検診受診者名簿（61～80） '!AR20),\"\",'胃がん検診受診者名簿（61～80） '!AR20)","v":""},{"$f":"IF(ISBLANK('胃がん検診受診者名簿（61～80） '!AS20),\"\",'胃がん検診受診者名簿（61～80） '!AS20)","v":""},{"$f":"IF(ISBLANK('胃がん検診受診者名簿（61～80） '!AT20),\"\",'胃がん検診受診者名簿（61～80） '!AT20)","v":""},{"$f":"IF(ISBLANK('胃がん検診受診者名簿（61～80） '!AU20),\"\",'胃がん検診受診者名簿（61～80） '!AU20)","v":""},{"$f":"IF(ISBLANK('胃がん検診受診者名簿（61～80） '!AV20),\"\",'胃がん検診受診者名簿（61～80） '!AV20)","v":""},null,null,null,null,null,{"$f":"IF(ISBLANK('胃がん検診受診者名簿（61～80） '!BB20),\"\",'胃がん検診受診者名簿（61～80） '!BB20)","v":""},{"$f":"IF(ISBLANK('胃がん検診受診者名簿（61～80） '!BC20),\"\",'胃がん検診受診者名簿（61～80） '!BC20)","v":""},null,{"$f":"IF(ISBLANK('胃がん検診受診者名簿（61～80） '!BE20),\"\",'胃がん検診受診者名簿（61～80） '!BE20)","v":""},{"$f":"IF(ISBLANK('胃がん検診受診者名簿（61～80） '!BF20),\"\",'胃がん検診受診者名簿（61～80） '!BF20)","v":""},{"$f":"IF(ISBLANK('胃がん検診受診者名簿（61～80） '!BG20),\"\",'胃がん検診受診者名簿（61～80） '!BG20)","v":""}]
[72,null,null,null,null,null,null,false,false,false,null,null,"",null,null,"",null,null,null,null,null,72,{"$f":"IF(ISBLANK('胃がん検診受診者名簿（61～80） '!B21),\"\",'胃がん検診受診者名簿（61～80） '!B21)","v":""},{"$f":"IF(ISBLANK('胃がん検診受診者名簿（61～80） '!C21),\"\",'胃がん検診受診者名簿（61～80） '!C21)","v":""},null,{"$f":"IF(ISBLANK('胃がん検診受診者名簿（61～80） '!E21),\"\",'胃がん検診受診者名簿（61～80） '!E21)","v":""},{"$f":"IF(ISBLANK('胃がん検診受診者名簿（61～80） '!F21),\"\",'胃がん検診受診者名簿（61～80） '!F21)","v":""},null,null,null,null,null,null,{"$f":"IF(ISBLANK('胃がん検診受診者名簿（61～80） '!M21),\"\",'胃がん検診受診者名簿（61～80） '!M21)","v":""},null,null,{"$f":"IF(ISBLANK('胃がん検診受診者名簿（61～80） '!P21),\"\",'胃がん検診受診者名簿（61～80） '!P21)","v":""},null,{"$f":"IF(ISBLANK('胃がん検診受診者名簿（61～80） '!R21),\"\",'胃がん検診受診者名簿（61～80） '!R21)","v":""},null,null,72,{"$f":"IF(ISBLANK('胃がん検診受診者名簿（61～80） '!W21),\"\",'胃がん検診受診者名簿（61～80） '!W21)","v":""},{"$f":"IF(ISBLANK('胃がん検診受診者名簿（61～80） '!X21),\"\",'胃がん検診受診者名簿（61～80） '!X21)","v":""},{"$f":"IF(ISBLANK('胃がん検診受診者名簿（61～80） '!Y21),\"\",'胃がん検診受診者名簿（61～80） '!Y21)","v":""},{"$f":"IF(ISBLANK('胃がん検診受診者名簿（61～80） '!Z21),\"\",'胃がん検診受診者名簿（61～80） '!Z21)","v":""},{"$f":"IF(ISBLANK('胃がん検診受診者名簿（61～80） '!AA21),\"\",'胃がん検診受診者名簿（61～80） '!AA21)","v":""},{"$f":"IF(ISBLANK('胃がん検診受診者名簿（61～80） '!AB21),\"\",'胃がん検診受診者名簿（61～80） '!AB21)","v":""},null,null,null,null,null,{"$f":"IF(ISBLANK('胃がん検診受診者名簿（61～80） '!AH21),\"\",'胃がん検診受診者名簿（61～80） '!AH21)","v":""},{"$f":"IF(ISBLANK('胃がん検診受診者名簿（61～80） '!AI21),\"\",'胃がん検診受診者名簿（61～80） '!AI21)","v":""},null,{"$f":"IF(ISBLANK('胃がん検診受診者名簿（61～80） '!AK21),\"\",'胃がん検診受診者名簿（61～80） '!AK21)","v":""},{"$f":"IF(ISBLANK('胃がん検診受診者名簿（61～80） '!AL21),\"\",'胃がん検診受診者名簿（61～80） '!AL21)","v":""},{"$f":"IF(ISBLANK('胃がん検診受診者名簿（61～80） '!AM21),\"\",'胃がん検診受診者名簿（61～80） '!AM21)","v":""},null,null,72,{"$f":"IF(ISBLANK('胃がん検診受診者名簿（61～80） '!AQ21),\"\",'胃がん検診受診者名簿（61～80） '!AQ21)","v":""},{"$f":"IF(ISBLANK('胃がん検診受診者名簿（61～80） '!AR21),\"\",'胃がん検診受診者名簿（61～80） '!AR21)","v":""},{"$f":"IF(ISBLANK('胃がん検診受診者名簿（61～80） '!AS21),\"\",'胃がん検診受診者名簿（61～80） '!AS21)","v":""},{"$f":"IF(ISBLANK('胃がん検診受診者名簿（61～80） '!AT21),\"\",'胃がん検診受診者名簿（61～80） '!AT21)","v":""},{"$f":"IF(ISBLANK('胃がん検診受診者名簿（61～80） '!AU21),\"\",'胃がん検診受診者名簿（61～80） '!AU21)","v":""},{"$f":"IF(ISBLANK('胃がん検診受診者名簿（61～80） '!AV21),\"\",'胃がん検診受診者名簿（61～80） '!AV21)","v":""},null,null,null,null,null,{"$f":"IF(ISBLANK('胃がん検診受診者名簿（61～80） '!BB21),\"\",'胃がん検診受診者名簿（61～80） '!BB21)","v":""},{"$f":"IF(ISBLANK('胃がん検診受診者名簿（61～80） '!BC21),\"\",'胃がん検診受診者名簿（61～80） '!BC21)","v":""},null,{"$f":"IF(ISBLANK('胃がん検診受診者名簿（61～80） '!BE21),\"\",'胃がん検診受診者名簿（61～80） '!BE21)","v":""},{"$f":"IF(ISBLANK('胃がん検診受診者名簿（61～80） '!BF21),\"\",'胃がん検診受診者名簿（61～80） '!BF21)","v":""},{"$f":"IF(ISBLANK('胃がん検診受診者名簿（61～80） '!BG21),\"\",'胃がん検診受診者名簿（61～80） '!BG21)","v":""}]
[73,null,null,null,null,null,null,false,false,false,null,null,"",null,null,"",null,null,null,null,null,73,{"$f":"IF(ISBLANK('胃がん検診受診者名簿（61～80） '!B22),\"\",'胃がん検診受診者名簿（61～80） '!B22)","v":""},{"$f":"IF(ISBLANK('胃がん検診受診者名簿（61～80） '!C22),\"\",'胃がん検診受診者名簿（61～80） '!C22)","v":""},null,{"$f":"IF(ISBLANK('胃がん検診受診者名簿（61～80） '!E22),\"\",'胃がん検診受診者名簿（61～80） '!E22)","v":""},{"$f":"IF(ISBLANK('胃がん検診受診者名簿（61～80） '!F22),\"\",'胃がん検診受診者名簿（61～80） '!F22)","v":""},null,null,null,null,null,null,{"$f":"IF(ISBLANK('胃がん検診受診者名簿（61～80） '!M22),\"\",'胃がん検診受診者名簿（61～80） '!M22)","v":""},null,null,{"$f":"IF(ISBLANK('胃がん検診受診者名簿（61～80） '!P22),\"\",'胃がん検診受診者名簿（61～80） '!P22)","v":""},null,{"$f":"IF(ISBLANK('胃がん検診受診者名簿（61～80） '!R22),\"\",'胃がん検診受診者名簿（61～80） '!R22)","v":""},null,null,73,{"$f":"IF(ISBLANK('胃がん検診受診者名簿（61～80） '!W22),\"\",'胃がん検診受診者名簿（61～80） '!W22)","v":""},{"$f":"IF(ISBLANK('胃がん検診受診者名簿（61～80） '!X22),\"\",'胃がん検診受診者名簿（61～80） '!X22)","v":""},{"$f":"IF(ISBLANK('胃がん検診受診者名簿（61～80） '!Y22),\"\",'胃がん検診受診者名簿（61～80） '!Y22)","v":""},{"$f":"IF(ISBLANK('胃がん検診受診者名簿（61～80） '!Z22),\"\",'胃がん検診受診者名簿（61～80） '!Z22)","v":""},{"$f":"IF(ISBLANK('胃がん検診受診者名簿（61～80） '!AA22),\"\",'胃がん検診受診者名簿（61～80） '!AA22)","v":""},{"$f":"IF(ISBLANK('胃がん検診受診者名簿（61～80） '!AB22),\"\",'胃がん検診受診者名簿（61～80） '!AB22)","v":""},null,null,null,null,null,{"$f":"IF(ISBLANK('胃がん検診受診者名簿（61～80） '!AH22),\"\",'胃がん検診受診者名簿（61～80） '!AH22)","v":""},{"$f":"IF(ISBLANK('胃がん検診受診者名簿（61～80） '!AI22),\"\",'胃がん検診受診者名簿（61～80） '!AI22)","v":""},null,{"$f":"IF(ISBLANK('胃がん検診受診者名簿（61～80） '!AK22),\"\",'胃がん検診受診者名簿（61～80） '!AK22)","v":""},{"$f":"IF(ISBLANK('胃がん検診受診者名簿（61～80） '!AL22),\"\",'胃がん検診受診者名簿（61～80） '!AL22)","v":""},{"$f":"IF(ISBLANK('胃がん検診受診者名簿（61～80） '!AM22),\"\",'胃がん検診受診者名簿（61～80） '!AM22)","v":""},null,null,73,{"$f":"IF(ISBLANK('胃がん検診受診者名簿（61～80） '!AQ22),\"\",'胃がん検診受診者名簿（61～80） '!AQ22)","v":""},{"$f":"IF(ISBLANK('胃がん検診受診者名簿（61～80） '!AR22),\"\",'胃がん検診受診者名簿（61～80） '!AR22)","v":""},{"$f":"IF(ISBLANK('胃がん検診受診者名簿（61～80） '!AS22),\"\",'胃がん検診受診者名簿（61～80） '!AS22)","v":""},{"$f":"IF(ISBLANK('胃がん検診受診者名簿（61～80） '!AT22),\"\",'胃がん検診受診者名簿（61～80） '!AT22)","v":""},{"$f":"IF(ISBLANK('胃がん検診受診者名簿（61～80） '!AU22),\"\",'胃がん検診受診者名簿（61～80） '!AU22)","v":""},{"$f":"IF(ISBLANK('胃がん検診受診者名簿（61～80） '!AV22),\"\",'胃がん検診受診者名簿（61～80） '!AV22)","v":""},null,null,null,null,null,{"$f":"IF(ISBLANK('胃がん検診受診者名簿（61～80） '!BB22),\"\",'胃がん検診受診者名簿（61～80） '!BB22)","v":""},{"$f":"IF(ISBLANK('胃がん検診受診者名簿（61～80） '!BC22),\"\",'胃がん検診受診者名簿（61～80） '!BC22)","v":""},null,{"$f":"IF(ISBLANK('胃がん検診受診者名簿（61～80） '!BE22),\"\",'胃がん検診受診者名簿（61～80） '!BE22)","v":""},{"$f":"IF(ISBLANK('胃がん検診受診者名簿（61～80） '!BF22),\"\",'胃がん検診受診者名簿（61～80） '!BF22)","v":""},{"$f":"IF(ISBLANK('胃がん検診受診者名簿（61～80） '!BG22),\"\",'胃がん検診受診者名簿（61～80） '!BG22)","v":""}]
[74,null,null,null,null,null,null,false,false,false,null,null,"",null,null,"",null,null,null,null,null,74,{"$f":"IF(ISBLANK('胃がん検診受診者名簿（61～80） '!B23),\"\",'胃がん検診受診者名簿（61～80） '!B23)","v":""},{"$f":"IF(ISBLANK('胃がん検診受診者名簿（61～80） '!C23),\"\",'胃がん検診受診者名簿（61～80） '!C23)","v":""},null,{"$f":"IF(ISBLANK('胃がん検診受診者名簿（61～80） '!E23),\"\",'胃がん検診受診者名簿（61～80） '!E23)","v":""},{"$f":"IF(ISBLANK('胃がん検診受診者名簿（61～80） '!F23),\"\",'胃がん検診受診者名簿（61～80） '!F23)","v":""},null,null,null,null,null,null,{"$f":"IF(ISBLANK('胃がん検診受診者名簿（61～80） '!M23),\"\",'胃がん検診受診者名簿（61～80） '!M23)","v":""},null,null,{"$f":"IF(ISBLANK('胃がん検診受診者名簿（61～80） '!P23),\"\",'胃がん検診受診者名簿（61～80） '!P23)","v":""},null,{"$f":"IF(ISBLANK('胃がん検診受診者名簿（61～80） '!R23),\"\",'胃がん検診受診者名簿（61～80） '!R23)","v":""},null,null,74,{"$f":"IF(ISBLANK('胃がん検診受診者名簿（61～80） '!W23),\"\",'胃がん検診受診者名簿（61～80） '!W23)","v":""},{"$f":"IF(ISBLANK('胃がん検診受診者名簿（61～80） '!X23),\"\",'胃がん検診受診者名簿（61～80） '!X23)","v":""},{"$f":"IF(ISBLANK('胃がん検診受診者名簿（61～80） '!Y23),\"\",'胃がん検診受診者名簿（61～80） '!Y23)","v":""},{"$f":"IF(ISBLANK('胃がん検診受診者名簿（61～80） '!Z23),\"\",'胃がん検診受診者名簿（61～80） '!Z23)","v":""},{"$f":"IF(ISBLANK('胃がん検診受診者名簿（61～80） '!AA23),\"\",'胃がん検診受診者名簿（61～80） '!AA23)","v":""},{"$f":"IF(ISBLANK('胃がん検診受診者名簿（61～80） '!AB23),\"\",'胃がん検診受診者名簿（61～80） '!AB23)","v":""},null,null,null,null,null,{"$f":"IF(ISBLANK('胃がん検診受診者名簿（61～80） '!AH23),\"\",'胃がん検診受診者名簿（61～80） '!AH23)","v":""},{"$f":"IF(ISBLANK('胃がん検診受診者名簿（61～80） '!AI23),\"\",'胃がん検診受診者名簿（61～80） '!AI23)","v":""},null,{"$f":"IF(ISBLANK('胃がん検診受診者名簿（61～80） '!AK23),\"\",'胃がん検診受診者名簿（61～80） '!AK23)","v":""},{"$f":"IF(ISBLANK('胃がん検診受診者名簿（61～80） '!AL23),\"\",'胃がん検診受診者名簿（61～80） '!AL23)","v":""},{"$f":"IF(ISBLANK('胃がん検診受診者名簿（61～80） '!AM23),\"\",'胃がん検診受診者名簿（61～80） '!AM23)","v":""},null,null,74,{"$f":"IF(ISBLANK('胃がん検診受診者名簿（61～80） '!AQ23),\"\",'胃がん検診受診者名簿（61～80） '!AQ23)","v":""},{"$f":"IF(ISBLANK('胃がん検診受診者名簿（61～80） '!AR23),\"\",'胃がん検診受診者名簿（61～80） '!AR23)","v":""},{"$f":"IF(ISBLANK('胃がん検診受診者名簿（61～80） '!AS23),\"\",'胃がん検診受診者名簿（61～80） '!AS23)","v":""},{"$f":"IF(ISBLANK('胃がん検診受診者名簿（61～80） '!AT23),\"\",'胃がん検診受診者名簿（61～80） '!AT23)","v":""},{"$f":"IF(ISBLANK('胃がん検診受診者名簿（61～80） '!AU23),\"\",'胃がん検診受診者名簿（61～80） '!AU23)","v":""},{"$f":"IF(ISBLANK('胃がん検診受診者名簿（61～80） '!AV23),\"\",'胃がん検診受診者名簿（61～80） '!AV23)","v":""},null,null,null,null,null,{"$f":"IF(ISBLANK('胃がん検診受診者名簿（61～80） '!BB23),\"\",'胃がん検診受診者名簿（61～80） '!BB23)","v":""},{"$f":"IF(ISBLANK('胃がん検診受診者名簿（61～80） '!BC23),\"\",'胃がん検診受診者名簿（61～80） '!BC23)","v":""},null,{"$f":"IF(ISBLANK('胃がん検診受診者名簿（61～80） '!BE23),\"\",'胃がん検診受診者名簿（61～80） '!BE23)","v":""},{"$f":"IF(ISBLANK('胃がん検診受診者名簿（61～80） '!BF23),\"\",'胃がん検診受診者名簿（61～80） '!BF23)","v":""},{"$f":"IF(ISBLANK('胃がん検診受診者名簿（61～80） '!BG23),\"\",'胃がん検診受診者名簿（61～80） '!BG23)","v":""}]
[75,null,null,null,null,null,null,false,false,false,null,null,"",null,null,"",null,null,null,null,null,75,{"$f":"IF(ISBLANK('胃がん検診受診者名簿（61～80） '!B24),\"\",'胃がん検診受診者名簿（61～80） '!B24)","v":""},{"$f":"IF(ISBLANK('胃がん検診受診者名簿（61～80） '!C24),\"\",'胃がん検診受診者名簿（61～80） '!C24)","v":""},null,{"$f":"IF(ISBLANK('胃がん検診受診者名簿（61～80） '!E24),\"\",'胃がん検診受診者名簿（61～80） '!E24)","v":""},{"$f":"IF(ISBLANK('胃がん検診受診者名簿（61～80） '!F24),\"\",'胃がん検診受診者名簿（61～80） '!F24)","v":""},null,null,null,null,null,null,{"$f":"IF(ISBLANK('胃がん検診受診者名簿（61～80） '!M24),\"\",'胃がん検診受診者名簿（61～80） '!M24)","v":""},null,null,{"$f":"IF(ISBLANK('胃がん検診受診者名簿（61～80） '!P24),\"\",'胃がん検診受診者名簿（61～80） '!P24)","v":""},null,{"$f":"IF(ISBLANK('胃がん検診受診者名簿（61～80） '!R24),\"\",'胃がん検診受診者名簿（61～80） '!R24)","v":""},null,null,75,{"$f":"IF(ISBLANK('胃がん検診受診者名簿（61～80） '!W24),\"\",'胃がん検診受診者名簿（61～80） '!W24)","v":""},{"$f":"IF(ISBLANK('胃がん検診受診者名簿（61～80） '!X24),\"\",'胃がん検診受診者名簿（61～80） '!X24)","v":""},{"$f":"IF(ISBLANK('胃がん検診受診者名簿（61～80） '!Y24),\"\",'胃がん検診受診者名簿（61～80） '!Y24)","v":""},{"$f":"IF(ISBLANK('胃がん検診受診者名簿（61～80） '!Z24),\"\",'胃がん検診受診者名簿（61～80） '!Z24)","v":""},{"$f":"IF(ISBLANK('胃がん検診受診者名簿（61～80） '!AA24),\"\",'胃がん検診受診者名簿（61～80） '!AA24)","v":""},{"$f":"IF(ISBLANK('胃がん検診受診者名簿（61～80） '!AB24),\"\",'胃がん検診受診者名簿（61～80） '!AB24)","v":""},null,null,null,null,null,{"$f":"IF(ISBLANK('胃がん検診受診者名簿（61～80） '!AH24),\"\",'胃がん検診受診者名簿（61～80） '!AH24)","v":""},{"$f":"IF(ISBLANK('胃がん検診受診者名簿（61～80） '!AI24),\"\",'胃がん検診受診者名簿（61～80） '!AI24)","v":""},null,{"$f":"IF(ISBLANK('胃がん検診受診者名簿（61～80） '!AK24),\"\",'胃がん検診受診者名簿（61～80） '!AK24)","v":""},{"$f":"IF(ISBLANK('胃がん検診受診者名簿（61～80） '!AL24),\"\",'胃がん検診受診者名簿（61～80） '!AL24)","v":""},{"$f":"IF(ISBLANK('胃がん検診受診者名簿（61～80） '!AM24),\"\",'胃がん検診受診者名簿（61～80） '!AM24)","v":""},null,null,75,{"$f":"IF(ISBLANK('胃がん検診受診者名簿（61～80） '!AQ24),\"\",'胃がん検診受診者名簿（61～80） '!AQ24)","v":""},{"$f":"IF(ISBLANK('胃がん検診受診者名簿（61～80） '!AR24),\"\",'胃がん検診受診者名簿（61～80） '!AR24)","v":""},{"$f":"IF(ISBLANK('胃がん検診受診者名簿（61～80） '!AS24),\"\",'胃がん検診受診者名簿（61～80） '!AS24)","v":""},{"$f":"IF(ISBLANK('胃がん検診受診者名簿（61～80） '!AT24),\"\",'胃がん検診受診者名簿（61～80） '!AT24)","v":""},{"$f":"IF(ISBLANK('胃がん検診受診者名簿（61～80） '!AU24),\"\",'胃がん検診受診者名簿（61～80） '!AU24)","v":""},{"$f":"IF(ISBLANK('胃がん検診受診者名簿（61～80） '!AV24),\"\",'胃がん検診受診者名簿（61～80） '!AV24)","v":""},null,null,null,null,null,{"$f":"IF(ISBLANK('胃がん検診受診者名簿（61～80） '!BB24),\"\",'胃がん検診受診者名簿（61～80） '!BB24)","v":""},{"$f":"IF(ISBLANK('胃がん検診受診者名簿（61～80） '!BC24),\"\",'胃がん検診受診者名簿（61～80） '!BC24)","v":""},null,{"$f":"IF(ISBLANK('胃がん検診受診者名簿（61～80） '!BE24),\"\",'胃がん検診受診者名簿（61～80） '!BE24)","v":""},{"$f":"IF(ISBLANK('胃がん検診受診者名簿（61～80） '!BF24),\"\",'胃がん検診受診者名簿（61～80） '!BF24)","v":""},{"$f":"IF(ISBLANK('胃がん検診受診者名簿（61～80） '!BG24),\"\",'胃がん検診受診者名簿（61～80） '!BG24)","v":""}]
[76,null,null,null,null,null,null,false,false,false,null,null,"",null,null,"",null,null,null,null,null,76,{"$f":"IF(ISBLANK('胃がん検診受診者名簿（61～80） '!B25),\"\",'胃がん検診受診者名簿（61～80） '!B25)","v":""},{"$f":"IF(ISBLANK('胃がん検診受診者名簿（61～80） '!C25),\"\",'胃がん検診受診者名簿（61～80） '!C25)","v":""},null,{"$f":"IF(ISBLANK('胃がん検診受診者名簿（61～80） '!E25),\"\",'胃がん検診受診者名簿（61～80） '!E25)","v":""},{"$f":"IF(ISBLANK('胃がん検診受診者名簿（61～80） '!F25),\"\",'胃がん検診受診者名簿（61～80） '!F25)","v":""},null,null,null,null,null,null,{"$f":"IF(ISBLANK('胃がん検診受診者名簿（61～80） '!M25),\"\",'胃がん検診受診者名簿（61～80） '!M25)","v":""},null,null,{"$f":"IF(ISBLANK('胃がん検診受診者名簿（61～80） '!P25),\"\",'胃がん検診受診者名簿（61～80） '!P25)","v":""},null,{"$f":"IF(ISBLANK('胃がん検診受診者名簿（61～80） '!R25),\"\",'胃がん検診受診者名簿（61～80） '!R25)","v":""},null,null,76,{"$f":"IF(ISBLANK('胃がん検診受診者名簿（61～80） '!W25),\"\",'胃がん検診受診者名簿（61～80） '!W25)","v":""},{"$f":"IF(ISBLANK('胃がん検診受診者名簿（61～80） '!X25),\"\",'胃がん検診受診者名簿（61～80） '!X25)","v":""},{"$f":"IF(ISBLANK('胃がん検診受診者名簿（61～80） '!Y25),\"\",'胃がん検診受診者名簿（61～80） '!Y25)","v":""},{"$f":"IF(ISBLANK('胃がん検診受診者名簿（61～80） '!Z25),\"\",'胃がん検診受診者名簿（61～80） '!Z25)","v":""},{"$f":"IF(ISBLANK('胃がん検診受診者名簿（61～80） '!AA25),\"\",'胃がん検診受診者名簿（61～80） '!AA25)","v":""},{"$f":"IF(ISBLANK('胃がん検診受診者名簿（61～80） '!AB25),\"\",'胃がん検診受診者名簿（61～80） '!AB25)","v":""},null,null,null,null,null,{"$f":"IF(ISBLANK('胃がん検診受診者名簿（61～80） '!AH25),\"\",'胃がん検診受診者名簿（61～80） '!AH25)","v":""},{"$f":"IF(ISBLANK('胃がん検診受診者名簿（61～80） '!AI25),\"\",'胃がん検診受診者名簿（61～80） '!AI25)","v":""},null,{"$f":"IF(ISBLANK('胃がん検診受診者名簿（61～80） '!AK25),\"\",'胃がん検診受診者名簿（61～80） '!AK25)","v":""},{"$f":"IF(ISBLANK('胃がん検診受診者名簿（61～80） '!AL25),\"\",'胃がん検診受診者名簿（61～80） '!AL25)","v":""},{"$f":"IF(ISBLANK('胃がん検診受診者名簿（61～80） '!AM25),\"\",'胃がん検診受診者名簿（61～80） '!AM25)","v":""},null,null,76,{"$f":"IF(ISBLANK('胃がん検診受診者名簿（61～80） '!AQ25),\"\",'胃がん検診受診者名簿（61～80） '!AQ25)","v":""},{"$f":"IF(ISBLANK('胃がん検診受診者名簿（61～80） '!AR25),\"\",'胃がん検診受診者名簿（61～80） '!AR25)","v":""},{"$f":"IF(ISBLANK('胃がん検診受診者名簿（61～80） '!AS25),\"\",'胃がん検診受診者名簿（61～80） '!AS25)","v":""},{"$f":"IF(ISBLANK('胃がん検診受診者名簿（61～80） '!AT25),\"\",'胃がん検診受診者名簿（61～80） '!AT25)","v":""},{"$f":"IF(ISBLANK('胃がん検診受診者名簿（61～80） '!AU25),\"\",'胃がん検診受診者名簿（61～80） '!AU25)","v":""},{"$f":"IF(ISBLANK('胃がん検診受診者名簿（61～80） '!AV25),\"\",'胃がん検診受診者名簿（61～80） '!AV25)","v":""},null,null,null,null,null,{"$f":"IF(ISBLANK('胃がん検診受診者名簿（61～80） '!BB25),\"\",'胃がん検診受診者名簿（61～80） '!BB25)","v":""},{"$f":"IF(ISBLANK('胃がん検診受診者名簿（61～80） '!BC25),\"\",'胃がん検診受診者名簿（61～80） '!BC25)","v":""},null,{"$f":"IF(ISBLANK('胃がん検診受診者名簿（61～80） '!BE25),\"\",'胃がん検診受診者名簿（61～80） '!BE25)","v":""},{"$f":"IF(ISBLANK('胃がん検診受診者名簿（61～80） '!BF25),\"\",'胃がん検診受診者名簿（61～80） '!BF25)","v":""},{"$f":"IF(ISBLANK('胃がん検診受診者名簿（61～80） '!BG25),\"\",'胃がん検診受診者名簿（61～80） '!BG25)","v":""}]
[77,null,null,null,null,null,null,false,false,false,null,null,"",null,null,"",null,null,null,null,null,77,{"$f":"IF(ISBLANK('胃がん検診受診者名簿（61～80） '!B26),\"\",'胃がん検診受診者名簿（61～80） '!B26)","v":""},{"$f":"IF(ISBLANK('胃がん検診受診者名簿（61～80） '!C26),\"\",'胃がん検診受診者名簿（61～80） '!C26)","v":""},null,{"$f":"IF(ISBLANK('胃がん検診受診者名簿（61～80） '!E26),\"\",'胃がん検診受診者名簿（61～80） '!E26)","v":""},{"$f":"IF(ISBLANK('胃がん検診受診者名簿（61～80） '!F26),\"\",'胃がん検診受診者名簿（61～80） '!F26)","v":""},null,null,null,null,null,null,{"$f":"IF(ISBLANK('胃がん検診受診者名簿（61～80） '!M26),\"\",'胃がん検診受診者名簿（61～80） '!M26)","v":""},null,null,{"$f":"IF(ISBLANK('胃がん検診受診者名簿（61～80） '!P26),\"\",'胃がん検診受診者名簿（61～80） '!P26)","v":""},null,{"$f":"IF(ISBLANK('胃がん検診受診者名簿（61～80） '!R26),\"\",'胃がん検診受診者名簿（61～80） '!R26)","v":""},null,null,77,{"$f":"IF(ISBLANK('胃がん検診受診者名簿（61～80） '!W26),\"\",'胃がん検診受診者名簿（61～80） '!W26)","v":""},{"$f":"IF(ISBLANK('胃がん検診受診者名簿（61～80） '!X26),\"\",'胃がん検診受診者名簿（61～80） '!X26)","v":""},{"$f":"IF(ISBLANK('胃がん検診受診者名簿（61～80） '!Y26),\"\",'胃がん検診受診者名簿（61～80） '!Y26)","v":""},{"$f":"IF(ISBLANK('胃がん検診受診者名簿（61～80） '!Z26),\"\",'胃がん検診受診者名簿（61～80） '!Z26)","v":""},{"$f":"IF(ISBLANK('胃がん検診受診者名簿（61～80） '!AA26),\"\",'胃がん検診受診者名簿（61～80） '!AA26)","v":""},{"$f":"IF(ISBLANK('胃がん検診受診者名簿（61～80） '!AB26),\"\",'胃がん検診受診者名簿（61～80） '!AB26)","v":""},null,null,null,null,null,{"$f":"IF(ISBLANK('胃がん検診受診者名簿（61～80） '!AH26),\"\",'胃がん検診受診者名簿（61～80） '!AH26)","v":""},{"$f":"IF(ISBLANK('胃がん検診受診者名簿（61～80） '!AI26),\"\",'胃がん検診受診者名簿（61～80） '!AI26)","v":""},null,{"$f":"IF(ISBLANK('胃がん検診受診者名簿（61～80） '!AK26),\"\",'胃がん検診受診者名簿（61～80） '!AK26)","v":""},{"$f":"IF(ISBLANK('胃がん検診受診者名簿（61～80） '!AL26),\"\",'胃がん検診受診者名簿（61～80） '!AL26)","v":""},{"$f":"IF(ISBLANK('胃がん検診受診者名簿（61～80） '!AM26),\"\",'胃がん検診受診者名簿（61～80） '!AM26)","v":""},null,null,77,{"$f":"IF(ISBLANK('胃がん検診受診者名簿（61～80） '!AQ26),\"\",'胃がん検診受診者名簿（61～80） '!AQ26)","v":""},{"$f":"IF(ISBLANK('胃がん検診受診者名簿（61～80） '!AR26),\"\",'胃がん検診受診者名簿（61～80） '!AR26)","v":""},{"$f":"IF(ISBLANK('胃がん検診受診者名簿（61～80） '!AS26),\"\",'胃がん検診受診者名簿（61～80） '!AS26)","v":""},{"$f":"IF(ISBLANK('胃がん検診受診者名簿（61～80） '!AT26),\"\",'胃がん検診受診者名簿（61～80） '!AT26)","v":""},{"$f":"IF(ISBLANK('胃がん検診受診者名簿（61～80） '!AU26),\"\",'胃がん検診受診者名簿（61～80） '!AU26)","v":""},{"$f":"IF(ISBLANK('胃がん検診受診者名簿（61～80） '!AV26),\"\",'胃がん検診受診者名簿（61～80） '!AV26)","v":""},null,null,null,null,null,{"$f":"IF(ISBLANK('胃がん検診受診者名簿（61～80） '!BB26),\"\",'胃がん検診受診者名簿（61～80） '!BB26)","v":""},{"$f":"IF(ISBLANK('胃がん検診受診者名簿（61～80） '!BC26),\"\",'胃がん検診受診者名簿（61～80） '!BC26)","v":""},null,{"$f":"IF(ISBLANK('胃がん検診受診者名簿（61～80） '!BE26),\"\",'胃がん検診受診者名簿（61～80） '!BE26)","v":""},{"$f":"IF(ISBLANK('胃がん検診受診者名簿（61～80） '!BF26),\"\",'胃がん検診受診者名簿（61～80） '!BF26)","v":""},{"$f":"IF(ISBLANK('胃がん検診受診者名簿（61～80） '!BG26),\"\",'胃がん検診受診者名簿（61～80） '!BG26)","v":""}]
[78,null,null,null,null,null,null,false,false,false,null,null,"",null,null,"",null,null,null,null,null,78,{"$f":"IF(ISBLANK('胃がん検診受診者名簿（61～80） '!B27),\"\",'胃がん検診受診者名簿（61～80） '!B27)","v":""},{"$f":"IF(ISBLANK('胃がん検診受診者名簿（61～80） '!C27),\"\",'胃がん検診受診者名簿（61～80） '!C27)","v":""},null,{"$f":"IF(ISBLANK('胃がん検診受診者名簿（61～80） '!E27),\"\",'胃がん検診受診者名簿（61～80） '!E27)","v":""},{"$f":"IF(ISBLANK('胃がん検診受診者名簿（61～80） '!F27),\"\",'胃がん検診受診者名簿（61～80） '!F27)","v":""},null,null,null,null,null,null,{"$f":"IF(ISBLANK('胃がん検診受診者名簿（61～80） '!M27),\"\",'胃がん検診受診者名簿（61～80） '!M27)","v":""},null,null,{"$f":"IF(ISBLANK('胃がん検診受診者名簿（61～80） '!P27),\"\",'胃がん検診受診者名簿（61～80） '!P27)","v":""},null,{"$f":"IF(ISBLANK('胃がん検診受診者名簿（61～80） '!R27),\"\",'胃がん検診受診者名簿（61～80） '!R27)","v":""},null,null,78,{"$f":"IF(ISBLANK('胃がん検診受診者名簿（61～80） '!W27),\"\",'胃がん検診受診者名簿（61～80） '!W27)","v":""},{"$f":"IF(ISBLANK('胃がん検診受診者名簿（61～80） '!X27),\"\",'胃がん検診受診者名簿（61～80） '!X27)","v":""},{"$f":"IF(ISBLANK('胃がん検診受診者名簿（61～80） '!Y27),\"\",'胃がん検診受診者名簿（61～80） '!Y27)","v":""},{"$f":"IF(ISBLANK('胃がん検診受診者名簿（61～80） '!Z27),\"\",'胃がん検診受診者名簿（61～80） '!Z27)","v":""},{"$f":"IF(ISBLANK('胃がん検診受診者名簿（61～80） '!AA27),\"\",'胃がん検診受診者名簿（61～80） '!AA27)","v":""},{"$f":"IF(ISBLANK('胃がん検診受診者名簿（61～80） '!AB27),\"\",'胃がん検診受診者名簿（61～80） '!AB27)","v":""},null,null,null,null,null,{"$f":"IF(ISBLANK('胃がん検診受診者名簿（61～80） '!AH27),\"\",'胃がん検診受診者名簿（61～80） '!AH27)","v":""},{"$f":"IF(ISBLANK('胃がん検診受診者名簿（61～80） '!AI27),\"\",'胃がん検診受診者名簿（61～80） '!AI27)","v":""},null,{"$f":"IF(ISBLANK('胃がん検診受診者名簿（61～80） '!AK27),\"\",'胃がん検診受診者名簿（61～80） '!AK27)","v":""},{"$f":"IF(ISBLANK('胃がん検診受診者名簿（61～80） '!AL27),\"\",'胃がん検診受診者名簿（61～80） '!AL27)","v":""},{"$f":"IF(ISBLANK('胃がん検診受診者名簿（61～80） '!AM27),\"\",'胃がん検診受診者名簿（61～80） '!AM27)","v":""},null,null,78,{"$f":"IF(ISBLANK('胃がん検診受診者名簿（61～80） '!AQ27),\"\",'胃がん検診受診者名簿（61～80） '!AQ27)","v":""},{"$f":"IF(ISBLANK('胃がん検診受診者名簿（61～80） '!AR27),\"\",'胃がん検診受診者名簿（61～80） '!AR27)","v":""},{"$f":"IF(ISBLANK('胃がん検診受診者名簿（61～80） '!AS27),\"\",'胃がん検診受診者名簿（61～80） '!AS27)","v":""},{"$f":"IF(ISBLANK('胃がん検診受診者名簿（61～80） '!AT27),\"\",'胃がん検診受診者名簿（61～80） '!AT27)","v":""},{"$f":"IF(ISBLANK('胃がん検診受診者名簿（61～80） '!AU27),\"\",'胃がん検診受診者名簿（61～80） '!AU27)","v":""},{"$f":"IF(ISBLANK('胃がん検診受診者名簿（61～80） '!AV27),\"\",'胃がん検診受診者名簿（61～80） '!AV27)","v":""},null,null,null,null,null,{"$f":"IF(ISBLANK('胃がん検診受診者名簿（61～80） '!BB27),\"\",'胃がん検診受診者名簿（61～80） '!BB27)","v":""},{"$f":"IF(ISBLANK('胃がん検診受診者名簿（61～80） '!BC27),\"\",'胃がん検診受診者名簿（61～80） '!BC27)","v":""},null,{"$f":"IF(ISBLANK('胃がん検診受診者名簿（61～80） '!BE27),\"\",'胃がん検診受診者名簿（61～80） '!BE27)","v":""},{"$f":"IF(ISBLANK('胃がん検診受診者名簿（61～80） '!BF27),\"\",'胃がん検診受診者名簿（61～80） '!BF27)","v":""},{"$f":"IF(ISBLANK('胃がん検診受診者名簿（61～80） '!BG27),\"\",'胃がん検診受診者名簿（61～80） '!BG27)","v":""}]
[79,null,null,null,null,null,null,false,false,false,null,null,"",null,null,"",null,null,null,null,null,79,{"$f":"IF(ISBLANK('胃がん検診受診者名簿（61～80） '!B28),\"\",'胃がん検診受診者名簿（61～80） '!B28)","v":""},{"$f":"IF(ISBLANK('胃がん検診受診者名簿（61～80） '!C28),\"\",'胃がん検診受診者名簿（61～80） '!C28)","v":""},null,{"$f":"IF(ISBLANK('胃がん検診受診者名簿（61～80） '!E28),\"\",'胃がん検診受診者名簿（61～80） '!E28)","v":""},{"$f":"IF(ISBLANK('胃がん検診受診者名簿（61～80） '!F28),\"\",'胃がん検診受診者名簿（61～80） '!F28)","v":""},null,null,null,null,null,null,{"$f":"IF(ISBLANK('胃がん検診受診者名簿（61～80） '!M28),\"\",'胃がん検診受診者名簿（61～80） '!M28)","v":""},null,null,{"$f":"IF(ISBLANK('胃がん検診受診者名簿（61～80） '!P28),\"\",'胃がん検診受診者名簿（61～80） '!P28)","v":""},null,{"$f":"IF(ISBLANK('胃がん検診受診者名簿（61～80） '!R28),\"\",'胃がん検診受診者名簿（61～80） '!R28)","v":""},null,null,79,{"$f":"IF(ISBLANK('胃がん検診受診者名簿（61～80） '!W28),\"\",'胃がん検診受診者名簿（61～80） '!W28)","v":""},{"$f":"IF(ISBLANK('胃がん検診受診者名簿（61～80） '!X28),\"\",'胃がん検診受診者名簿（61～80） '!X28)","v":""},{"$f":"IF(ISBLANK('胃がん検診受診者名簿（61～80） '!Y28),\"\",'胃がん検診受診者名簿（61～80） '!Y28)","v":""},{"$f":"IF(ISBLANK('胃がん検診受診者名簿（61～80） '!Z28),\"\",'胃がん検診受診者名簿（61～80） '!Z28)","v":""},{"$f":"IF(ISBLANK('胃がん検診受診者名簿（61～80） '!AA28),\"\",'胃がん検診受診者名簿（61～80） '!AA28)","v":""},{"$f":"IF(ISBLANK('胃がん検診受診者名簿（61～80） '!AB28),\"\",'胃がん検診受診者名簿（61～80） '!AB28)","v":""},null,null,null,null,null,{"$f":"IF(ISBLANK('胃がん検診受診者名簿（61～80） '!AH28),\"\",'胃がん検診受診者名簿（61～80） '!AH28)","v":""},{"$f":"IF(ISBLANK('胃がん検診受診者名簿（61～80） '!AI28),\"\",'胃がん検診受診者名簿（61～80） '!AI28)","v":""},null,{"$f":"IF(ISBLANK('胃がん検診受診者名簿（61～80） '!AK28),\"\",'胃がん検診受診者名簿（61～80） '!AK28)","v":""},{"$f":"IF(ISBLANK('胃がん検診受診者名簿（61～80） '!AL28),\"\",'胃がん検診受診者名簿（61～80） '!AL28)","v":""},{"$f":"IF(ISBLANK('胃がん検診受診者名簿（61～80） '!AM28),\"\",'胃がん検診受診者名簿（61～80） '!AM28)","v":""},null,null,79,{"$f":"IF(ISBLANK('胃がん検診受診者名簿（61～80） '!AQ28),\"\",'胃がん検診受診者名簿（61～80） '!AQ28)","v":""},{"$f":"IF(ISBLANK('胃がん検診受診者名簿（61～80） '!AR28),\"\",'胃がん検診受診者名簿（61～80） '!AR28)","v":""},{"$f":"IF(ISBLANK('胃がん検診受診者名簿（61～80） '!AS28),\"\",'胃がん検診受診者名簿（61～80） '!AS28)","v":""},{"$f":"IF(ISBLANK('胃がん検診受診者名簿（61～80） '!AT28),\"\",'胃がん検診受診者名簿（61～80） '!AT28)","v":""},{"$f":"IF(ISBLANK('胃がん検診受診者名簿（61～80） '!AU28),\"\",'胃がん検診受診者名簿（61～80） '!AU28)","v":""},{"$f":"IF(ISBLANK('胃がん検診受診者名簿（61～80） '!AV28),\"\",'胃がん検診受診者名簿（61～80） '!AV28)","v":""},null,null,null,null,null,{"$f":"IF(ISBLANK('胃がん検診受診者名簿（61～80） '!BB28),\"\",'胃がん検診受診者名簿（61～80） '!BB28)","v":""},{"$f":"IF(ISBLANK('胃がん検診受診者名簿（61～80） '!BC28),\"\",'胃がん検診受診者名簿（61～80） '!BC28)","v":""},null,{"$f":"IF(ISBLANK('胃がん検診受診者名簿（61～80） '!BE28),\"\",'胃がん検診受診者名簿（61～80） '!BE28)","v":""},{"$f":"IF(ISBLANK('胃がん検診受診者名簿（61～80） '!BF28),\"\",'胃がん検診受診者名簿（61～80） '!BF28)","v":""},{"$f":"IF(ISBLANK('胃がん検診受診者名簿（61～80） '!BG28),\"\",'胃がん検診受診者名簿（61～80） '!BG28)","v":""}]
[80,null,null,null,null,null,null,false,false,false,null,null,"",null,null,"",null,null,null,null,null,80,{"$f":"IF(ISBLANK('胃がん検診受診者名簿（61～80） '!B29),\"\",'胃がん検診受診者名簿（61～80） '!B29)","v":""},{"$f":"IF(ISBLANK('胃がん検診受診者名簿（61～80） '!C29),\"\",'胃がん検診受診者名簿（61～80） '!C29)","v":""},null,{"$f":"IF(ISBLANK('胃がん検診受診者名簿（61～80） '!E29),\"\",'胃がん検診受診者名簿（61～80） '!E29)","v":""},{"$f":"IF(ISBLANK('胃がん検診受診者名簿（61～80） '!F29),\"\",'胃がん検診受診者名簿（61～80） '!F29)","v":""},null,null,null,null,null,null,{"$f":"IF(ISBLANK('胃がん検診受診者名簿（61～80） '!M29),\"\",'胃がん検診受診者名簿（61～80） '!M29)","v":""},null,null,{"$f":"IF(ISBLANK('胃がん検診受診者名簿（61～80） '!P29),\"\",'胃がん検診受診者名簿（61～80） '!P29)","v":""},null,{"$f":"IF(ISBLANK('胃がん検診受診者名簿（61～80） '!R29),\"\",'胃がん検診受診者名簿（61～80） '!R29)","v":""},null,null,80,{"$f":"IF(ISBLANK('胃がん検診受診者名簿（61～80） '!W29),\"\",'胃がん検診受診者名簿（61～80） '!W29)","v":""},{"$f":"IF(ISBLANK('胃がん検診受診者名簿（61～80） '!X29),\"\",'胃がん検診受診者名簿（61～80） '!X29)","v":""},{"$f":"IF(ISBLANK('胃がん検診受診者名簿（61～80） '!Y29),\"\",'胃がん検診受診者名簿（61～80） '!Y29)","v":""},{"$f":"IF(ISBLANK('胃がん検診受診者名簿（61～80） '!Z29),\"\",'胃がん検診受診者名簿（61～80） '!Z29)","v":""},{"$f":"IF(ISBLANK('胃がん検診受診者名簿（61～80） '!AA29),\"\",'胃がん検診受診者名簿（61～80） '!AA29)","v":""},{"$f":"IF(ISBLANK('胃がん検診受診者名簿（61～80） '!AB29),\"\",'胃がん検診受診者名簿（61～80） '!AB29)","v":""},null,null,null,null,null,{"$f":"IF(ISBLANK('胃がん検診受診者名簿（61～80） '!AH29),\"\",'胃がん検診受診者名簿（61～80） '!AH29)","v":""},{"$f":"IF(ISBLANK('胃がん検診受診者名簿（61～80） '!AI29),\"\",'胃がん検診受診者名簿（61～80） '!AI29)","v":""},null,{"$f":"IF(ISBLANK('胃がん検診受診者名簿（61～80） '!AK29),\"\",'胃がん検診受診者名簿（61～80） '!AK29)","v":""},{"$f":"IF(ISBLANK('胃がん検診受診者名簿（61～80） '!AL29),\"\",'胃がん検診受診者名簿（61～80） '!AL29)","v":""},{"$f":"IF(ISBLANK('胃がん検診受診者名簿（61～80） '!AM29),\"\",'胃がん検診受診者名簿（61～80） '!AM29)","v":""},null,null,80,{"$f":"IF(ISBLANK('胃がん検診受診者名簿（61～80） '!AQ29),\"\",'胃がん検診受診者名簿（61～80） '!AQ29)","v":""},{"$f":"IF(ISBLANK('胃がん検診受診者名簿（61～80） '!AR29),\"\",'胃がん検診受診者名簿（61～80） '!AR29)","v":""},{"$f":"IF(ISBLANK('胃がん検診受診者名簿（61～80） '!AS29),\"\",'胃がん検診受診者名簿（61～80） '!AS29)","v":""},{"$f":"IF(ISBLANK('胃がん検診受診者名簿（61～80） '!AT29),\"\",'胃がん検診受診者名簿（61～80） '!AT29)","v":""},{"$f":"IF(ISBLANK('胃がん検診受診者名簿（61～80） '!AU29),\"\",'胃がん検診受診者名簿（61～80） '!AU29)","v":""},{"$f":"IF(ISBLANK('胃がん検診受診者名簿（61～80） '!AV29),\"\",'胃がん検診受診者名簿（61～80） '!AV29)","v":""},null,null,null,null,null,{"$f":"IF(ISBLANK('胃がん検診受診者名簿（61～80） '!BB29),\"\",'胃がん検診受診者名簿（61～80） '!BB29)","v":""},{"$f":"IF(ISBLANK('胃がん検診受診者名簿（61～80） '!BC29),\"\",'胃がん検診受診者名簿（61～80） '!BC29)","v":""},null,{"$f":"IF(ISBLANK('胃がん検診受診者名簿（61～80） '!BE29),\"\",'胃がん検診受診者名簿（61～80） '!BE29)","v":""},{"$f":"IF(ISBLANK('胃がん検診受診者名簿（61～80） '!BF29),\"\",'胃がん検診受診者名簿（61～80） '!BF29)","v":""},{"$f":"IF(ISBLANK('胃がん検診受診者名簿（61～80） '!BG29),\"\",'胃がん検診受診者名簿（61～80） '!BG29)","v":""}]
[]
["区　分",null,"総　計","頁　計",null,null,"区　分",null,"総　計",null,"頁　計",null,null,null,"区　分",null,"総　計",null,"頁　計",null,null,"区　分",null,"総　計","頁　計",null,null,"区　分",null,"総　計",null,"頁　計",null,null,null,"区　分",null,"総　計",null,"頁　計",null,"区　分",null,"総　計","頁　計",null,null,"区　分",null,"総　計",null,"頁　計",null,null,null,"区　分",null,"総　計",null,"頁　計",null,"区　分",null,"総　計","頁　計",null,null,"区　分",null,"総　計",null,"頁　計",null,null,null,"区　分",null,"総　計",null,"頁　計"]
["受診者数",null,null,{"$f":"COUNTIF(L10:L29,1)+COUNTIF(L10:L29,2)+COUNTIF(L10:L29,3)+COUNTIF(L10:L29,4)","v":0},null,null,"生検実施数",null,null,null,{"$f":"COUNTIF(H10:H29,TRUE)","v":0},null,null,null,"胃がんなし",null,null,null,{"$f":"COUNTIF(L10:L29,1)","v":0},null,null,"受診者数",null,null,{"$f":"D32","v":0},null,null,"生検実施数",null,null,null,{"$f":"K32","v":0},null,null,null,"胃がんなし",null,null,null,{"$f":"S32","v":0},null,"受診者数",null,null,{"$f":"Y32","v":0},null,null,"生検実施数",null,null,null,{"$f":"AF32","v":0},null,null,null,"胃がんなし",null,null,null,{"$f":"AN32","v":0},null,"受診者数",null,null,{"$f":"AS32","v":0},null,null,"生検実施数",null,null,null,{"$f":"AZ32","v":0},null,null,null,"胃がんなし",null,null,null,{"$f":"BH32","v":0}]
["自己負担額\n納入者",null,null,{"$f":"D32-D34","v":0},null,null,"偶発症\n発生総数",null,null,null,{"$f":"COUNTIF(I10:K29,TRUE)","v":0},null,null,null,"胃がん疑い",null,null,null,{"$f":"+COUNTIF(L10:L29,2)","v":0},null,null,"自己負担額\n納入者",null,null,{"$f":"D33","v":0},null,null,"偶発症\n発生総数",null,null,null,{"$f":"K33","v":0},null,null,null,"胃がん疑い",null,null,null,{"$f":"S33","v":0},null,"自己負担額\n納入者",null,null,{"$f":"Y33","v":0},null,null,"偶発症\n発生総数",null,null,null,{"$f":"AF33","v":0},null,null,null,"胃がん疑い",null,null,null,{"$f":"AN33","v":0},null,"自己負担額\n納入者",null,null,{"$f":"AS33","v":0},null,null,"偶発症\n発生総数",null,null,null,{"$f":"AZ33","v":0},null,null,null,"胃がん疑い",null,null,null,{"$f":"BH33","v":0}]
["自己負担額\n免除者",null,null,{"$f":"COUNTIF(O10:O29,1)+COUNTIF(O10:O29,2)+COUNTIF(O10:O29,3)+COUNTIF(O10:O29,4)","v":0},null,null,null,null,null,null,null,null,null,null,"胃がんあり",null,null,null,{"$f":"+COUNTIF(L10:L29,3)","v":0},null,null,"自己負担額\n免除者",null,null,0,null,null,null,null,null,null,null,null,null,null,"胃がんあり",null,null,null,0,null,"自己負担額\n免除者",null,null,0,null,null,null,null,null,null,null,null,null,null,"胃がんあり",null,null,null,0,null,"自己負担額\n免除者",null,null,0,null,null,null,null,null,null,null,null,null,null,"胃がんあり",null,null,null,0]
[null,null,null,null,null,null,null,null,null,null,null,null,null,null,"胃がん以外の悪性病変",null,null,null,{"$f":"+COUNTIF(L10:L29,4)","v":0},null,null,null,null,null,null,null,null,null,null,null,null,null,null,null,null,"胃がん以外の悪性病変",null,null,null,0,null,null,null,null,null,null,null,null,null,null,null,null,null,null,null,"胃がん以外の悪性病変",null,null,null,0,null,null,null,null,null,null,null,null,null,null,null,null,null,null,null,"胃がん以外の悪性病変",null,null,null,0]
[null,null,null,null,null,null,null,null,null,null,null,null,null,null,null,null,null,null,null,null,null,null,null,null,null,null,null,null,null,null,null,null,null,null,null,null,null,null,null,0,null,null,null,null,null,null,null,null,null,null,null,null,null,null,null,null,null,null,null,0,null,null,null,null,null,null,null,null,null,null,null,null,null,null,null,null,null,null,null,0]
["【結果判定】　1.胃がんなし　2.胃がん疑い　3.胃がんあり　4.胃がん以外の悪性病変",null,null,null,null,null,null,null,null,null,null,null,null,null,null,null,null,null,null,null,null,"【結果判定】　1.胃がんなし　2.胃がん疑い　3.胃がんあり　4.胃がん以外の悪性病変",null,null,null,null,null,null,null,null,null,null,null,null,null,null,null,null,null,null,null,"【結果判定】　1.胃がんなし　2.胃がん疑い　3.胃がんあり　4.胃がん以外の悪性病変",null,null,null,null,null,null,null,null,null,null,null,null,null,null,null,null,null,null,null,"【結果判定】　1.胃がんなし　2.胃がん疑い　3.胃がんあり　4.胃がん以外の悪性病変"]
["【自己負担免除者区分】　1.70歳以上　2.後期高齢者医療制度　3.生活保護世帯　4.市民税非課税世帯　",null,null,null,null,null,null,null,null,null,null,null,null,null,null,null,null,null,null,"R5.10",null,"【自己負担免除者区分】　1.70歳以上　2.後期高齢者医療制度　3.生活保護世帯　4.市民税非課税世帯　",null,null,null,null,null,null,null,null,null,null,null,null,null,null,null,null,null,null,"R5.10","【自己負担免除者区分】　1.70歳以上　2.後期高齢者医療制度　3.生活保護世帯　4.市民税非課税世帯　",null,null,null,null,null,null,null,null,null,null,null,null,null,null,null,null,null,null,"R5.10","【自己負担免除者区分】　1.70歳以上　2.後期高齢者医療制度　3.生活保護世帯　4.市民税非課税世帯　",null,null,null,null,null,null,null,null,null,null,null,null,null,null,null,null,null,null,"R5.10"]

{"sheet":"胃がん検診受診者名簿（81～100）","index":4,"n_rows":38,"n_cols":81,"rows_kept":38,"cut":false,"hidden":false,"merged":[[1,13,1,19],[1,34,1,40],[1,54,1,60],[1,74,1,80],[2,13,4,19],[2,34,4,40],[2,54,4,60],[2,74,4,80],[5,24,6,24],[5,25,6,25],[5,26,6,26],[5,27,6,28],[5,76,5,80],[5,66,6,66],[5,67,6,68],[5,74,5,75],[5,63,6,63],[5,64,6,64],[5,65,6,65],[5,15,5,19],[5,23,6,23],[5,56,5,60],[5,47,6,48],[5,54,5,55],[5,34,5,35],[5,36,5,40],[5,43,6,43],[5,44,6,44],[5,45,6,45],[5,46,6,46],[5,2,6,2],[5,3,6,3],[5,4,6,4],[5,5,6,5],[5,6,6,7],[5,13,5,14],[7,11,8,13],[7,14,8,16],[7,17,8,19],[7,21,8,21],[7,22,8,22],[7,69,7,71],[7,72,8,74],[7,0,8,0],[7,1,8,1],[7,2,8,3],[7,4,8,4],[7,5,8,6],[7,7,8,7],[7,43,8,44],[7,45,8,45],[7,23,8,24],[7,25,8,25],[7,26,8,27],[7,28,8,28],[7,29,7,31],[7,75,8,77],[7,78,8,80],[8,9,8,10],[8,30,8,31],[8,50,8,51],[8,70,8,71],[7,61,8,61],[7,62,8,62],[7,63,8,64],[7,65,8,65],[7,66,8,67],[7,68,8,68],[7,46,8,47],[7,48,8,48],[7,49,7,51],[7,52,8,54],[7,55,8,57],[7,58,8,60],[7,35,8,37],[7,38,8,40],[7,41,8,41],[7,42,8,42],[7,32,8,34],[7,8,7,10],[9,23,9,24],[9,26,9,27],[9,30,9,31],[9,33,9,34],[9,36,9,37],[9,38,9,40],[9,2,9,3],[9,5,9,6],[9,9,9,10],[9,12,9,13],[9,15,9,16],[9,17,9,19],[9,63,9,64],[9,66,9,67],[9,70,9,71],[9,73,9,74],[9,76,9,77],[9,78,9,80],[9,43,9,44],[9,46,9,47],[9,50,9,51],[9,53,9,54],[9,56,9,57],[9,58,9,60],[10,23,10,24],[10,26,10,27],[10,30,10,31],[10,33,10,34],[10,36,10,37],[10,38,10,40],[10,2,10,3],[10,5,10,6],[10,9,10,10],[10,12,10,13],[10,15,10,16],[10,17,10,19],[10,63,10,64],[10,66,10,67],[10,70,10,71],[10,73,10,74],[10,76,10,77],[10,78,10,80],[10,43,10,44],[10,46,10,47],[10,50,10,51],[10,53,10,54],[10,56,10,57],[10,58,10,60],[11,23,11,24],[11,26,11,27],[11,30,11,31],[11,33,11,34],[11,36,11,37],[11,38,11,40],[11,2,11,3],[11,5,11,6],[11,9,11,10],[11,12,11,13],[11,15,11,16],[11,17,11,19],[11,63,11,64],[11,66,11,67],[11,70,11,71],[11,73,11,74],[11,76,11,77],[11,78,11,80],[11,43,11,44],[11,46,11,47],[11,50,11,51],[11,53,11,54],[11,56,11,57],[11,58,11,60],[12,23,12,24],[12,26,12,27],[12,30,12,31],[12,33,12,34],[12,36,12,37],[12,38,12,40],[12,2,12,3],[12,5,12,6],[12,9,12,10],[12,12,12,13],[12,15,12,16],[12,17,12,19],[12,63,12,64],[12,66,12,67],[12,70,12,71],[12,73,12,74],[12,76,12,77],[12,78,12,80],[12,43,12,44],[12,46,12,47],[12,50,12,51],[12,53,12,54],[12,56,12,57],[12,58,12,60],[13,23,13,24],[13,26,13,27],[13,30,13,31],[13,33,13,34],[13,36,13,37],[13,38,13,40],[13,2,13,3],[13,5,13,6],[13,9,13,10],[13,12,13,13],[13,15,13,16],[13,17,13,19],[13,63,13,64],[13,66,13,67],[13,70,13,71],[13,73,13,74],[13,76,13,77],[13,78,13,80],[13,43,13,44],[13,46,13,47],[13,50,13,51],[13,53,13,54],[13,56,13,57],[13,58,13,60],[14,23,14,24],[14,26,14,27],[14,30,14,31],[14,33,14,34],[14,36,14,37],[14,38,14,40],[14,2,14,3],[14,5,14,6],[14,9,14,10],[14,12,14,13],[14,15,14,16],[14,17,14,19],[14,63,14,64],[14,66,14,67],[14,70,14,71],[14,73,14,74],[14,76,14,77],[14,78,14,80],[14,43,14,44],[14,46,14,47],[14,50,14,51],[14,53,14,54],[14,56,14,57],[14,58,14,60],[15,23,15,24],[15,26,15,27],[15,30,15,31],[15,33,15,34],[15,36,15,37],[15,38,15,40],[15,2,15,3],[15,5,15,6],[15,9,15,10],[15,12,15,13],[15,15,15,16],[15,17,15,19],[15,63,15,64],[15,66,15,67],[15,70,15,71],[15,73,15,74],[15,76,15,77],[15,78,15,80],[15,43,15,44],[15,46,15,47],[15,50,15,51],[15,53,15,54],[15,56,15,57],[15,58,15,60],[16,23,16,24],[16,26,16,27],[16,30,16,31],[16,33,16,34],[16,36,16,37],[16,38,16,40],[16,2,16,3],[16,5,16,6],[16,9,16,10],[16,12,16,13],[16,15,16,16],[16,17,16,19],[16,63,16,64],[16,66,16,67],[16,70,16,71],[16,73,16,74],[16,76,16,77],[16,78,16,80],[16,43,16,44],[16,46,16,47],[16,50,16,51],[16,53,16,54],[16,56,16,57],[16,58,16,60],[17,23,17,24],[17,26,17,27],[17,30,17,31],[17,33,17,34],[17,36,17,37],[17,38,17,40],[17,2,17,3],[17,5,17,6],[17,9,17,10],[17,12,17,13],[17,15,17,16],[17,17,17,19],[17,63,17,64],[17,66,17,67],[17,70,17,71],[17,73,17,74],[17,76,17,77],[17,78,17,80],[17,43,17,44],[17,46,17,47],[17,50,17,51],[17,53,17,54],[17,56,17,57],[17,58,17,60],[18,23,18,24],[18,26,18,27],[18,30,18,31],[18,33,18,34],[18,36,18,37],[18,38,18,40],[18,2,18,3],[18,5,18,6],[18,9,18,10],[18,12,18,13],[18,15,18,16],[18,17,18,19],[18,63,18,64],[18,66,18,67],[18,70,18,71],[18,73,18,74],[18,76,18,77],[18,78,18,80],[18,43,18,44],[18,46,18,47],[18,50,18,51],[18,53,18,54],[18,56,18,57],[18,58,18,60],[19,23,19,24],[19,26,19,27],[19,30,19,31],[19,33,19,34],[19,36,19,37],[19,38,19,40],[19,2,19,3],[19,5,19,6],[19,9,19,10],[19,12,19,13],[19,15,19,16],[19,17,19,19],[19,63,19,64],[19,66,19,67],[19,70,19,71],[19,73,19,74],[19,76,19,77],[19,78,19,80],[19,43,19,44],[19,46,19,47],[19,50,19,51],[19,53,19,54],[19,56,19,57],[19,58,19,60],[20,23,20,24],[20,26,20,27],[20,30,20,31],[20,33,20,34],[20,36,20,37],[20,38,20,40],[20,2,20,3],[20,5,20,6],[20,9,20,10],[20,12,20,13],[20,15,20,16],[20,17,20,19],[20,63,20,64],[20,66,20,67],[20,70,20,71],[20,73,20,74],[20,76,20,77],[20,78,20,80],[20,43,20,44],[20,46,20,47],[20,50,20,51],[20,53,20,54],[20,56,20,57],[20,58,20,60],[21,23,21,24],[21,26,21,27],[21,30,21,31],[21,33,21,34],[21,36,21,37],[21,38,21,40],[21,2,21,3],[21,5,21,6],[21,9,21,10],[21,12,21,13],[21,15,21,16],[21,17,21,19],[21,63,21,64],[21,66,21,67],[21,70,21,71],[21,73,21,74],[21,76,21,77],[21,78,21,80],[21,43,21,44],[21,46,21,47],[21,50,21,51],[21,53,21,54],[21,56,21,57],[21,58,21,60],[22,23,22,24],[22,26,22,27],[22,30,22,31],[22,33,22,34],[22,36,22,37],[22,38,22,40],[22,2,22,3],[22,5,22,6],[22,9,22,10],[22,12,22,13],[22,15,22,16],[22,17,22,19],[22,63,22,64],[22,66,22,67],[22,70,22,71],[22,73,22,74],[22,76,22,77],[22,78,22,80],[22,43,22,44],[22,46,22,47],[22,50,22,51],[22,53,22,54],[22,56,22,57],[22,58,22,60],[23,23,23,24],[23,26,23,27],[23,30,23,31],[23,33,23,34],[23,36,23,37],[23,38,23,40],[23,2,23,3],[23,5,23,6],[23,9,23,10],[23,12,23,13],[23,15,23,16],[23,17,23,19],[23,63,23,64],[23,66,23,67],[23,70,23,71],[23,73,23,74],[23,76,23,77],[23,78,23,80],[23,43,23,44],[23,46,23,47],[23,50,23,51],[23,53,23,54],[23,56,23,57],[23,58,23,60],[24,23,24,24],[24,26,24,27],[24,30,24,31],[24,33,24,34],[24,36,24,37],[24,38,24,40],[24,2,24,3],[24,5,24,6],[24,9,24,10],[24,12,24,13],[24,15,24,16],[24,17,24,19],[24,63,24,64],[24,66,24,67],[24,70,24,71],[24,73,24,74],[24,76,24,77],[24,78,24,80],[24,43,24,44],[24,46,24,47],[24,50,24,51],[24,53,24,54],[24,56,24,57],[24,58,24,60],[25,23,25,24],[25,26,25,27],[25,30,25,31],[25,33,25,34],[25,36,25,37],[25,38,25,40],[25,2,25,3],[25,5,25,6],[25,9,25,10],[25,12,25,13],[25,15,25,16],[25,17,25,19],[25,63,25,64],[25,66,25,67],[25,70,25,71],[25,73,25,74],[25,76,25,77],[25,78,25,80],[25,43,25,44],[25,46,25,47],[25,50,25,51],[25,53,25,54],[25,56,25,57],[25,58,25,60],[26,23,26,24],[26,26,26,27],[26,30,26,31],[26,33,26,34],[26,36,26,37],[26,38,26,40],[26,2,26,3],[26,5,26,6],[26,9,26,10],[26,12,26,13],[26,15,26,16],[26,17,26,19],[26,63,26,64],[26,66,26,67],[26,70,26,71],[26,73,26,74],[26,76,26,77],[26,78,26,80],[26,43,26,44],[26,46,26,47],[26,50,26,51],[26,53,26,54],[26,56,26,57],[26,58,26,60],[27,23,27,24],[27,26,27,27],[27,30,27,31],[27,33,27,34],[27,36,27,37],[27,38,27,40],[27,2,27,3],[27,5,27,6],[27,9,27,10],[27,12,27,13],[27,15,27,16],[27,17,27,19],[27,63,27,64],[27,66,27,67],[27,70,27,71],[27,73,27,74],[27,76,27,77],[27,78,27,80],[27,43,27,44],[27,46,27,47],[27,50,27,51],[27,53,27,54],[27,56,27,57],[27,58,27,60],[28,23,28,24],[28,26,28,27],[28,30,28,31],[28,33,28,34],[28,36,28,37],[28,38,28,40],[28,2,28,3],[28,5,28,6],[28,9,28,10],[28,12,28,13],[28,15,28,16],[28,17,28,19],[28,63,28,64],[28,66,28,67],[28,70,28,71],[28,73,28,74],[28,76,28,77],[28,78,28,80],[28,43,28,44],[28,46,28,47],[28,50,28,51],[28,53,28,54],[28,56,28,57],[28,58,28,60],[30,24,30,25],[30,27,30,28],[30,29,30,30],[30,31,30,33],[30,0,30,1],[30,3,30,4],[30,6,30,7],[30,8,30,9],[30,10,30,12],[30,14,30,15],[30,69,30,70],[30,71,30,73],[30,75,30,76],[30,77,30,78],[31,0,31,1],[31,3,31,4],[31,6,31,7],[31,8,31,9],[31,10,31,12],[31,14,31,15],[30,51,30,53],[30,55,30,56],[30,57,30,58],[30,61,30,62],[30,64,30,65],[30,67,30,68],[30,35,30,36],[30,37,30,38],[30,41,30,42],[30,44,30,45],[30,47,30,48],[30,49,30,50],[30,16,30,17],[30,21,30,22],[31,75,31,76],[31,77,31,78],[32,0,32,1],[32,3,32,4],[32,6,32,7],[32,8,32,9],[32,10,32,12],[32,14,32,15],[31,51,31,53],[31,55,31,56],[31,57,31,58],[31,61,31,62],[31,64,31,65],[31,67,31,68],[31,35,31,36],[31,37,31,38],[31,41,31,42],[31,44,31,45],[31,47,31,48],[31,49,31,50],[31,16,31,17],[31,21,31,22],[31,24,31,25],[31,27,31,28],[32,49,32,50],[32,16,32,17],[32,21,32,22],[32,24,32,25],[32,27,32,28],[32,29,32,30],[32,31,32,33],[31,69,31,70],[31,71,31,73],[31,29,31,30],[31,31,31,33],[33,44,33,45],[33,55,33,56],[33,57,33,58],[32,69,32,70],[32,71,32,73],[32,75,32,76],[32,77,32,78],[33,0,33,1],[33,3,33,4],[33,14,33,15],[33,16,33,17],[33,21,33,22],[33,24,33,25],[32,51,32,53],[32,55,32,56],[32,57,32,58],[32,61,32,62],[32,64,32,65],[32,67,32,68],[32,35,32,36],[32,37,32,38],[32,41,32,42],[32,44,32,45],[32,47,32,48],[34,14,35,15],[34,16,35,17],[34,18,35,18],[34,35,35,36],[34,37,35,38],[34,39,35,39],[33,35,33,36],[33,37,33,38],[33,41,33,42],[34,55,35,56],[34,57,35,58],[34,59,35,59],[34,75,35,76],[34,77,35,78],[34,79,35,79],[33,61,33,62],[33,64,33,65],[33,75,33,76],[33,77,33,78]]}
["様式第21",null,null,null,null,null,null,null,null,null,null,null,null,null,null,null,null,null,null,"（入力用）",null,"様式第21",null,null,null,null,null,null,null,null,null,null,null,null,null,null,null,null,null,null,"（保健所提出用）","様式第21",null,null,null,null,null,null,null,null,null,null,null,null,null,null,null,null,null,null,"（医師会提出用）","様式第21",null,null,null,null,null,null,null,null,null,null,null,null,null,null,null,null,null,null,"（医療機関控え）"]
[null,null,null,null,null,null,null,null,null,null,null,null,null,"検　診　医　療　機　関　名",null,null,null,null,null,null,null,null,null,null,null,null,null,null,null,null,null,null,null,null,"検　診　医　療　機　関　名",null,null,null,null,null,null,null,null,null,null,null,null,null,null,null,null,null,null,null,"検　診　医　療　機　関　名",null,null,null,null,null,null,null,null,null,null,null,null,null,null,null,null,null,null,null,"検　診　医　療　機　関　名"]
["胃がん検診（胃内視鏡検査）受診者名簿",null,null,null,null,null,null,null,null,null,null,null,null,{"$f":"IF(ISBLANK('胃がん検診受診者名簿（1～20）'!N3:T5),\"\",'胃がん検診受診者名簿（1～20）'!N3:T5)","v":""},null,null,null,null,null,null,null,"胃がん検診（胃内視鏡検査）受診者名簿",null,null,null,null,null,null,null,null,null,null,null,null,{"$f":"IF(ISBLANK('胃がん検診受診者名簿（1～20）'!N3),\"\",'胃がん検診受診者名簿（1～20）'!N3)","v":""},null,null,null,null,null,null,"胃がん検診（胃内視鏡検査）受診者名簿",null,null,null,null,null,null,null,null,null,null,null,null,{"$f":"IF(ISBLANK('胃がん検診受診者名簿（1～20）'!AI3),\"\",'胃がん検診受診者名簿（1～20）'!AI3)","v":""},null,null,null,null,null,null,"胃がん検診（胃内視鏡検査）受診者名簿",null,null,null,null,null,null,null,null,null,null,null,null,{"$f":"IF(ISBLANK('胃がん検診受診者名簿（1～20）'!BC3),\"\",'胃がん検診受診者名簿（1～20）'!BC3)","v":""}]
[]
[]
[null,null,"（令和",{"$f":"IF(ISBLANK('胃がん検診受診者名簿（1～20）'!D6:D7),\"\",'胃がん検診受診者名簿（1～20）'!D6:D7)","v":""},"年",{"$f":"IF(ISBLANK('胃がん検診受診者名簿（1～20）'!F6:F7),\"\",'胃がん検診受診者名簿（1～20）'!F6:F7)","v":""},"月分）",null,null,null,null,null,null,"電話番号",null,{"$f":"IF(ISBLANK('胃がん検診受診者名簿（1～20）'!P6:T63),\"\",'胃がん検診受診者名簿（1～20）'!P6:T6)","v":""},null,null,null,null,null,null,null,"（令和",{"$f":"IF(ISBLANK('胃がん検診受診者名簿（1～20）'!D6),\"\",'胃がん検診受診者名簿（1～20）'!D6)","v":""},"年",{"$f":"IF(ISBLANK('胃がん検診受診者名簿（1～20）'!F6),\"\",'胃がん検診受診者名簿（1～20）'!F6)","v":""},"月分）",null,null,null,null,null,null,"電話番号",null,{"$f":"IF(ISBLANK('胃がん検診受診者名簿（1～20）'!P6),\"\",'胃がん検診受診者名簿（1～20）'!P6)","v":""},{"$f":"IF(ISBLANK('胃がん検診受診者名簿（1～20）'!Q6),\"\",'胃がん検診受診者名簿（1～20）'!Q6)","v":""},{"$f":"IF(ISBLANK('胃がん検診受診者名簿（1～20）'!R6),\"\",'胃がん検診受診者名簿（1～20）'!R6)","v":""},{"$f":"IF(ISBLANK('胃がん検診受診者名簿（1～20）'!S6),\"\",'胃がん検診受診者名簿（1～20）'!S6)","v":""},{"$f":"IF(ISBLANK('胃がん検診受診者名簿（1～20）'!T6),\"\",'胃がん検診受診者名簿（1～20）'!T6)","v":""},null,null,"（令和",{"$f":"IF(ISBLANK('胃がん検診受診者名簿（1～20）'!Y6),\"\",'胃がん検診受診者名簿（1～20）'!Y6)","v":""},"年",{"$f":"IF(ISBLANK('胃がん検診受診者名簿（1～20）'!AA6),\"\",'胃がん検診受診者名簿（1～20）'!AA6)","v":""},"月分）",null,null,null,null,null,null,"電話番号",null,{"$f":"IF(ISBLANK('胃がん検診受診者名簿（1～20）'!AK6),\"\",'胃がん検診受診者名簿（1～20）'!AK6)","v":""},{"$f":"IF(ISBLANK('胃がん検診受診者名簿（1～20）'!AL6),\"\",'胃がん検診受診者名簿（1～20）'!AL6)","v":""},{"$f":"IF(ISBLANK('胃がん検診受診者名簿（1～20）'!AM6),\"\",'胃がん検診受診者名簿（1～20）'!AM6)","v":""},{"$f":"IF(ISBLANK('胃がん検診受診者名簿（1～20）'!AN6),\"\",'胃がん検診受診者名簿（1～20）'!AN6)","v":""},{"$f":"IF(ISBLANK('胃がん検診受診者名簿（1～20）'!AO6),\"\",'胃がん検診受診者名簿（1～20）'!AO6)","v":""},null,null,"（令和",{"$f":"IF(ISBLANK('胃がん検診受診者名簿（1～20）'!AS6),\"\",'胃がん検診受診者名簿（1～20）'!AS6)","v":""},"年",{"$f":"IF(ISBLANK('胃がん検診受診者名簿（1～20）'!AU6),\"\",'胃がん検診受診者名簿（1～20）'!AU6)","v":""},"月分）",null,null,null,null,null,null,"電話番号",null,{"$f":"IF(ISBLANK('胃がん検診受診者名簿（1～20）'!BE6),\"\",'胃がん検診受診者名簿（1～20）'!BE6)","v":""},{"$f":"IF(ISBLANK('胃がん検診受診者名簿（1～20）'!BF6),\"\",'胃がん検診受診者名簿（1～20）'!BF6)","v":""},{"$f":"IF(ISBLANK('胃がん検診受診者名簿（1～20）'!BG6),\"\",'胃がん検診受診者名簿（1～20）'!BG6)","v":""},{"$f":"IF(ISBLANK('胃がん検診受診者名簿（1～20）'!BH6),\"\",'胃がん検診受診者名簿（1～20）'!BH6)","v":""},{"$f":"IF(ISBLANK('胃がん検診受診者名簿（1～20）'!BI6),\"\",'胃がん検診受診者名簿（1～20）'!BI6)","v":""}]
[]
["受付\n番号","受診日","氏　　名",null,"年齢","電話番号",null,"生検\n実施","偶発症\n発生",null,null,"結 果 判 定",null,null,"自己負担\n免除者区分",null,null,"備　　考\n（精検紹介先医療機関等）",null,null,null,"受付\n番号","受診日","氏　　名",null,"年齢","電話番号",null,"生検\n実施","偶発症\n発生",null,null,"結 果 判 定",null,null,"自己負担\n免除者区分",null,null,"備　　考\n（精検紹介先医療機関等）",null,null,"受付\n番号","受診日","氏　　名",null,"年齢","電話番号",null,"生検\n実施","偶発症\n発生",null,null,"結 果 判 定",null,null,"自己負担\n免除者区分",null,null,"備　　考\n（精検紹介先医療機関等）",null,null,"受付\n番号","受診日","氏　　名",null,"年齢","電話番号",null,"生検\n実施","偶発症\n発生",null,null,"結 果 判 定",null,null,"自己負担\n免除者区分",null,null,"備　　考\n（精検紹介先医療機関等）"]
[null,null,null,null,null,null,null,null,"検診時","生検時",null,null,null,null,null,null,null,null,null,null,null,null,null,null,null,null,null,null,null,"検診時","生検時",null,null,null,null,null,null,null,null,null,null,null,null,null,null,null,null,null,null,"検診時","生検時",null,null,null,null,null,null,null,null,null,null,null,null,null,null,null,null,null,null,"検診時","生検時"]
[81,null,null,null,null,null,null,false,false,false,null,null,{"$f":"IF(L10=1,\"胃がんなし\",IF(L10=2,\"胃がん疑い\",IF(L10=3,\"胃がんあり\",IF(L10=4,\"胃がん以外の悪性病変\",\"\"))))","v":""},null,null,{"$f":"IF(O10=1,\"70歳以上\",IF(O10=2,\"後期高齢者医療制度\",IF(O10=3,\"生活保護　世帯\",IF(O10=4,\"非課税世帯\",\"\"))))","v":""},null,null,null,null,null,81,{"$f":"IF(ISBLANK('胃がん検診受診者名簿（81～100）'!B10),\"\",'胃がん検診受診者名簿（81～100）'!B10)","v":""},{"$f":"IF(ISBLANK('胃がん検診受診者名簿（81～100）'!C10),\"\",'胃がん検診受診者名簿（81～100）'!C10)","v":""},null,{"$f":"IF(ISBLANK('胃がん検診受診者名簿（81～100）'!E10),\"\",'胃がん検診受診者名簿（81～100）'!E10)","v":""},{"$f":"IF(ISBLANK('胃がん検診受診者名簿（81～100）'!F10),\"\",'胃がん検診受診者名簿（81～100）'!F10)","v":""},null,null,null,null,null,null,{"$f":"IF(ISBLANK('胃がん検診受診者名簿（81～100）'!M10),\"\",'胃がん検診受診者名簿（81～100）'!M10)","v":""},null,null,{"$f":"IF(ISBLANK('胃がん検診受診者名簿（81～100）'!P10),\"\",'胃がん検診受診者名簿（81～100）'!P10)","v":""},null,{"$f":"IF(ISBLANK('胃がん検診受診者名簿（81～100）'!R10),\"\",'胃がん検診受診者名簿（81～100）'!R10)","v":""},null,null,81,{"$f":"IF(ISBLANK('胃がん検診受診者名簿（81～100）'!W10),\"\",'胃がん検診受診者名簿（81～100）'!W10)","v":""},{"$f":"IF(ISBLANK('胃がん検診受診者名簿（81～100）'!X10),\"\",'胃がん検診受診者名簿（81～100）'!X10)","v":""},null,{"$f":"IF(ISBLANK('胃がん検診受診者名簿（81～100）'!Z10),\"\",'胃がん検診受診者名簿（81～100）'!Z10)","v":""},{"$f":"IF(ISBLANK('胃がん検診受診者名簿（81～100）'!AA10),\"\",'胃がん検診受診者名簿（81～100）'!AA10)","v":""},null,null,null,null,null,null,{"$f":"IF(ISBLANK('胃がん検診受診者名簿（81～100）'!AH10),\"\",'胃がん検診受診者名簿（81～100）'!AH10)","v":""},null,null,{"$f":"IF(ISBLANK('胃がん検診受診者名簿（81～100）'!AK10),\"\",'胃がん検診受診者名簿（81～100）'!AK10)","v":""},null,{"$f":"IF(ISBLANK('胃がん検診受診者名簿（81～100）'!AM10),\"\",'胃がん検診受診者名簿（81～100）'!AM10)","v":""},null,null,81,{"$f":"IF(ISBLANK('胃がん検診受診者名簿（81～100）'!AQ10),\"\",'胃がん検診受診者名簿（81～100）'!AQ10)","v":""},{"$f":"IF(ISBLANK('胃がん検診受診者名簿（81～100）'!AR10),\"\",'胃がん検診受診者名簿（81～100）'!AR10)","v":""},null,{"$f":"IF(ISBLANK('胃がん検診受診者名簿（81～100）'!AT10),\"\",'胃がん検診受診者名簿（81～100）'!AT10)","v":""},{"$f":"IF(ISBLANK('胃がん検診受診者名簿（81～100）'!AU10),\"\",'胃がん検診受診者名簿（81～100）'!AU10)","v":""},null,null,null,null,null,null,{"$f":"IF(ISBLANK('胃がん検診受診者名簿（81～100）'!BB10),\"\",'胃がん検診受診者名簿（81～100）'!BB10)","v":""},null,null,{"$f":"IF(ISBLANK('胃がん検診受診者名簿（81～100）'!BE10),\"\",'胃がん検診受診者名簿（81～100）'!BE10)","v":""},null,{"$f":"IF(ISBLANK('胃がん検診受診者名簿（81～100）'!BG10),\"\",'胃がん検診受診者名簿（81～100）'!BG10)","v":""}]
[82,null,null,null,null,null,null,false,null,false,null,null,{"$f":"IF(L11=1,\"胃がんなし\",IF(L11=2,\"胃がん疑い\",IF(L11=3,\"胃がんあり\",IF(L11=4,\"胃がん以外の悪性病変\",\"\"))))","v":""},null,null,{"$f":"IF(O11=1,\"70歳以上\",IF(O11=2,\"後期高齢者医療制度\",IF(O11=3,\"生活保護　世帯\",IF(O11=4,\"非課税世帯\",\"\"))))","v":""},null,null,null,null,null,82,{"$f":"IF(ISBLANK('胃がん検診受診者名簿（81～100）'!B11),\"\",'胃がん検診受診者名簿（81～100）'!B11)","v":""},{"$f":"IF(ISBLANK('胃がん検診受診者名簿（81～100）'!C11),\"\",'胃がん検診受診者名簿（81～100）'!C11)","v":""},null,{"$f":"IF(ISBLANK('胃がん検診受診者名簿（81～100）'!E11),\"\",'胃がん検診受診者名簿（81～100）'!E11)","v":""},{"$f":"IF(ISBLANK('胃がん検診受診者名簿（81～100）'!F11),\"\",'胃がん検診受診者名簿（81～100）'!F11)","v":""},null,null,null,null,null,null,{"$f":"IF(ISBLANK('胃がん検診受診者名簿（81～100）'!M11),\"\",'胃がん検診受診者名簿（81～100）'!M11)","v":""},null,null,{"$f":"IF(ISBLANK('胃がん検診受診者名簿（81～100）'!P11),\"\",'胃がん検診受診者名簿（81～100）'!P11)","v":""},null,{"$f":"IF(ISBLANK('胃がん検診受診者名簿（81～100）'!R11),\"\",'胃がん検診受診者名簿（81～100）'!R11)","v":""},null,null,82,{"$f":"IF(ISBLANK('胃がん検診受診者名簿（81～100）'!W11),\"\",'胃がん検診受診者名簿（81～100）'!W11)","v":""},{"$f":"IF(ISBLANK('胃がん検診受診者名簿（81～100）'!X11),\"\",'胃がん検診受診者名簿（81～100）'!X11)","v":""},null,{"$f":"IF(ISBLANK('胃がん検診受診者名簿（81～100）'!Z11),\"\",'胃がん検診受診者名簿（81～100）'!Z11)","v":""},{"$f":"IF(ISBLANK('胃がん検診受診者名簿（81～100）'!AA11),\"\",'胃がん検診受診者名簿（81～100）'!AA11)","v":""},null,null,null,null,null,null,{"$f":"IF(ISBLANK('胃がん検診受診者名簿（81～100）'!AH11),\"\",'胃がん検診受診者名簿（81～100）'!AH11)","v":""},null,null,{"$f":"IF(ISBLANK('胃がん検診受診者名簿（81～100）'!AK11),\"\",'胃がん検診受診者名簿（81～100）'!AK11)","v":""},null,{"$f":"IF(ISBLANK('胃がん検診受診者名簿（81～100）'!AM11),\"\",'胃がん検診受診者名簿（81～100）'!AM11)","v":""},null,null,82,{"$f":"IF(ISBLANK('胃がん検診受診者名簿（81～100）'!AQ11),\"\",'胃がん検診受診者名簿（81～100）'!AQ11)","v":""},{"$f":"IF(ISBLANK('胃がん検診受診者名簿（81～100）'!AR11),\"\",'胃がん検診受診者名簿（81～100）'!AR11)","v":""},null,{"$f":"IF(ISBLANK('胃がん検診受診者名簿（81～100）'!AT11),\"\",'胃がん検診受診者名簿（81～100）'!AT11)","v":""},{"$f":"IF(ISBLANK('胃がん検診受診者名簿（81～100）'!AU11),\"\",'胃がん検診受診者名簿（81～100）'!AU11)","v":""},null,null,null,null,null,null,{"$f":"IF(ISBLANK('胃がん検診受診者名簿（81～100）'!BB11),\"\",'胃がん検診受診者名簿（81～100）'!BB11)","v":""},null,null,{"$f":"IF(ISBLANK('胃がん検診受診者名簿（81～100）'!BE11),\"\",'胃がん検診受診者名簿（81～100）'!BE11)","v":""},null,{"$f":"IF(ISBLANK('胃がん検診受診者名簿（81～100）'!BG11),\"\",'胃がん検診受診者名簿（81～100）'!BG11)","v":""}]
[83,null,null,null,null,null,null,null,false,false,null,null,{"$f":"IF(L12=1,\"胃がんなし\",IF(L12=2,\"胃がん疑い\",IF(L12=3,\"胃がんあり\",IF(L12=4,\"胃がん以外の悪性病変\",\"\"))))","v":""},null,null,"",null,null,null,null,null,83,{"$f":"IF(ISBLANK('胃がん検診受診者名簿（81～100）'!B12),\"\",'胃がん検診受診者名簿（81～100）'!B12)","v":""},{"$f":"IF(ISBLANK('胃がん検診受診者名簿（81～100）'!C12),\"\",'胃がん検診受診者名簿（81～100）'!C12)","v":""},null,{"$f":"IF(ISBLANK('胃がん検診受診者名簿（81～100）'!E12),\"\",'胃がん検診受診者名簿（81～100）'!E12)","v":""},{"$f":"IF(ISBLANK('胃がん検診受診者名簿（81～100）'!F12),\"\",'胃がん検診受診者名簿（81～100）'!F12)","v":""},null,null,null,null,null,null,{"$f":"IF(ISBLANK('胃がん検診受診者名簿（81～100）'!M12),\"\",'胃がん検診受診者名簿（81～100）'!M12)","v":""},null,null,{"$f":"IF(ISBLANK('胃がん検診受診者名簿（81～100）'!P12),\"\",'胃がん検診受診者名簿（81～100）'!P12)","v":""},null,{"$f":"IF(ISBLANK('胃がん検診受診者名簿（81～100）'!R12),\"\",'胃がん検診受診者名簿（81～100）'!R12)","v":""},null,null,83,{"$f":"IF(ISBLANK('胃がん検診受診者名簿（81～100）'!W12),\"\",'胃がん検診受診者名簿（81～100）'!W12)","v":""},{"$f":"IF(ISBLANK('胃がん検診受診者名簿（81～100）'!X12),\"\",'胃がん検診受診者名簿（81～100）'!X12)","v":""},null,{"$f":"IF(ISBLANK('胃がん検診受診者名簿（81～100）'!Z12),\"\",'胃がん検診受診者名簿（81～100）'!Z12)","v":""},{"$f":"IF(ISBLANK('胃がん検診受診者名簿（81～100）'!AA12),\"\",'胃がん検診受診者名簿（81～100）'!AA12)","v":""},null,null,null,null,null,null,{"$f":"IF(ISBLANK('胃がん検診受診者名簿（81～100）'!AH12),\"\",'胃がん検診受診者名簿（81～100）'!AH12)","v":""},null,null,{"$f":"IF(ISBLANK('胃がん検診受診者名簿（81～100）'!AK12),\"\",'胃がん検診受診者名簿（81～100）'!AK12)","v":""},null,{"$f":"IF(ISBLANK('胃がん検診受診者名簿（81～100）'!AM12),\"\",'胃がん検診受診者名簿（81～100）'!AM12)","v":""},null,null,83,{"$f":"IF(ISBLANK('胃がん検診受診者名簿（81～100）'!AQ12),\"\",'胃がん検診受診者名簿（81～100）'!AQ12)","v":""},{"$f":"IF(ISBLANK('胃がん検診受診者名簿（81～100）'!AR12),\"\",'胃がん検診受診者名簿（81～100）'!AR12)","v":""},null,{"$f":"IF(ISBLANK('胃がん検診受診者名簿（81～100）'!AT12),\"\",'胃がん検診受診者名簿（81～100）'!AT12)","v":""},{"$f":"IF(ISBLANK('胃がん検診受診者名簿（81～100）'!AU12),\"\",'胃がん検診受診者名簿（81～100）'!AU12)","v":""},null,null,null,null,null,null,{"$f":"IF(ISBLANK('胃がん検診受診者名簿（81～100）'!BB12),\"\",'胃がん検診受診者名簿（81～100）'!BB12)","v":""},null,null,{"$f":"IF(ISBLANK('胃がん検診受診者名簿（81～100）'!BE12),\"\",'胃がん検診受診者名簿（81～100）'!BE12)","v":""},null,{"$f":"IF(ISBLANK('胃がん検診受診者名簿（81～100）'!BG12),\"\",'胃がん検診受診者名簿（81～100）'!BG12)","v":""}]
[84,null,null,null,null,null,null,false,false,false,null,null,"",null,null,"",null,null,null,null,null,84,{"$f":"IF(ISBLANK('胃がん検診受診者名簿（81～100）'!B13),\"\",'胃がん検診受診者名簿（81～100）'!B13)","v":""},{"$f":"IF(ISBLANK('胃がん検診受診者名簿（81～100）'!C13),\"\",'胃がん検診受診者名簿（81～100）'!C13)","v":""},null,{"$f":"IF(ISBLANK('胃がん検診受診者名簿（81～100）'!E13),\"\",'胃がん検診受診者名簿（81～100）'!E13)","v":""},{"$f":"IF(ISBLANK('胃がん検診受診者名簿（81～100）'!F13),\"\",'胃がん検診受診者名簿（81～100）'!F13)","v":""},null,null,null,null,null,null,{"$f":"IF(ISBLANK('胃がん検診受診者名簿（81～100）'!M13),\"\",'胃がん検診受診者名簿（81～100）'!M13)","v":""},null,null,{"$f":"IF(ISBLANK('胃がん検診受診者名簿（81～100）'!P13),\"\",'胃がん検診受診者名簿（81～100）'!P13)","v":""},null,{"$f":"IF(ISBLANK('胃がん検診受診者名簿（81～100）'!R13),\"\",'胃がん検診受診者名簿（81～100）'!R13)","v":""},null,null,84,{"$f":"IF(ISBLANK('胃がん検診受診者名簿（81～100）'!W13),\"\",'胃がん検診受診者名簿（81～100）'!W13)","v":""},{"$f":"IF(ISBLANK('胃がん検診受診者名簿（81～100）'!X13),\"\",'胃がん検診受診者名簿（81～100）'!X13)","v":""},null,{"$f":"IF(ISBLANK('胃がん検診受診者名簿（81～100）'!Z13),\"\",'胃がん検診受診者名簿（81～100）'!Z13)","v":""},{"$f":"IF(ISBLANK('胃がん検診受診者名簿（81～100）'!AA13),\"\",'胃がん検診受診者名簿（81～100）'!AA13)","v":""},null,null,null,null,null,null,{"$f":"IF(ISBLANK('胃がん検診受診者名簿（81～100）'!AH13),\"\",'胃がん検診受診者名簿（81～100）'!AH13)","v":""},null,null,{"$f":"IF(ISBLANK('胃がん検診受診者名簿（81～100）'!AK13),\"\",'胃がん検診受診者名簿（81～100）'!AK13)","v":""},null,{"$f":"IF(ISBLANK('胃がん検診受診者名簿（81～100）'!AM13),\"\",'胃がん検診受診者名簿（81～100）'!AM13)","v":""},null,null,84,{"$f":"IF(ISBLANK('胃がん検診受診者名簿（81～100）'!AQ13),\"\",'胃がん検診受診者名簿（81～100）'!AQ13)","v":""},{"$f":"IF(ISBLANK('胃がん検診受診者名簿（81～100）'!AR13),\"\",'胃がん検診受診者名簿（81～100）'!AR13)","v":""},null,{"$f":"IF(ISBLANK('胃がん検診受診者名簿（81～100）'!AT13),\"\",'胃がん検診受診者名簿（81～100）'!AT13)","v":""},{"$f":"IF(ISBLANK('胃がん検診受診者名簿（81～100）'!AU13),\"\",'胃がん検診受診者名簿（81～100）'!AU13)","v":""},null,null,null,null,null,null,{"$f":"IF(ISBLANK('胃がん検診受診者名簿（81～100）'!BB13),\"\",'胃がん検診受診者名簿（81～100）'!BB13)","v":""},null,null,{"$f":"IF(ISBLANK('胃がん検診受診者名簿（81～100）'!BE13),\"\",'胃がん検診受診者名簿（81～100）'!BE13)","v":""},null,{"$f":"IF(ISBLANK('胃がん検診受診者名簿（81～100）'!BG13),\"\",'胃がん検診受診者名簿（81～100）'!BG13)","v":""}]
[85,null,null,null,null,null,null,false,null,null,null,null,"",null,null,"",null,null,null,null,null,85,{"$f":"IF(ISBLANK('胃がん検診受診者名簿（81～100）'!B14),\"\",'胃がん検診受診者名簿（81～100）'!B14)","v":""},{"$f":"IF(ISBLANK('胃がん検診受診者名簿（81～100）'!C14),\"\",'胃がん検診受診者名簿（81～100）'!C14)","v":""},null,{"$f":"IF(ISBLANK('胃がん検診受診者名簿（81～100）'!E14),\"\",'胃がん検診受診者名簿（81～100）'!E14)","v":""},{"$f":"IF(ISBLANK('胃がん検診受診者名簿（81～100）'!F14),\"\",'胃がん検診受診者名簿（81～100）'!F14)","v":""},null,null,null,null,null,null,{"$f":"IF(ISBLANK('胃がん検診受診者名簿（81～100）'!M14),\"\",'胃がん検診受診者名簿（81～100）'!M14)","v":""},null,null,{"$f":"IF(ISBLANK('胃がん検診受診者名簿（81～100）'!P14),\"\",'胃がん検診受診者名簿（81～100）'!P14)","v":""},null,{"$f":"IF(ISBLANK('胃がん検診受診者名簿（81～100）'!R14),\"\",'胃がん検診受診者名簿（81～100）'!R14)","v":""},null,null,85,{"$f":"IF(ISBLANK('胃がん検診受診者名簿（81～100）'!W14),\"\",'胃がん検診受診者名簿（81～100）'!W14)","v":""},{"$f":"IF(ISBLANK('胃がん検診受診者名簿（81～100）'!X14),\"\",'胃がん検診受診者名簿（81～100）'!X14)","v":""},null,{"$f":"IF(ISBLANK('胃がん検診受診者名簿（81～100）'!Z14),\"\",'胃がん検診受診者名簿（81～100）'!Z14)","v":""},{"$f":"IF(ISBLANK('胃がん検診受診者名簿（81～100）'!AA14),\"\",'胃がん検診受診者名簿（81～100）'!AA14)","v":""},null,null,null,null,null,null,{"$f":"IF(ISBLANK('胃がん検診受診者名簿（81～100）'!AH14),\"\",'胃がん検診受診者名簿（81～100）'!AH14)","v":""},null,null,{"$f":"IF(ISBLANK('胃がん検診受診者名簿（81～100）'!AK14),\"\",'胃がん検診受診者名簿（81～100）'!AK14)","v":""},null,{"$f":"IF(ISBLANK('胃がん検診受診者名簿（81～100）'!AM14),\"\",'胃がん検診受診者名簿（81～100）'!AM14)","v":""},null,null,85,{"$f":"IF(ISBLANK('胃がん検診受診者名簿（81～100）'!AQ14),\"\",'胃がん検診受診者名簿（81～100）'!AQ14)","v":""},{"$f":"IF(ISBLANK('胃がん検診受診者名簿（81～100）'!AR14),\"\",'胃がん検診受診者名簿（81～100）'!AR14)","v":""},null,{"$f":"IF(ISBLANK('胃がん検診受診者名簿（81～100）'!AT14),\"\",'胃がん検診受診者名簿（81～100）'!AT14)","v":""},{"$f":"IF(ISBLANK('胃がん検診受診者名簿（81～100）'!AU14),\"\",'胃がん検診受診者名簿（81～100）'!AU14)","v":""},null,null,null,null,null,null,{"$f":"IF(ISBLANK('胃がん検診受診者名簿（81～100）'!BB14),\"\",'胃がん検診受診者名簿（81～100）'!BB14)","v":""},null,null,{"$f":"IF(ISBLANK('胃がん検診受診者名簿（81～100）'!BE14),\"\",'胃がん検診受診者名簿（81～100）'!BE14)","v":""},null,{"$f":"IF(ISBLANK('胃がん検診受診者名簿（81～100）'!BG14),\"\",'胃がん検診受診者名簿（81～100）'!BG14)","v":""}]
[86,null,null,null,null,null,null,false,null,null,null,null,"",null,null,"",null,null,null,null,null,86,{"$f":"IF(ISBLANK('胃がん検診受診者名簿（81～100）'!B15),\"\",'胃がん検診受診者名簿（81～100）'!B15)","v":""},{"$f":"IF(ISBLANK('胃がん検診受診者名簿（81～100）'!C15),\"\",'胃がん検診受診者名簿（81～100）'!C15)","v":""},null,{"$f":"IF(ISBLANK('胃がん検診受診者名簿（81～100）'!E15),\"\",'胃がん検診受診者名簿（81～100）'!E15)","v":""},{"$f":"IF(ISBLANK('胃がん検診受診者名簿（81～100）'!F15),\"\",'胃がん検診受診者名簿（81～100）'!F15)","v":""},null,null,null,null,null,null,{"$f":"IF(ISBLANK('胃がん検診受診者名簿（81～100）'!M15),\"\",'胃がん検診受診者名簿（81～100）'!M15)","v":""},null,null,{"$f":"IF(ISBLANK('胃がん検診受診者名簿（81～100）'!P15),\"\",'胃がん検診受診者名簿（81～100）'!P15)","v":""},null,{"$f":"IF(ISBLANK('胃がん検診受診者名簿（81～100）'!R15),\"\",'胃がん検診受診者名簿（81～100）'!R15)","v":""},null,null,86,{"$f":"IF(ISBLANK('胃がん検診受診者名簿（81～100）'!W15),\"\",'胃がん検診受診者名簿（81～100）'!W15)","v":""},{"$f":"IF(ISBLANK('胃がん検診受診者名簿（81～100）'!X15),\"\",'胃がん検診受診者名簿（81～100）'!X15)","v":""},null,{"$f":"IF(ISBLANK('胃がん検診受診者名簿（81～100）'!Z15),\"\",'胃がん検診受診者名簿（81～100）'!Z15)","v":""},{"$f":"IF(ISBLANK('胃がん検診受診者名簿（81～100）'!AA15),\"\",'胃がん検診受診者名簿（81～100）'!AA15)","v":""},null,null,null,null,null,null,{"$f":"IF(ISBLANK('胃がん検診受診者名簿（81～100）'!AH15),\"\",'胃がん検診受診者名簿（81～100）'!AH15)","v":""},null,null,{"$f":"IF(ISBLANK('胃がん検診受診者名簿（81～100）'!AK15),\"\",'胃がん検診受診者名簿（81～100）'!AK15)","v":""},null,{"$f":"IF(ISBLANK('胃がん検診受診者名簿（81～100）'!AM15),\"\",'胃がん検診受診者名簿（81～100）'!AM15)","v":""},null,null,86,{"$f":"IF(ISBLANK('胃がん検診受診者名簿（81～100）'!AQ15),\"\",'胃がん検診受診者名簿（81～100）'!AQ15)","v":""},{"$f":"IF(ISBLANK('胃がん検診受診者名簿（81～100）'!AR15),\"\",'胃がん検診受診者名簿（81～100）'!AR15)","v":""},null,{"$f":"IF(ISBLANK('胃がん検診受診者名簿（81～100）'!AT15),\"\",'胃がん検診受診者名簿（81～100）'!AT15)","v":""},{"$f":"IF(ISBLANK('胃がん検診受診者名簿（81～100）'!AU15),\"\",'胃がん検診受診者名簿（81～100）'!AU15)","v":""},null,null,null,null,null,null,{"$f":"IF(ISBLANK('胃がん検診受診者名簿（81～100）'!BB15),\"\",'胃がん検診受診者名簿（81～100）'!BB15)","v":""},null,null,{"$f":"IF(ISBLANK('胃がん検診受診者名簿（81～100）'!BE15),\"\",'胃がん検診受診者名簿（81～100）'!BE15)","v":""},null,{"$f":"IF(ISBLANK('胃がん検診受診者名簿（81～100）'!BG15),\"\",'胃がん検診受診者名簿（81～100）'!BG15)","v":""}]
[87,null,null,null,null,null,null,null,null,null,null,null,"",null,null,"",null,null,null,null,null,87,{"$f":"IF(ISBLANK('胃がん検診受診者名簿（81～100）'!B16),\"\",'胃がん検診受診者名簿（81～100）'!B16)","v":""},{"$f":"IF(ISBLANK('胃がん検診受診者名簿（81～100）'!C16),\"\",'胃がん検診受診者名簿（81～100）'!C16)","v":""},null,{"$f":"IF(ISBLANK('胃がん検診受診者名簿（81～100）'!E16),\"\",'胃がん検診受診者名簿（81～100）'!E16)","v":""},{"$f":"IF(ISBLANK('胃がん検診受診者名簿（81～100）'!F16),\"\",'胃がん検診受診者名簿（81～100）'!F16)","v":""},null,null,null,null,null,null,{"$f":"IF(ISBLANK('胃がん検診受診者名簿（81～100）'!M16),\"\",'胃がん検診受診者名簿（81～100）'!M16)","v":""},null,null,{"$f":"IF(ISBLANK('胃がん検診受診者名簿（81～100）'!P16),\"\",'胃がん検診受診者名簿（81～100）'!P16)","v":""},null,{"$f":"IF(ISBLANK('胃がん検診受診者名簿（81～100）'!R16),\"\",'胃がん検診受診者名簿（81～100）'!R16)","v":""},null,null,87,{"$f":"IF(ISBLANK('胃がん検診受診者名簿（81～100）'!W16),\"\",'胃がん検診受診者名簿（81～100）'!W16)","v":""},{"$f":"IF(ISBLANK('胃がん検診受診者名簿（81～100）'!X16),\"\",'胃がん検診受診者名簿（81～100）'!X16)","v":""},null,{"$f":"IF(ISBLANK('胃がん検診受診者名簿（81～100）'!Z16),\"\",'胃がん検診受診者名簿（81～100）'!Z16)","v":""},{"$f":"IF(ISBLANK('胃がん検診受診者名簿（81～100）'!AA16),\"\",'胃がん検診受診者名簿（81～100）'!AA16)","v":""},null,null,null,null,null,null,{"$f":"IF(ISBLANK('胃がん検診受診者名簿（81～100）'!AH16),\"\",'胃がん検診受診者名簿（81～100）'!AH16)","v":""},null,null,{"$f":"IF(ISBLANK('胃がん検診受診者名簿（81～100）'!AK16),\"\",'胃がん検診受診者名簿（81～100）'!AK16)","v":""},null,{"$f":"IF(ISBLANK('胃がん検診受診者名簿（81～100）'!AM16),\"\",'胃がん検診受診者名簿（81～100）'!AM16)","v":""},null,null,87,{"$f":"IF(ISBLANK('胃がん検診受診者名簿（81～100）'!AQ16),\"\",'胃がん検診受診者名簿（81～100）'!AQ16)","v":""},{"$f":"IF(ISBLANK('胃がん検診受診者名簿（81～100）'!AR16),\"\",'胃がん検診受診者名簿（81～100）'!AR16)","v":""},null,{"$f":"IF(ISBLANK('胃がん検診受診者名簿（81～100）'!AT16),\"\",'胃がん検診受診者名簿（81～100）'!AT16)","v":""},{"$f":"IF(ISBLANK('胃がん検診受診者名簿（81～100）'!AU16),\"\",'胃がん検診受診者名簿（81～100）'!AU16)","v":""},null,null,null,null,null,null,{"$f":"IF(ISBLANK('胃がん検診受診者名簿（81～100）'!BB16),\"\",'胃がん検診受診者名簿（81～100）'!BB16)","v":""},null,null,{"$f":"IF(ISBLANK('胃がん検診受診者名簿（81～100）'!BE16),\"\",'胃がん検診受診者名簿（81～100）'!BE16)","v":""},null,{"$f":"IF(ISBLANK('胃がん検診受診者名簿（81～100）'!BG16),\"\",'胃がん検診受診者名簿（81～100）'!BG16)","v":""}]
[88,null,null,null,null,null,null,false,false,false,null,null,"",null,null,"",null,null,null,null,null,88,{"$f":"IF(ISBLANK('胃がん検診受診者名簿（81～100）'!B17),\"\",'胃がん検診受診者名簿（81～100）'!B17)","v":""},{"$f":"IF(ISBLANK('胃がん検診受診者名簿（81～100）'!C17),\"\",'胃がん検診受診者名簿（81～100）'!C17)","v":""},null,{"$f":"IF(ISBLANK('胃がん検診受診者名簿（81～100）'!E17),\"\",'胃がん検診受診者名簿（81～100）'!E17)","v":""},{"$f":"IF(ISBLANK('胃がん検診受診者名簿（81～100）'!F17),\"\",'胃がん検診受診者名簿（81～100）'!F17)","v":""},null,null,null,null,null,null,{"$f":"IF(ISBLANK('胃がん検診受診者名簿（81～100）'!M17),\"\",'胃がん検診受診者名簿（81～100）'!M17)","v":""},null,null,{"$f":"IF(ISBLANK('胃がん検診受診者名簿（81～100）'!P17),\"\",'胃がん検診受診者名簿（81～100）'!P17)","v":""},null,{"$f":"IF(ISBLANK('胃がん検診受診者名簿（81～100）'!R17),\"\",'胃がん検診受診者名簿（81～100）'!R17)","v":""},null,null,88,{"$f":"IF(ISBLANK('胃がん検診受診者名簿（81～100）'!W17),\"\",'胃がん検診受診者名簿（81～100）'!W17)","v":""},{"$f":"IF(ISBLANK('胃がん検診受診者名簿（81～100）'!X17),\"\",'胃がん検診受診者名簿（81～100）'!X17)","v":""},null,{"$f":"IF(ISBLANK('胃がん検診受診者名簿（81～100）'!Z17),\"\",'胃がん検診受診者名簿（81～100）'!Z17)","v":""},{"$f":"IF(ISBLANK('胃がん検診受診者名簿（81～100）'!AA17),\"\",'胃がん検診受診者名簿（81～100）'!AA17)","v":""},null,null,null,null,null,null,{"$f":"IF(ISBLANK('胃がん検診受診者名簿（81～100）'!AH17),\"\",'胃がん検診受診者名簿（81～100）'!AH17)","v":""},null,null,{"$f":"IF(ISBLANK('胃がん検診受診者名簿（81～100）'!AK17),\"\",'胃がん検診受診者名簿（81～100）'!AK17)","v":""},null,{"$f":"IF(ISBLANK('胃がん検診受診者名簿（81～100）'!AM17),\"\",'胃がん検診受診者名簿（81～100）'!AM17)","v":""},null,null,88,{"$f":"IF(ISBLANK('胃がん検診受診者名簿（81～100）'!AQ17),\"\",'胃がん検診受診者名簿（81～100）'!AQ17)","v":""},{"$f":"IF(ISBLANK('胃がん検診受診者名簿（81～100）'!AR17),\"\",'胃がん検診受診者名簿（81～100）'!AR17)","v":""},null,{"$f":"IF(ISBLANK('胃がん検診受診者名簿（81～100）'!AT17),\"\",'胃がん検診受診者名簿（81～100）'!AT17)","v":""},{"$f":"IF(ISBLANK('胃がん検診受診者名簿（81～100）'!AU17),\"\",'胃がん検診受診者名簿（81～100）'!AU17)","v":""},null,null,null,null,null,null,{"$f":"IF(ISBLANK('胃がん検診受診者名簿（81～100）'!BB17),\"\",'胃がん検診受診者名簿（81～100）'!BB17)","v":""},null,null,{"$f":"IF(ISBLANK('胃がん検診受診者名簿（81～100）'!BE17),\"\",'胃がん検診受診者名簿（81～100）'!BE17)","v":""},null,{"$f":"IF(ISBLANK('胃がん検診受診者名簿（81～100）'!BG17),\"\",'胃がん検診受診者名簿（81～100）'!BG17)","v":""}]
[89,null,null,null,null,null,null,false,false,false,null,null,"",null,null,"",null,null,null,null,null,89,{"$f":"IF(ISBLANK('胃がん検診受診者名簿（81～100）'!B18),\"\",'胃がん検診受診者名簿（81～100）'!B18)","v":""},{"$f":"IF(ISBLANK('胃がん検診受診者名簿（81～100）'!C18),\"\",'胃がん検診受診者名簿（81～100）'!C18)","v":""},null,{"$f":"IF(ISBLANK('胃がん検診受診者名簿（81～100）'!E18),\"\",'胃がん検診受診者名簿（81～100）'!E18)","v":""},{"$f":"IF(ISBLANK('胃がん検診受診者名簿（81～100）'!F18),\"\",'胃がん検診受診者名簿（81～100）'!F18)","v":""},null,null,null,null,null,null,{"$f":"IF(ISBLANK('胃がん検診受診者名簿（81～100）'!M18),\"\",'胃がん検診受診者名簿（81～100）'!M18)","v":""},null,null,{"$f":"IF(ISBLANK('胃がん検診受診者名簿（81～100）'!P18),\"\",'胃がん検診受診者名簿（81～100）'!P18)","v":""},null,{"$f":"IF(ISBLANK('胃がん検診受診者名簿（81～100）'!R18),\"\",'胃がん検診受診者名簿（81～100）'!R18)","v":""},null,null,89,{"$f":"IF(ISBLANK('胃がん検診受診者名簿（81～100）'!W18),\"\",'胃がん検診受診者名簿（81～100）'!W18)","v":""},{"$f":"IF(ISBLANK('胃がん検診受診者名簿（81～100）'!X18),\"\",'胃がん検診受診者名簿（81～100）'!X18)","v":""},null,{"$f":"IF(ISBLANK('胃がん検診受診者名簿（81～100）'!Z18),\"\",'胃がん検診受診者名簿（81～100）'!Z18)","v":""},{"$f":"IF(ISBLANK('胃がん検診受診者名簿（81～100）'!AA18),\"\",'胃がん検診受診者名簿（81～100）'!AA18)","v":""},null,null,null,null,null,null,{"$f":"IF(ISBLANK('胃がん検診受診者名簿（81～100）'!AH18),\"\",'胃がん検診受診者名簿（81～100）'!AH18)","v":""},null,null,{"$f":"IF(ISBLANK('胃がん検診受診者名簿（81～100）'!AK18),\"\",'胃がん検診受診者名簿（81～100）'!AK18)","v":""},null,{"$f":"IF(ISBLANK('胃がん検診受診者名簿（81～100）'!AM18),\"\",'胃がん検診受診者名簿（81～100）'!AM18)","v":""},null,null,89,{"$f":"IF(ISBLANK('胃がん検診受診者名簿（81～100）'!AQ18),\"\",'胃がん検診受診者名簿（81～100）'!AQ18)","v":""},{"$f":"IF(ISBLANK('胃がん検診受診者名簿（81～100）'!AR18),\"\",'胃がん検診受診者名簿（81～100）'!AR18)","v":""},null,{"$f":"IF(ISBLANK('胃がん検診受診者名簿（81～100）'!AT18),\"\",'胃がん検診受診者名簿（81～100）'!AT18)","v":""},{"$f":"IF(ISBLANK('胃がん検診受診者名簿（81～100）'!AU18),\"\",'胃がん検診受診者名簿（81～100）'!AU18)","v":""},null,null,null,null,null,null,{"$f":"IF(ISBLANK('胃がん検診受診者名簿（81～100）'!BB18),\"\",'胃がん検診受診者名簿（81～100）'!BB18)","v":""},null,null,{"$f":"IF(ISBLANK('胃がん検診受診者名簿（81～100）'!BE18),\"\",'胃がん検診受診者名簿（81～100）'!BE18)","v":""},null,{"$f":"IF(ISBLANK('胃がん検診受診者名簿（81～100）'!BG18),\"\",'胃がん検診受診者名簿（81～100）'!BG18)","v":""}]
[90,null,null,null,null,null,null,false,false,false,null,null,"",null,null,"",null,null,null,null,null,90,{"$f":"IF(ISBLANK('胃がん検診受診者名簿（81～100）'!B19),\"\",'胃がん検診受診者名簿（81～100）'!B19)","v":""},{"$f":"IF(ISBLANK('胃がん検診受診者名簿（81～100）'!C19),\"\",'胃がん検診受診者名簿（81～100）'!C19)","v":""},null,{"$f":"IF(ISBLANK('胃がん検診受診者名簿（81～100）'!E19),\"\",'胃がん検診受診者名簿（81～100）'!E19)","v":""},{"$f":"IF(ISBLANK('胃がん検診受診者名簿（81～100）'!F19),\"\",'胃がん検診受診者名簿（81～100）'!F19)","v":""},null,null,null,null,null,null,{"$f":"IF(ISBLANK('胃がん検診受診者名簿（81～100）'!M19),\"\",'胃がん検診受診者名簿（81～100）'!M19)","v":""},null,null,{"$f":"IF(ISBLANK('胃がん検診受診者名簿（81～100）'!P19),\"\",'胃がん検診受診者名簿（81～100）'!P19)","v":""},null,{"$f":"IF(ISBLANK('胃がん検診受診者名簿（81～100）'!R19),\"\",'胃がん検診受診者名簿（81～100）'!R19)","v":""},null,null,90,{"$f":"IF(ISBLANK('胃がん検診受診者名簿（81～100）'!W19),\"\",'胃がん検診受診者名簿（81～100）'!W19)","v":""},{"$f":"IF(ISBLANK('胃がん検診受診者名簿（81～100）'!X19),\"\",'胃がん検診受診者名簿（81～100）'!X19)","v":""},null,{"$f":"IF(ISBLANK('胃がん検診受診者名簿（81～100）'!Z19),\"\",'胃がん検診受診者名簿（81～100）'!Z19)","v":""},{"$f":"IF(ISBLANK('胃がん検診受診者名簿（81～100）'!AA19),\"\",'胃がん検診受診者名簿（81～100）'!AA19)","v":""},null,null,null,null,null,null,{"$f":"IF(ISBLANK('胃がん検診受診者名簿（81～100）'!AH19),\"\",'胃がん検診受診者名簿（81～100）'!AH19)","v":""},null,null,{"$f":"IF(ISBLANK('胃がん検診受診者名簿（81～100）'!AK19),\"\",'胃がん検診受診者名簿（81～100）'!AK19)","v":""},null,{"$f":"IF(ISBLANK('胃がん検診受診者名簿（81～100）'!AM19),\"\",'胃がん検診受診者名簿（81～100）'!AM19)","v":""},null,null,90,{"$f":"IF(ISBLANK('胃がん検診受診者名簿（81～100）'!AQ19),\"\",'胃がん検診受診者名簿（81～100）'!AQ19)","v":""},{"$f":"IF(ISBLANK('胃がん検診受診者名簿（81～100）'!AR19),\"\",'胃がん検診受診者名簿（81～100）'!AR19)","v":""},null,{"$f":"IF(ISBLANK('胃がん検診受診者名簿（81～100）'!AT19),\"\",'胃がん検診受診者名簿（81～100）'!AT19)","v":""},{"$f":"IF(ISBLANK('胃がん検診受診者名簿（81～100）'!AU19),\"\",'胃がん検診受診者名簿（81～100）'!AU19)","v":""},null,null,null,null,null,null,{"$f":"IF(ISBLANK('胃がん検診受診者名簿（81～100）'!BB19),\"\",'胃がん検診受診者名簿（81～100）'!BB19)","v":""},null,null,{"$f":"IF(ISBLANK('胃がん検診受診者名簿（81～100）'!BE19),\"\",'胃がん検診受診者名簿（81～100）'!BE19)","v":""},null,{"$f":"IF(ISBLANK('胃がん検診受診者名簿（81～100）'!BG19),\"\",'胃がん検診受診者名簿（81～100）'!BG19)","v":""}]
[91,null,null,null,null,null,null,false,false,false,null,null,"",null,null,"",null,null,null,null,null,91,{"$f":"IF(ISBLANK('胃がん検診受診者名簿（81～100）'!B20),\"\",'胃がん検診受診者名簿（81～100）'!B20)","v":""},{"$f":"IF(ISBLANK('胃がん検診受診者名簿（81～100）'!C20),\"\",'胃がん検診受診者名簿（81～100）'!C20)","v":""},null,{"$f":"IF(ISBLANK('胃がん検診受診者名簿（81～100）'!E20),\"\",'胃がん検診受診者名簿（81～100）'!E20)","v":""},{"$f":"IF(ISBLANK('胃がん検診受診者名簿（81～100）'!F20),\"\",'胃がん検診受診者名簿（81～100）'!F20)","v":""},null,null,null,null,null,null,{"$f":"IF(ISBLANK('胃がん検診受診者名簿（81～100）'!M20),\"\",'胃がん検診受診者名簿（81～100）'!M20)","v":""},null,null,{"$f":"IF(ISBLANK('胃がん検診受診者名簿（81～100）'!P20),\"\",'胃がん検診受診者名簿（81～100）'!P20)","v":""},null,{"$f":"IF(ISBLANK('胃がん検診受診者名簿（81～100）'!R20),\"\",'胃がん検診受診者名簿（81～100）'!R20)","v":""},null,null,91,{"$f":"IF(ISBLANK('胃がん検診受診者名簿（81～100）'!W20),\"\",'胃がん検診受診者名簿（81～100）'!W20)","v":""},{"$f":"IF(ISBLANK('胃がん検診受診者名簿（81～100）'!X20),\"\",'胃がん検診受診者名簿（81～100）'!X20)","v":""},null,{"$f":"IF(ISBLANK('胃がん検診受診者名簿（81～100）'!Z20),\"\",'胃がん検診受診者名簿（81～100）'!Z20)","v":""},{"$f":"IF(ISBLANK('胃がん検診受診者名簿（81～100）'!AA20),\"\",'胃がん検診受診者名簿（81～100）'!AA20)","v":""},null,null,null,null,null,null,{"$f":"IF(ISBLANK('胃がん検診受診者名簿（81～100）'!AH20),\"\",'胃がん検診受診者名簿（81～100）'!AH20)","v":""},null,null,{"$f":"IF(ISBLANK('胃がん検診受診者名簿（81～100）'!AK20),\"\",'胃がん検診受診者名簿（81～100）'!AK20)","v":""},null,{"$f":"IF(ISBLANK('胃がん検診受診者名簿（81～100）'!AM20),\"\",'胃がん検診受診者名簿（81～100）'!AM20)","v":""},null,null,91,{"$f":"IF(ISBLANK('胃がん検診受診者名簿（81～100）'!AQ20),\"\",'胃がん検診受診者名簿（81～100）'!AQ20)","v":""},{"$f":"IF(ISBLANK('胃がん検診受診者名簿（81～100）'!AR20),\"\",'胃がん検診受診者名簿（81～100）'!AR20)","v":""},null,{"$f":"IF(ISBLANK('胃がん検診受診者名簿（81～100）'!AT20),\"\",'胃がん検診受診者名簿（81～100）'!AT20)","v":""},{"$f":"IF(ISBLANK('胃がん検診受診者名簿（81～100）'!AU20),\"\",'胃がん検診受診者名簿（81～100）'!AU20)","v":""},null,null,null,null,null,null,{"$f":"IF(ISBLANK('胃がん検診受診者名簿（81～100）'!BB20),\"\",'胃がん検診受診者名簿（81～100）'!BB20)","v":""},null,null,{"$f":"IF(ISBLANK('胃がん検診受診者名簿（81～100）'!BE20),\"\",'胃がん検診受診者名簿（81～100）'!BE20)","v":""},null,{"$f":"IF(ISBLANK('胃がん検診受診者名簿（81～100）'!BG20),\"\",'胃がん検診受診者名簿（81～100）'!BG20)","v":""}]
[92,null,null,null,null,null,null,false,false,false,null,null,"",null,null,"",null,null,null,null,null,92,{"$f":"IF(ISBLANK('胃がん検診受診者名簿（81～100）'!B21),\"\",'胃がん検診受診者名簿（81～100）'!B21)","v":""},{"$f":"IF(ISBLANK('胃がん検診受診者名簿（81～100）'!C21),\"\",'胃がん検診受診者名簿（81～100）'!C21)","v":""},null,{"$f":"IF(ISBLANK('胃がん検診受診者名簿（81～100）'!E21),\"\",'胃がん検診受診者名簿（81～100）'!E21)","v":""},{"$f":"IF(ISBLANK('胃がん検診受診者名簿（81～100）'!F21),\"\",'胃がん検診受診者名簿（81～100）'!F21)","v":""},null,null,null,null,null,null,{"$f":"IF(ISBLANK('胃がん検診受診者名簿（81～100）'!M21),\"\",'胃がん検診受診者名簿（81～100）'!M21)","v":""},null,null,{"$f":"IF(ISBLANK('胃がん検診受診者名簿（81～100）'!P21),\"\",'胃がん検診受診者名簿（81～100）'!P21)","v":""},null,{"$f":"IF(ISBLANK('胃がん検診受診者名簿（81～100）'!R21),\"\",'胃がん検診受診者名簿（81～100）'!R21)","v":""},null,null,92,{"$f":"IF(ISBLANK('胃がん検診受診者名簿（81～100）'!W21),\"\",'胃がん検診受診者名簿（81～100）'!W21)","v":""},{"$f":"IF(ISBLANK('胃がん検診受診者名簿（81～100）'!X21),\"\",'胃がん検診受診者名簿（81～100）'!X21)","v":""},null,{"$f":"IF(ISBLANK('胃がん検診受診者名簿（81～100）'!Z21),\"\",'胃がん検診受診者名簿（81～100）'!Z21)","v":""},{"$f":"IF(ISBLANK('胃がん検診受診者名簿（81～100）'!AA21),\"\",'胃がん検診受診者名簿（81～100）'!AA21)","v":""},null,null,null,null,null,null,{"$f":"IF(ISBLANK('胃がん検診受診者名簿（81～100）'!AH21),\"\",'胃がん検診受診者名簿（81～100）'!AH21)","v":""},null,null,{"$f":"IF(ISBLANK('胃がん検診受診者名簿（81～100）'!AK21),\"\",'胃がん検診受診者名簿（81～100）'!AK21)","v":""},null,{"$f":"IF(ISBLANK('胃がん検診受診者名簿（81～100）'!AM21),\"\",'胃がん検診受診者名簿（81～100）'!AM21)","v":""},null,null,92,{"$f":"IF(ISBLANK('胃がん検診受診者名簿（81～100）'!AQ21),\"\",'胃がん検診受診者名簿（81～100）'!AQ21)","v":""},{"$f":"IF(ISBLANK('胃がん検診受診者名簿（81～100）'!AR21),\"\",'胃がん検診受診者名簿（81～100）'!AR21)","v":""},null,{"$f":"IF(ISBLANK('胃がん検診受診者名簿（81～100）'!AT21),\"\",'胃がん検診受診者名簿（81～100）'!AT21)","v":""},{"$f":"IF(ISBLANK('胃がん検診受診者名簿（81～100）'!AU21),\"\",'胃がん検診受診者名簿（81～100）'!AU21)","v":""},null,null,null,null,null,null,{"$f":"IF(ISBLANK('胃がん検診受診者名簿（81～100）'!BB21),\"\",'胃がん検診受診者名簿（81～100）'!BB21)","v":""},null,null,{"$f":"IF(ISBLANK('胃がん検診受診者名簿（81～100）'!BE21),\"\",'胃がん検診受診者名簿（81～100）'!BE21)","v":""},null,{"$f":"IF(ISBLANK('胃がん検診受診者名簿（81～100）'!BG21),\"\",'胃がん検診受診者名簿（81～100）'!BG21)","v":""}]
[93,null,null,null,null,null,null,false,false,false,null,null,"",null,null,"",null,null,null,null,null,93,{"$f":"IF(ISBLANK('胃がん検診受診者名簿（81～100）'!B22),\"\",'胃がん検診受診者名簿（81～100）'!B22)","v":""},{"$f":"IF(ISBLANK('胃がん検診受診者名簿（81～100）'!C22),\"\",'胃がん検診受診者名簿（81～100）'!C22)","v":""},null,{"$f":"IF(ISBLANK('胃がん検診受診者名簿（81～100）'!E22),\"\",'胃がん検診受診者名簿（81～100）'!E22)","v":""},{"$f":"IF(ISBLANK('胃がん検診受診者名簿（81～100）'!F22),\"\",'胃がん検診受診者名簿（81～100）'!F22)","v":""},null,null,null,null,null,null,{"$f":"IF(ISBLANK('胃がん検診受診者名簿（81～100）'!M22),\"\",'胃がん検診受診者名簿（81～100）'!M22)","v":""},null,null,{"$f":"IF(ISBLANK('胃がん検診受診者名簿（81～100）'!P22),\"\",'胃がん検診受診者名簿（81～100）'!P22)","v":""},null,{"$f":"IF(ISBLANK('胃がん検診受診者名簿（81～100）'!R22),\"\",'胃がん検診受診者名簿（81～100）'!R22)","v":""},null,null,93,{"$f":"IF(ISBLANK('胃がん検診受診者名簿（81～100）'!W22),\"\",'胃がん検診受診者名簿（81～100）'!W22)","v":""},{"$f":"IF(ISBLANK('胃がん検診受診者名簿（81～100）'!X22),\"\",'胃がん検診受診者名簿（81～100）'!X22)","v":""},null,{"$f":"IF(ISBLANK('胃がん検診受診者名簿（81～100）'!Z22),\"\",'胃がん検診受診者名簿（81～100）'!Z22)","v":""},{"$f":"IF(ISBLANK('胃がん検診受診者名簿（81～100）'!AA22),\"\",'胃がん検診受診者名簿（81～100）'!AA22)","v":""},null,null,null,null,null,null,{"$f":"IF(ISBLANK('胃がん検診受診者名簿（81～100）'!AH22),\"\",'胃がん検診受診者名簿（81～100）'!AH22)","v":""},null,null,{"$f":"IF(ISBLANK('胃がん検診受診者名簿（81～100）'!AK22),\"\",'胃がん検診受診者名簿（81～100）'!AK22)","v":""},null,{"$f":"IF(ISBLANK('胃がん検診受診者名簿（81～100）'!AM22),\"\",'胃がん検診受診者名簿（81～100）'!AM22)","v":""},null,null,93,{"$f":"IF(ISBLANK('胃がん検診受診者名簿（81～100）'!AQ22),\"\",'胃がん検診受診者名簿（81～100）'!AQ22)","v":""},{"$f":"IF(ISBLANK('胃がん検診受診者名簿（81～100）'!AR22),\"\",'胃がん検診受診者名簿（81～100）'!AR22)","v":""},null,{"$f":"IF(ISBLANK('胃がん検診受診者名簿（81～100）'!AT22),\"\",'胃がん検診受診者名簿（81～100）'!AT22)","v":""},{"$f":"IF(ISBLANK('胃がん検診受診者名簿（81～100）'!AU22),\"\",'胃がん検診受診者名簿（81～100）'!AU22)","v":""},null,null,null,null,null,null,{"$f":"IF(ISBLANK('胃がん検診受診者名簿（81～100）'!BB22),\"\",'胃がん検診受診者名簿（81～100）'!BB22)","v":""},null,null,{"$f":"IF(ISBLANK('胃がん検診受診者名簿（81～100）'!BE22),\"\",'胃がん検診受診者名簿（81～100）'!BE22)","v":""},null,{"$f":"IF(ISBLANK('胃がん検診受診者名簿（81～100）'!BG22),\"\",'胃がん検診受診者名簿（81～100）'!BG22)","v":""}]
[94,null,null,null,null,null,null,false,false,false,null,null,"",null,null,"",null,null,null,null,null,94,{"$f":"IF(ISBLANK('胃がん検診受診者名簿（81～100）'!B23),\"\",'胃がん検診受診者名簿（81～100）'!B23)","v":""},{"$f":"IF(ISBLANK('胃がん検診受診者名簿（81～100）'!C23),\"\",'胃がん検診受診者名簿（81～100）'!C23)","v":""},null,{"$f":"IF(ISBLANK('胃がん検診受診者名簿（81～100）'!E23),\"\",'胃がん検診受診者名簿（81～100）'!E23)","v":""},{"$f":"IF(ISBLANK('胃がん検診受診者名簿（81～100）'!F23),\"\",'胃がん検診受診者名簿（81～100）'!F23)","v":""},null,null,null,null,null,null,{"$f":"IF(ISBLANK('胃がん検診受診者名簿（81～100）'!M23),\"\",'胃がん検診受診者名簿（81～100）'!M23)","v":""},null,null,{"$f":"IF(ISBLANK('胃がん検診受診者名簿（81～100）'!P23),\"\",'胃がん検診受診者名簿（81～100）'!P23)","v":""},null,{"$f":"IF(ISBLANK('胃がん検診受診者名簿（81～100）'!R23),\"\",'胃がん検診受診者名簿（81～100）'!R23)","v":""},null,null,94,{"$f":"IF(ISBLANK('胃がん検診受診者名簿（81～100）'!W23),\"\",'胃がん検診受診者名簿（81～100）'!W23)","v":""},{"$f":"IF(ISBLANK('胃がん検診受診者名簿（81～100）'!X23),\"\",'胃がん検診受診者名簿（81～100）'!X23)","v":""},null,{"$f":"IF(ISBLANK('胃がん検診受診者名簿（81～100）'!Z23),\"\",'胃がん検診受診者名簿（81～100）'!Z23)","v":""},{"$f":"IF(ISBLANK('胃がん検診受診者名簿（81～100）'!AA23),\"\",'胃がん検診受診者名簿（81～100）'!AA23)","v":""},null,null,null,null,null,null,{"$f":"IF(ISBLANK('胃がん検診受診者名簿（81～100）'!AH23),\"\",'胃がん検診受診者名簿（81～100）'!AH23)","v":""},null,null,{"$f":"IF(ISBLANK('胃がん検診受診者名簿（81～100）'!AK23),\"\",'胃がん検診受診者名簿（81～100）'!AK23)","v":""},null,{"$f":"IF(ISBLANK('胃がん検診受診者名簿（81～100）'!AM23),\"\",'胃がん検診受診者名簿（81～100）'!AM23)","v":""},null,null,94,{"$f":"IF(ISBLANK('胃がん検診受診者名簿（81～100）'!AQ23),\"\",'胃がん検診受診者名簿（81～100）'!AQ23)","v":""},{"$f":"IF(ISBLANK('胃がん検診受診者名簿（81～100）'!AR23),\"\",'胃がん検診受診者名簿（81～100）'!AR23)","v":""},null,{"$f":"IF(ISBLANK('胃がん検診受診者名簿（81～100）'!AT23),\"\",'胃がん検診受診者名簿（81～100）'!AT23)","v":""},{"$f":"IF(ISBLANK('胃がん検診受診者名簿（81～100）'!AU23),\"\",'胃がん検診受診者名簿（81～100）'!AU23)","v":""},null,null,null,null,null,null,{"$f":"IF(ISBLANK('胃がん検診受診者名簿（81～100）'!BB23),\"\",'胃がん検診受診者名簿（81～100）'!BB23)","v":""},null,null,{"$f":"IF(ISBLANK('胃がん検診受診者名簿（81～100）'!BE23),\"\",'胃がん検診受診者名簿（81～100）'!BE23)","v":""},null,{"$f":"IF(ISBLANK('胃がん検診受診者名簿（81～100）'!BG23),\"\",'胃がん検診受診者名簿（81～100）'!BG23)","v":""}]
[95,null,null,null,null,null,null,false,false,false,null,null,"",null,null,"",null,null,null,null,null,95,{"$f":"IF(ISBLANK('胃がん検診受診者名簿（81～100）'!B24),\"\",'胃がん検診受診者名簿（81～100）'!B24)","v":""},{"$f":"IF(ISBLANK('胃がん検診受診者名簿（81～100）'!C24),\"\",'胃がん検診受診者名簿（81～100）'!C24)","v":""},null,{"$f":"IF(ISBLANK('胃がん検診受診者名簿（81～100）'!E24),\"\",'胃がん検診受診者名簿（81～100）'!E24)","v":""},{"$f":"IF(ISBLANK('胃がん検診受診者名簿（81～100）'!F24),\"\",'胃がん検診受診者名簿（81～100）'!F24)","v":""},null,null,null,null,null,null,{"$f":"IF(ISBLANK('胃がん検診受診者名簿（81～100）'!M24),\"\",'胃がん検診受診者名簿（81～100）'!M24)","v":""},null,null,{"$f":"IF(ISBLANK('胃がん検診受診者名簿（81～100）'!P24),\"\",'胃がん検診受診者名簿（81～100）'!P24)","v":""},null,{"$f":"IF(ISBLANK('胃がん検診受診者名簿（81～100）'!R24),\"\",'胃がん検診受診者名簿（81～100）'!R24)","v":""},null,null,95,{"$f":"IF(ISBLANK('胃がん検診受診者名簿（81～100）'!W24),\"\",'胃がん検診受診者名簿（81～100）'!W24)","v":""},{"$f":"IF(ISBLANK('胃がん検診受診者名簿（81～100）'!X24),\"\",'胃がん検診受診者名簿（81～100）'!X24)","v":""},null,{"$f":"IF(ISBLANK('胃がん検診受診者名簿（81～100）'!Z24),\"\",'胃がん検診受診者名簿（81～100）'!Z24)","v":""},{"$f":"IF(ISBLANK('胃がん検診受診者名簿（81～100）'!AA24),\"\",'胃がん検診受診者名簿（81～100）'!AA24)","v":""},null,null,null,null,null,null,{"$f":"IF(ISBLANK('胃がん検診受診者名簿（81～100）'!AH24),\"\",'胃がん検診受診者名簿（81～100）'!AH24)","v":""},null,null,{"$f":"IF(ISBLANK('胃がん検診受診者名簿（81～100）'!AK24),\"\",'胃がん検診受診者名簿（81～100）'!AK24)","v":""},null,{"$f":"IF(ISBLANK('胃がん検診受診者名簿（81～100）'!AM24),\"\",'胃がん検診受診者名簿（81～100）'!AM24)","v":""},null,null,95,{"$f":"IF(ISBLANK('胃がん検診受診者名簿（81～100）'!AQ24),\"\",'胃がん検診受診者名簿（81～100）'!AQ24)","v":""},{"$f":"IF(ISBLANK('胃がん検診受診者名簿（81～100）'!AR24),\"\",'胃がん検診受診者名簿（81～100）'!AR24)","v":""},null,{"$f":"IF(ISBLANK('胃がん検診受診者名簿（81～100）'!AT24),\"\",'胃がん検診受診者名簿（81～100）'!AT24)","v":""},{"$f":"IF(ISBLANK('胃がん検診受診者名簿（81～100）'!AU24),\"\",'胃がん検診受診者名簿（81～100）'!AU24)","v":""},null,null,null,null,null,null,{"$f":"IF(ISBLANK('胃がん検診受診者名簿（81～100）'!BB24),\"\",'胃がん検診受診者名簿（81～100）'!BB24)","v":""},null,null,{"$f":"IF(ISBLANK('胃がん検診受診者名簿（81～100）'!BE24),\"\",'胃がん検診受診者名簿（81～100）'!BE24)","v":""},null,{"$f":"IF(ISBLANK('胃がん検診受診者名簿（81～100）'!BG24),\"\",'胃がん検診受診者名簿（81～100）'!BG24)","v":""}]
[96,null,null,null,null,null,null,false,false,false,null,null,"",null,null,"",null,null,null,null,null,96,{"$f":"IF(ISBLANK('胃がん検診受診者名簿（81～100）'!B25),\"\",'胃がん検診受診者名簿（81～100）'!B25)","v":""},{"$f":"IF(ISBLANK('胃がん検診受診者名簿（81～100）'!C25),\"\",'胃がん検診受診者名簿（81～100）'!C25)","v":""},null,{"$f":"IF(ISBLANK('胃がん検診受診者名簿（81～100）'!E25),\"\",'胃がん検診受診者名簿（81～100）'!E25)","v":""},{"$f":"IF(ISBLANK('胃がん検診受診者名簿（81～100）'!F25),\"\",'胃がん検診受診者名簿（81～100）'!F25)","v":""},null,null,null,null,null,null,{"$f":"IF(ISBLANK('胃がん検診受診者名簿（81～100）'!M25),\"\",'胃がん検診受診者名簿（81～100）'!M25)","v":""},null,null,{"$f":"IF(ISBLANK('胃がん検診受診者名簿（81～100）'!P25),\"\",'胃がん検診受診者名簿（81～100）'!P25)","v":""},null,{"$f":"IF(ISBLANK('胃がん検診受診者名簿（81～100）'!R25),\"\",'胃がん検診受診者名簿（81～100）'!R25)","v":""},null,null,96,{"$f":"IF(ISBLANK('胃がん検診受診者名簿（81～100）'!W25),\"\",'胃がん検診受診者名簿（81～100）'!W25)","v":""},{"$f":"IF(ISBLANK('胃がん検診受診者名簿（81～100）'!X25),\"\",'胃がん検診受診者名簿（81～100）'!X25)","v":""},null,{"$f":"IF(ISBLANK('胃がん検診受診者名簿（81～100）'!Z25),\"\",'胃がん検診受診者名簿（81～100）'!Z25)","v":""},{"$f":"IF(ISBLANK('胃がん検診受診者名簿（81～100）'!AA25),\"\",'胃がん検診受診者名簿（81～100）'!AA25)","v":""},null,null,null,null,null,null,{"$f":"IF(ISBLANK('胃がん検診受診者名簿（81～100）'!AH25),\"\",'胃がん検診受診者名簿（81～100）'!AH25)","v":""},null,null,{"$f":"IF(ISBLANK('胃がん検診受診者名簿（81～100）'!AK25),\"\",'胃がん検診受診者名簿（81～100）'!AK25)","v":""},null,{"$f":"IF(ISBLANK('胃がん検診受診者名簿（81～100）'!AM25),\"\",'胃がん検診受診者名簿（81～100）'!AM25)","v":""},null,null,96,{"$f":"IF(ISBLANK('胃がん検診受診者名簿（81～100）'!AQ25),\"\",'胃がん検診受診者名簿（81～100）'!AQ25)","v":""},{"$f":"IF(ISBLANK('胃がん検診受診者名簿（81～100）'!AR25),\"\",'胃がん検診受診者名簿（81～100）'!AR25)","v":""},null,{"$f":"IF(ISBLANK('胃がん検診受診者名簿（81～100）'!AT25),\"\",'胃がん検診受診者名簿（81～100）'!AT25)","v":""},{"$f":"IF(ISBLANK('胃がん検診受診者名簿（81～100）'!AU25),\"\",'胃がん検診受診者名簿（81～100）'!AU25)","v":""},null,null,null,null,null,null,{"$f":"IF(ISBLANK('胃がん検診受診者名簿（81～100）'!BB25),\"\",'胃がん検診受診者名簿（81～100）'!BB25)","v":""},null,null,{"$f":"IF(ISBLANK('胃がん検診受診者名簿（81～100）'!BE25),\"\",'胃がん検診受診者名簿（81～100）'!BE25)","v":""},null,{"$f":"IF(ISBLANK('胃がん検診受診者名簿（81～100）'!BG25),\"\",'胃がん検診受診者名簿（81～100）'!BG25)","v":""}]
[97,null,null,null,null,null,null,false,false,false,null,null,"",null,null,"",null,null,null,null,null,97,{"$f":"IF(ISBLANK('胃がん検診受診者名簿（81～100）'!B26),\"\",'胃がん検診受診者名簿（81～100）'!B26)","v":""},{"$f":"IF(ISBLANK('胃がん検診受診者名簿（81～100）'!C26),\"\",'胃がん検診受診者名簿（81～100）'!C26)","v":""},null,{"$f":"IF(ISBLANK('胃がん検診受診者名簿（81～100）'!E26),\"\",'胃がん検診受診者名簿（81～100）'!E26)","v":""},{"$f":"IF(ISBLANK('胃がん検診受診者名簿（81～100）'!F26),\"\",'胃がん検診受診者名簿（81～100）'!F26)","v":""},null,null,null,null,null,null,{"$f":"IF(ISBLANK('胃がん検診受診者名簿（81～100）'!M26),\"\",'胃がん検診受診者名簿（81～100）'!M26)","v":""},null,null,{"$f":"IF(ISBLANK('胃がん検診受診者名簿（81～100）'!P26),\"\",'胃がん検診受診者名簿（81～100）'!P26)","v":""},null,{"$f":"IF(ISBLANK('胃がん検診受診者名簿（81～100）'!R26),\"\",'胃がん検診受診者名簿（81～100）'!R26)","v":""},null,null,97,{"$f":"IF(ISBLANK('胃がん検診受診者名簿（81～100）'!W26),\"\",'胃がん検診受診者名簿（81～100）'!W26)","v":""},{"$f":"IF(ISBLANK('胃がん検診受診者名簿（81～100）'!X26),\"\",'胃がん検診受診者名簿（81～100）'!X26)","v":""},null,{"$f":"IF(ISBLANK('胃がん検診受診者名簿（81～100）'!Z26),\"\",'胃がん検診受診者名簿（81～100）'!Z26)","v":""},{"$f":"IF(ISBLANK('胃がん検診受診者名簿（81～100）'!AA26),\"\",'胃がん検診受診者名簿（81～100）'!AA26)","v":""},null,null,null,null,null,null,{"$f":"IF(ISBLANK('胃がん検診受診者名簿（81～100）'!AH26),\"\",'胃がん検診受診者名簿（81～100）'!AH26)","v":""},null,null,{"$f":"IF(ISBLANK('胃がん検診受診者名簿（81～100）'!AK26),\"\",'胃がん検診受診者名簿（81～100）'!AK26)","v":""},null,{"$f":"IF(ISBLANK('胃がん検診受診者名簿（81～100）'!AM26),\"\",'胃がん検診受診者名簿（81～100）'!AM26)","v":""},null,null,97,{"$f":"IF(ISBLANK('胃がん検診受診者名簿（81～100）'!AQ26),\"\",'胃がん検診受診者名簿（81～100）'!AQ26)","v":""},{"$f":"IF(ISBLANK('胃がん検診受診者名簿（81～100）'!AR26),\"\",'胃がん検診受診者名簿（81～100）'!AR26)","v":""},null,{"$f":"IF(ISBLANK('胃がん検診受診者名簿（81～100）'!AT26),\"\",'胃がん検診受診者名簿（81～100）'!AT26)","v":""},{"$f":"IF(ISBLANK('胃がん検診受診者名簿（81～100）'!AU26),\"\",'胃がん検診受診者名簿（81～100）'!AU26)","v":""},null,null,null,null,null,null,{"$f":"IF(ISBLANK('胃がん検診受診者名簿（81～100）'!BB26),\"\",'胃がん検診受診者名簿（81～100）'!BB26)","v":""},null,null,{"$f":"IF(ISBLANK('胃がん検診受診者名簿（81～100）'!BE26),\"\",'胃がん検診受診者名簿（81～100）'!BE26)","v":""},null,{"$f":"IF(ISBLANK('胃がん検診受診者名簿（81～100）'!BG26),\"\",'胃がん検診受診者名簿（81～100）'!BG26)","v":""}]
[98,null,null,null,null,null,null,false,false,false,null,null,"",null,null,"",null,null,null,null,null,98,{"$f":"IF(ISBLANK('胃がん検診受診者名簿（81～100）'!B27),\"\",'胃がん検診受診者名簿（81～100）'!B27)","v":""},{"$f":"IF(ISBLANK('胃がん検診受診者名簿（81～100）'!C27),\"\",'胃がん検診受診者名簿（81～100）'!C27)","v":""},null,{"$f":"IF(ISBLANK('胃がん検診受診者名簿（81～100）'!E27),\"\",'胃がん検診受診者名簿（81～100）'!E27)","v":""},{"$f":"IF(ISBLANK('胃がん検診受診者名簿（81～100）'!F27),\"\",'胃がん検診受診者名簿（81～100）'!F27)","v":""},null,null,null,null,null,null,{"$f":"IF(ISBLANK('胃がん検診受診者名簿（81～100）'!M27),\"\",'胃がん検診受診者名簿（81～100）'!M27)","v":""},null,null,{"$f":"IF(ISBLANK('胃がん検診受診者名簿（81～100）'!P27),\"\",'胃がん検診受診者名簿（81～100）'!P27)","v":""},null,{"$f":"IF(ISBLANK('胃がん検診受診者名簿（81～100）'!R27),\"\",'胃がん検診受診者名簿（81～100）'!R27)","v":""},null,null,98,{"$f":"IF(ISBLANK('胃がん検診受診者名簿（81～100）'!W27),\"\",'胃がん検診受診者名簿（81～100）'!W27)","v":""},{"$f":"IF(ISBLANK('胃がん検診受診者名簿（81～100）'!X27),\"\",'胃がん検診受診者名簿（81～100）'!X27)","v":""},null,{"$f":"IF(ISBLANK('胃がん検診受診者名簿（81～100）'!Z27),\"\",'胃がん検診受診者名簿（81～100）'!Z27)","v":""},{"$f":"IF(ISBLANK('胃がん検診受診者名簿（81～100）'!AA27),\"\",'胃がん検診受診者名簿（81～100）'!AA27)","v":""},null,null,null,null,null,null,{"$f":"IF(ISBLANK('胃がん検診受診者名簿（81～100）'!AH27),\"\",'胃がん検診受診者名簿（81～100）'!AH27)","v":""},null,null,{"$f":"IF(ISBLANK('胃がん検診受診者名簿（81～100）'!AK27),\"\",'胃がん検診受診者名簿（81～100）'!AK27)","v":""},null,{"$f":"IF(ISBLANK('胃がん検診受診者名簿（81～100）'!AM27),\"\",'胃がん検診受診者名簿（81～100）'!AM27)","v":""},null,null,98,{"$f":"IF(ISBLANK('胃がん検診受診者名簿（81～100）'!AQ27),\"\",'胃がん検診受診者名簿（81～100）'!AQ27)","v":""},{"$f":"IF(ISBLANK('胃がん検診受診者名簿（81～100）'!AR27),\"\",'胃がん検診受診者名簿（81～100）'!AR27)","v":""},null,{"$f":"IF(ISBLANK('胃がん検診受診者名簿（81～100）'!AT27),\"\",'胃がん検診受診者名簿（81～100）'!AT27)","v":""},{"$f":"IF(ISBLANK('胃がん検診受診者名簿（81～100）'!AU27),\"\",'胃がん検診受診者名簿（81～100）'!AU27)","v":""},null,null,null,null,null,null,{"$f":"IF(ISBLANK('胃がん検診受診者名簿（81～100）'!BB27),\"\",'胃がん検診受診者名簿（81～100）'!BB27)","v":""},null,null,{"$f":"IF(ISBLANK('胃がん検診受診者名簿（81～100）'!BE27),\"\",'胃がん検診受診者名簿（81～100）'!BE27)","v":""},null,{"$f":"IF(ISBLANK('胃がん検診受診者名簿（81～100）'!BG27),\"\",'胃がん検診受診者名簿（81～100）'!BG27)","v":""}]
[99,null,null,null,null,null,null,false,false,false,null,null,"",null,null,"",null,null,null,null,null,99,{"$f":"IF(ISBLANK('胃がん検診受診者名簿（81～100）'!B28),\"\",'胃がん検診受診者名簿（81～100）'!B28)","v":""},{"$f":"IF(ISBLANK('胃がん検診受診者名簿（81～100）'!C28),\"\",'胃がん検診受診者名簿（81～100）'!C28)","v":""},null,{"$f":"IF(ISBLANK('胃がん検診受診者名簿（81～100）'!E28),\"\",'胃がん検診受診者名簿（81～100）'!E28)","v":""},{"$f":"IF(ISBLANK('胃がん検診受診者名簿（81～100）'!F28),\"\",'胃がん検診受診者名簿（81～100）'!F28)","v":""},null,null,null,null,null,null,{"$f":"IF(ISBLANK('胃がん検診受診者名簿（81～100）'!M28),\"\",'胃がん検診受診者名簿（81～100）'!M28)","v":""},null,null,{"$f":"IF(ISBLANK('胃がん検診受診者名簿（81～100）'!P28),\"\",'胃がん検診受診者名簿（81～100）'!P28)","v":""},null,{"$f":"IF(ISBLANK('胃がん検診受診者名簿（81～100）'!R28),\"\",'胃がん検診受診者名簿（81～100）'!R28)","v":""},null,null,99,{"$f":"IF(ISBLANK('胃がん検診受診者名簿（81～100）'!W28),\"\",'胃がん検診受診者名簿（81～100）'!W28)","v":""},{"$f":"IF(ISBLANK('胃がん検診受診者名簿（81～100）'!X28),\"\",'胃がん検診受診者名簿（81～100）'!X28)","v":""},null,{"$f":"IF(ISBLANK('胃がん検診受診者名簿（81～100）'!Z28),\"\",'胃がん検診受診者名簿（81～100）'!Z28)","v":""},{"$f":"IF(ISBLANK('胃がん検診受診者名簿（81～100）'!AA28),\"\",'胃がん検診受診者名簿（81～100）'!AA28)","v":""},null,null,null,null,null,null,{"$f":"IF(ISBLANK('胃がん検診受診者名簿（81～100）'!AH28),\"\",'胃がん検診受診者名簿（81～100）'!AH28)","v":""},null,null,{"$f":"IF(ISBLANK('胃がん検診受診者名簿（81～100）'!AK28),\"\",'胃がん検診受診者名簿（81～100）'!AK28)","v":""},null,{"$f":"IF(ISBLANK('胃がん検診受診者名簿（81～100）'!AM28),\"\",'胃がん検診受診者名簿（81～100）'!AM28)","v":""},null,null,99,{"$f":"IF(ISBLANK('胃がん検診受診者名簿（81～100）'!AQ28),\"\",'胃がん検診受診者名簿（81～100）'!AQ28)","v":""},{"$f":"IF(ISBLANK('胃がん検診受診者名簿（81～100）'!AR28),\"\",'胃がん検診受診者名簿（81～100）'!AR28)","v":""},null,{"$f":"IF(ISBLANK('胃がん検診受診者名簿（81～100）'!AT28),\"\",'胃がん検診受診者名簿（81～100）'!AT28)","v":""},{"$f":"IF(ISBLANK('胃がん検診受診者名簿（81～100）'!AU28),\"\",'胃がん検診受診者名簿（81～100）'!AU28)","v":""},null,null,null,null,null,null,{"$f":"IF(ISBLANK('胃がん検診受診者名簿（81～100）'!BB28),\"\",'胃がん検診受診者名簿（81～100）'!BB28)","v":""},null,null,{"$f":"IF(ISBLANK('胃がん検診受診者名簿（81～100）'!BE28),\"\",'胃がん検診受診者名簿（81～100）'!BE28)","v":""},null,{"$f":"IF(ISBLANK('胃がん検診受診者名簿（81～100）'!BG28),\"\",'胃がん検診受診者名簿（81～100）'!BG28)","v":""}]
[100,null,null,null,null,null,null,false,false,false,null,null,"",null,null,"",null,null,null,null,null,100,{"$f":"IF(ISBLANK('胃がん検診受診者名簿（81～100）'!B29),\"\",'胃がん検診受診者名簿（81～100）'!B29)","v":""},{"$f":"IF(ISBLANK('胃がん検診受診者名簿（81～100）'!C29),\"\",'胃がん検診受診者名簿（81～100）'!C29)","v":""},null,{"$f":"IF(ISBLANK('胃がん検診受診者名簿（81～100）'!E29),\"\",'胃がん検診受診者名簿（81～100）'!E29)","v":""},{"$f":"IF(ISBLANK('胃がん検診受診者名簿（81～100）'!F29),\"\",'胃がん検診受診者名簿（81～100）'!F29)","v":""},null,null,null,null,null,null,{"$f":"IF(ISBLANK('胃がん検診受診者名簿（81～100）'!M29),\"\",'胃がん検診受診者名簿（81～100）'!M29)","v":""},null,null,{"$f":"IF(ISBLANK('胃がん検診受診者名簿（81～100）'!P29),\"\",'胃がん検診受診者名簿（81～100）'!P29)","v":""},null,{"$f":"IF(ISBLANK('胃がん検診受診者名簿（81～100）'!R29),\"\",'胃がん検診受診者名簿（81～100）'!R29)","v":""},null,null,100,{"$f":"IF(ISBLANK('胃がん検診受診者名簿（81～100）'!W29),\"\",'胃がん検診受診者名簿（81～100）'!W29)","v":""},{"$f":"IF(ISBLANK('胃がん検診受診者名簿（81～100）'!X29),\"\",'胃がん検診受診者名簿（81～100）'!X29)","v":""},null,{"$f":"IF(ISBLANK('胃がん検診受診者名簿（81～100）'!Z29),\"\",'胃がん検診受診者名簿（81～100）'!Z29)","v":""},{"$f":"IF(ISBLANK('胃がん検診受診者名簿（81～100）'!AA29),\"\",'胃がん検診受診者名簿（81～100）'!AA29)","v":""},null,null,null,null,null,null,{"$f":"IF(ISBLANK('胃がん検診受診者名簿（81～100）'!AH29),\"\",'胃がん検診受診者名簿（81～100）'!AH29)","v":""},null,null,{"$f":"IF(ISBLANK('胃がん検診受診者名簿（81～100）'!AK29),\"\",'胃がん検診受診者名簿（81～100）'!AK29)","v":""},null,{"$f":"IF(ISBLANK('胃がん検診受診者名簿（81～100）'!AM29),\"\",'胃がん検診受診者名簿（81～100）'!AM29)","v":""},null,null,100,{"$f":"IF(ISBLANK('胃がん検診受診者名簿（81～100）'!AQ29),\"\",'胃がん検診受診者名簿（81～100）'!AQ29)","v":""},{"$f":"IF(ISBLANK('胃がん検診受診者名簿（81～100）'!AR29),\"\",'胃がん検診受診者名簿（81～100）'!AR29)","v":""},null,{"$f":"IF(ISBLANK('胃がん検診受診者名簿（81～100）'!AT29),\"\",'胃がん検診受診者名簿（81～100）'!AT29)","v":""},{"$f":"IF(ISBLANK('胃がん検診受診者名簿（81～100）'!AU29),\"\",'胃がん検診受診者名簿（81～100）'!AU29)","v":""},null,null,null,null,null,null,{"$f":"IF(ISBLANK('胃がん検診受診者名簿（81～100）'!BB29),\"\",'胃がん検診受診者名簿（81～100）'!BB29)","v":""},null,null,{"$f":"IF(ISBLANK('胃がん検診受診者名簿（81～100）'!BE29),\"\",'胃がん検診受診者名簿（81～100）'!BE29)","v":""},null,{"$f":"IF(ISBLANK('胃がん検診受診者名簿（81～100）'!BG29),\"\",'胃がん検診受診者名簿（81～100）'!BG29)","v":""}]
[]
["区　分",null,"総　計","頁　計",null,null,"区　分",null,"総　計",null,"頁　計",null,null,null,"区　分",null,"総　計",null,"頁　計",null,null,"区　分",null,"総　計","頁　計",null,null,"区　分",null,"総　計",null,"頁　計",null,null,null,"区　分",null,"総　計",null,"頁　計",null,"区　分",null,"総　計","頁　計",null,null,"区　分",null,"総　計",null,"頁　計",null,null,null,"区　分",null,"総　計",null,"頁　計",null,"区　分",null,"総　計","頁　計",null,null,"区　分",null,"総　計",null,"頁　計",null,null,null,"区　分",null,"総　計",null,"頁　計"]
["受診者数",null,null,{"$f":"COUNTIF(L10:L29,1)+COUNTIF(L10:L29,2)+COUNTIF(L10:L29,3)+COUNTIF(L10:L29,4)","v":0},null,null,"生検実施数",null,null,null,{"$f":"COUNTIF(H10:H29,TRUE)","v":0},null,null,null,"胃がんなし",null,null,null,{"$f":"COUNTIF(L10:L29,1)","v":0},null,null,"受診者数",null,null,{"$f":"D32","v":0},null,null,"生検実施数",null,null,null,{"$f":"K32","v":0},null,null,null,"胃がんなし",null,null,null,{"$f":"S32","v":0},null,"受診者数",null,null,{"$f":"Y32","v":0},null,null,"生検実施数",null,null,null,{"$f":"AF32","v":0},null,null,null,"胃がんなし",null,null,null,{"$f":"AN32","v":0},null,"受診者数",null,null,{"$f":"AS32","v":0},null,null,"生検実施数",null,null,null,{"$f":"AZ32","v":0},null,null,null,"胃がんなし",null,null,null,{"$f":"BH32","v":0}]
["自己負担額\n納入者",null,null,{"$f":"D32-D34","v":0},null,null,"偶発症\n発生総数",null,null,null,{"$f":"COUNTIF(I10:K29,TRUE)","v":0},null,null,null,"胃がん疑い",null,null,null,{"$f":"+COUNTIF(L10:L29,2)","v":0},null,null,"自己負担額\n納入者",null,null,{"$f":"D33","v":0},null,null,"偶発症\n発生総数",null,null,null,{"$f":"K33","v":0},null,null,null,"胃がん疑い",null,null,null,{"$f":"S33","v":0},null,"自己負担額\n納入者",null,null,{"$f":"Y33","v":0},null,null,"偶発症\n発生総数",null,null,null,{"$f":"AF33","v":0},null,null,null,"胃がん疑い",null,null,null,{"$f":"AN33","v":0},null,"自己負担額\n納入者",null,null,{"$f":"AS33","v":0},null,null,"偶発症\n発生総数",null,null,null,{"$f":"AZ33","v":0},null,null,null,"胃がん疑い",null,null,null,{"$f":"BH33","v":0}]
["自己負担額\n免除者",null,null,{"$f":"COUNTIF(O10:O29,1)+COUNTIF(O10:O29,2)+COUNTIF(O10:O29,3)+COUNTIF(O10:O29,4)","v":0},null,null,null,null,null,null,null,null,null,null,"胃がんあり",null,null,null,{"$f":"+COUNTIF(L10:L29,3)","v":0},null,null,"自己負担額\n免除者",null,null,0,null,null,null,null,null,null,null,null,null,null,"胃がんあり",null,null,null,0,null,"自己負担額\n免除者",null,null,0,null,null,null,null,null,null,null,null,null,null,"胃がんあり",null,null,null,0,null,"自己負担額\n免除者",null,null,0,null,null,null,null,null,null,null,null,null,null,"胃がんあり",null,null,null,0]
[null,null,null,null,null,null,null,null,null,null,null,null,null,null,"胃がん以外の悪性病変",null,null,null,{"$f":"+COUNTIF(L10:L29,4)","v":0},null,null,null,null,null,null,null,null,null,null,null,null,null,null,null,null,"胃がん以外の悪性病変",null,null,null,0,null,null,null,null,null,null,null,null,null,null,null,null,null,null,null,"胃がん以外の悪性病変",null,null,null,0,null,null,null,null,null,null,null,null,null,null,null,null,null,null,null,"胃がん以外の悪性病変",null,null,null,0]
[null,null,null,null,null,null,null,null,null,null,null,null,null,null,null,null,null,null,null,null,null,null,null,null,null,null,null,null,null,null,null,null,null,null,null,null,null,null,null,0,null,null,null,null,null,null,null,null,null,null,null,null,null,null,null,null,null,null,null,0,null,null,null,null,null,null,null,null,null,null,null,null,null,null,null,null,null,null,null,0]
["【結果判定】　1.胃がんなし　2.胃がん疑い　3.胃がんあり　4.胃がん以外の悪性病変",null,null,null,null,null,null,null,null,null,null,null,null,null,null,null,null,null,null,null,null,"【結果判定】　1.胃がんなし　2.胃がん疑い　3.胃がんあり　4.胃がん以外の悪性病変",null,null,null,null,null,null,null,null,null,null,null,null,null,null,null,null,null,null,null,"【結果判定】　1.胃がんなし　2.胃がん疑い　3.胃がんあり　4.胃がん以外の悪性病変",null,null,null,null,null,null,null,null,null,null,null,null,null,null,null,null,null,null,null,"【結果判定】　1.胃がんなし　2.胃がん疑い　3.胃がんあり　4.胃がん以外の悪性病変"]
["【自己負担免除者区分】　1.70歳以上　2.後期高齢者医療制度　3.生活保護世帯　4.市民税非課税世帯　",null,null,null,null,null,null,null,null,null,null,null,null,null,null,null,null,null,null,"R5.10",null,"【自己負担免除者区分】　1.70歳以上　2.後期高齢者医療制度　3.生活保護世帯　4.市民税非課税世帯　",null,null,null,null,null,null,null,null,null,null,null,null,null,null,null,null,null,null,"R5.10","【自己負担免除者区分】　1.70歳以上　2.後期高齢者医療制度　3.生活保護世帯　4.市民税非課税世帯　",null,null,null,null,null,null,null,null,null,null,null,null,null,null,null,null,null,null,"R5.10","【自己負担免除者区分】　1.70歳以上　2.後期高齢者医療制度　3.生活保護世帯　4.市民税非課税世帯　",null,null,null,null,null,null,null,null,null,null,null,null,null,null,null,null,null,null,"R5.10"]